Workbook

Sheet Project Data
A2: Project Name | B2: WISA Monitoring West and Okanagan-Boundary 2014
A3: Project Agency | B3: Canadian Wildlife Service-Environment Canada
A4: Project Coordinator | B4: Megan Harrison/Andrea Norris
A5: Project Start Date | B5: February 2014
A6: Funding Agency Name(s) | B6: Canadian Wildlife Service-Environment Canada
A7: Funding Agency Project ID(s)
A8: BAPID
A9: MOE Region | B9: Regions 3 and 8
A11: Survey Name | B11: Survey Start Date | C11: Survey Obs - Data Field Group | D11: Survey Intensity | E11: Target Taxa | F11: Surveyors Names | G11: Survey Objectives | H11: Study Area Name | I11: Study Area Description
A12: Williamson's Sapsucker April Road Monitoring | B12: 41729 | D12: Relative Abundance | E12: B-WISA | F12: Les Gyug, Philip Gyug | G12: Long-term Relative Abundance and Trend Monitoring | H12: WISA Area of Occupancy | I12: Public Roads kept open all year by MOTH
A13: Williamson's Sapsucker Patch (not annual) Monitoring | B13: 41735 | D13: Relative Abundance | E13: B-WISA | F13: Les Gyug, Philip Gyug | G13: Long-term Relative Abundance and Trend Monitoring | H13: WISA Area of Occupancy | I13: Spatially balanced stratified random patches (1600 m x 1600 m)

Sheet Report Data
A1: File Name | B1: Report Title | C1: Abstract | D1: Author(s) | E1: Year | F1: Other Publication Information
A2: WISA 2014 Monitoring 2014 05 28.docx (or .pdf) | B2: Williamson's Sapsucker Monitoring 2014: Okanagan-Boundary and West | D2: Les Gyug | E2: 2014 | F2: Report prepared for Canadian Wildlife Service-Environment Canada
C3: Trend monitoring of the Endangered Williamson’s Sapsucker (WISA) began in 2010 and 2011 based on random call-playback (CPB) points stratified by habitat suitability in the Okanagan-Boundary and West Areas of Occupancy (AO). Detectability on these late May and June surveys was on the order of 50%. Detectability was thought to be much higher, making for more efficient sampling, when WISA establish breeding territories in April. However, sampling is difficult in April because many roads are still snowbound. In 2012, CPB points were established at 800-m spacing on all public roads kept open all year. All 213 of these points within 300 m of Low or better suitability habitat were sampled twice each in April in 2012, 2013 and 2014. To determine if these road points were representative of the AOs at large, in 2014 the AOs were divided into 800- x 800-m cells, adjacent cells were aggregated by fours into 2.56 km2 patches, and 20% of these patches selected for CPB sampling as early as possible in the WISA breeding season of 2014.
C4: Relative abundance from the road monitoring of 213 CPB pts has not changed over the 2012-2014 period but relative abundance did vary by date of the survey within April requiring adjustment by date for this road monitoring. It is recommended to continue one sampling round of 229 Road Monitoring Points, preferably in the first week of April each year. After the sampling round of 2015, trend analyses will be possible as there will then be >3 sampling years.
C5: The relative abundance stratified by Low or Moderate habitat suitability in 2014 patch monitoring was not significantly different from the relative abundance of the road monitoring or from prior years of CPBs. Sampling patches compared to isolated single CPB points provides logistical efficiency and will better allow future correlation of possible relative abundance changes with habitat changes. Patch monitoring need not be annual given the similar results to the road monitoring points and the relatively low cost of the road monitoring, which can be completed with 5 person-days effort.
C6: Habitat changes since the habitat mapping of 2009-2010 and that may affect WISA habitat suitability were noted at 24% of the patches and road monitoring points in the West AO and about 5% in the Okanagan-Boundary AO. Updated habitat suitability mapping will not likely be feasible until there are new aerial photo surveys of these areas since these habitat changes have taken place since the most recent aerial photo coverages of 2004-2005.

Sheet Design Component Spatial Info
A1: Study Area Name | B1: DC Type | C1: Design Component Label | D1: Patch | E1: DC UTM Zone | F1: DC UTM Easting | G1: DC UTM Northing | H1: DC Comments | I1: Albers Easting | J1: Albers Northing | K1: Maximum Suitability within 300 m | L1: Average Suitability within 300 m | M1: New UTM E | N1: New UTM N | O1: New Albers E | P1: New Albers N | Q1: Reason | R1: Habitat Change?
A2: Okanagan-Boundary | B2: RM CPB | C2: RM-K001 | E2: 11 | F2: 323399.83 | G2: 5447801.2 | I2: 1479609 | J2: 482439 | K2: 4 | L2: 0
A3: Okanagan-Boundary | B3: RM CPB | C3: RM-K002 | E3: 11 | F3: 323839.04 | G3: 5447168.9 | I3: 1480124 | J3: 481867 | K3: 4 | L3: 0.08
A4: Okanagan-Boundary | B4: RM CPB | C4: RM-K003 | D4: 037-3 | E4: 11 | F4: 324362.21 | G4: 5446684.4 | I4: 1480704 | J4: 481452 | K4: 4 | L4: 0.12
A5: Okanagan-Boundary | B5: RM CPB | C5: RM-K004 | D5: 037-3 | E5: 11 | F5: 325097.12 | G5: 5446612.1 | I5: 1481443 | J5: 481472 | K5: 3 | L5: 0.16
A6: Okanagan-Boundary | B6: RM CPB | C6: RM-K005 | D6: 037-4 | E6: 11 | F6: 325796.4 | G6: 5446223.5 | I6: 1482186 | J6: 481174 | K6: 3 | L6: 0.14
A7: Okanagan-Boundary | B7: RM CPB | C7: RM-K006 | D7: 037-4 | E7: 11 | F7: 326222.83 | G7: 5445609.9 | I7: 1482686 | J7: 480619 | K7: 3 | L7: 0.22
A8: Okanagan-Boundary | B8: RM CPB | C8: RM-K007 | D8: 037-5 | E8: 11 | F8: 326462.37 | G8: 5444927 | I8: 1483009 | J8: 479972 | K8: 3 | L8: 0.12
A9: Okanagan-Boundary | B9: RM CPB | C9: RM-K008 | D9: 037-5 | E9: 11 | F9: 327034.61 | G9: 5444496.8 | I9: 1483631 | J9: 479617 | K9: 4 | L9: 0.06
A10: Okanagan-Boundary | B10: RM CPB | C10: RM-K009 | D10: 037-1 | E10: 11 | F10: 327598.96 | G10: 5443955.7 | I10: 1484259 | J10: 479151 | K10: 4 | L10: 0.06
A11: Okanagan-Boundary | B11: RM CPB | C11: RM-K010 | D11: 037-1 | E11: 11 | F11: 328348.97 | G11: 5443723.1 | I11: 1485033 | J11: 479014 | K11: 3 | L11: 0.17
A12: Okanagan-Boundary | B12: RM CPB | C12: RM-K011 | D12: 036-1 | E12: 11 | F12: 328676.55 | G12: 5443188.5 | I12: 1485425 | J12: 478525 | K12: 4 | L12: 0.04
A13: Okanagan-Boundary | B13: RM CPB | C13: RM-K012 | D13: 036-1 | E13: 11 | F13: 329223.14 | G13: 5442610.2 | I13: 1486040 | J13: 478020 | K13: 4 | L13: 0.04
A14: Okanagan-Boundary | B14: RM CPB | C14: RM-K013 | D14: 036-1 | E14: 11 | F14: 329856.69 | G14: 5442211.6 | I14: 1486719 | J14: 477704 | K14: 3 | L14: 0.15
A15: Okanagan-Boundary | B15: RM CPB | C15: RM-K014 | D15: 036-5 | E15: 11 | F15: 330576.39 | G15: 5441898.1 | I15: 1487473 | J15: 477483 | K15: 4 | L15: 0.08
... A17: Okanagan-Boundary | B17: RM CPB | C17: RM-K016 | D17: 538 | E17: 11 | F17: 332000.3 | G17: 5441645.2 | I17: 1488919 | J17: 477410 | K17: 4 | L17: 0.05
A18: Okanagan-Boundary | B18: RM CPB | C18: RM-K017B | D18: 025-1 | E18: 11 | F18: 341061.88 | G18: 5441614.7 | H18: Boundary | I18: 1497924.6 | J18: 478510.69 | K18: 4 | L18: 0.05
A19: Okanagan-Boundary | B19: RM CPB | C19: RM-K018B | D19: 025-4 | E19: 11 | F19: 341787.6 | G19: 5441197.2 | H19: Boundary | I19: 1498697.6 | J19: 478187.52 | K19: 3 | L19: 0.06
A20: Okanagan-Boundary | B20: RM CPB | C20: RM-K019B | D20: 025-4 | E20: 11 | F20: 342529.4 | G20: 5440916.4 | H20: Boundary | I20: 1499469.5 | J20: 478001.85 | K20: 3 | L20: 0.1
A21: Okanagan-Boundary | B21: RM CPB | C21: RM-K020B | D21: 024-5 | E21: 11 | F21: 343413.72 | G21: 5441830.6 | H21: Boundary | I21: 1500234 | J21: 479018.39 | K21: 4 | L21: 0.12
A22: Okanagan-Boundary | B22: RM CPB | C22: RM-K021B | D22: 024-1 | E22: 11 | F22: 343019.79 | G22: 5440309.4 | H22: Boundary | I22: 1500032.4 | J22: 477461.53 | K22: 3 | L22: 0.17
A23: Okanagan-Boundary | B23: RM CPB | C23: RM-K022B | D23: 023-3 | E23: 11 | F23: 343272.83 | G23: 5439562.3 | H23: Boundary | I23: 1500377 | J23: 476752.62 | K23: 3 | L23: 0.15
A24: Okanagan-Boundary | B24: RM CPB | C24: RM-K023B | D24: 508 | E24: 11 | F24: 343652.52 | G24: 5438072.3 | H24: Boundary | I24: 1500940 | J24: 475323.29 | K24: 4 | L24: 0.03
A25: Okanagan-Boundary | B25: RM CPB | C25: RM-K024B | D25: 621 | E25: 11 | F25: 344727.7 | G25: 5435726.5 | H25: Boundary | I25: 1502300.8 | J25: 473132.69 | K25: 4 | L25: 0.04
A26: Okanagan-Boundary | B26: RM CPB | C26: RM-K025B | D26: 018-1 | E26: 11 | F26: 349376 | G26: 5435115 | H26: Boundary | I26: 1506999.6 | J26: 473106.14 | K26: 4 | L26: 0.13 | R26: New partial cut for ER
A27: Okanagan-Boundary | B27: RM CPB | C27: RM-K026B | D27: 018-1 | E27: 11 | F27: 349358.92 | G27: 5435981.4 | H27: Boundary | I27: 1506870.1 | J27: 473963.92 | K27: 4 | L27: 0.06
A28: Okanagan-Boundary | B28: RM CPB | C28: RM-K027B | D28: 019-4 | E28: 11 | F28: 349328.26 | G28: 5436777.6 | H28: Boundary | I28: 1506740.2 | J28: 474749.25 | K28: 4 | L28: 0.09
A29: Okanagan-Boundary | B29: RM CPB | C29: RM-K028B | D29: 019-4 | E29: 11 | F29: 349522.66 | G29: 5437556.6 | H29: Boundary | I29: 1506836.2 | J29: 475545.57 | K29: 4 | L29: 0.15
A30: Okanagan-Boundary | B30: RM CPB | C30: RM-K029B | D30: 019-1 | E30: 11 | F30: 349437.92 | G30: 5438390.9 | H30: Boundary | I30: 1506647.8 | J30: 476361.93 | K30: 4 | L30: 0.12
A31: Okanagan-Boundary | B31: RM CPB | C31: RM-K030B | D31: 019-1 | E31: 11 | F31: 349461.92 | G31: 5439192.3 | H31: Boundary | I31: 1506571.6 | J31: 477159.2 | K31: 4 | L31: 0.08
A32: Okanagan-Boundary | B32: RM CPB | C32: RM-K031B | D32: 018-1 | E32: 11 | F32: 349931.34 | G32: 5434576.8 | H32: Boundary | I32: 1507614.1 | J32: 472643.39 | K32: 3 | L32: 0.16 | R32: New partial cut for ER
A33: Okanagan-Boundary | B33: RM CPB | C33: RM-K032B | E33: 11 | F33: 352553.45 | G33: 5438821 | H33: Boundary | I33: 1509689.3 | J33: 477177.59 | K33: 3 | L33: 0.16
A34: Okanagan-Boundary | B34: RM CPB | C34: RM-K033B | E34: 11 | F34: 352415.02 | G34: 5439626.6 | H34: Boundary | I34: 1515339.6 | J34: 479846.3 | K34: 3 | L34: 0.35
A35: Okanagan-Boundary | B35: RM CPB | C35: RM-K034B | D35: 020-1 | E35: 11 | F35: 352287.22 | G35: 5440397.6 | H35: Boundary | I35: 1509451.2 | J35: 477958.75 | K35: 3 | L35: 0.22
A36: Okanagan-Boundary | B36: RM CPB | C36: RM-K035B | D36: 533 | E36: 11 | F36: 358385.87 | G36: 5440787.6 | H36: Boundary | I36: 1509228 | J36: 478706.99 | K36: 3 | L36: 0.11
A37: Okanagan-Boundary | B37: RM CPB | C37: RM-K036B | D37: 013-4 | E37: 11 | F37: 359270.84 | G37: 5440657.8 | H37: Boundary | I37: 1516133.4 | J37: 479838.24 | K37: 3 | L37: 0.15
A38: Okanagan-Boundary | B38: RM CPB | C38: RM-K037B | D38: 013-4 | E38: 11 | F38: 359924.16 | G38: 5440949.1 | H38: Boundary | I38: 1516746 | J38: 480208.76 | K38: 4 | L38: 0.09
A39: Okanagan-Boundary | B39: RM CPB | C39: RM-K038B | D39: 011-5 | E39: 11 | F39: 360458.18 | G39: 5441520.3 | H39: Boundary | I39: 1517205.1 | J39: 480841.71 | K39: 4 | L39: 0.04
A40: Okanagan-Boundary | B40: RM CPB | C40: RM-K039B | D40: 012-1 | E40: 11 | F40: 361117.97 | G40: 5441490.9 | H40: Boundary | I40: 1517864.3 | J40: 480895.19 | K40: 3 | L40: 0.15
A41: Okanagan-Boundary | B41: RM CPB | C41: RM-K040B | D41: 012-1 | E41: 11 | F41: 361430.82 | G41: 5442220.5 | H41: Boundary | I41: 1518083.9 | J41: 481657.46 | K41: 3 | L41: 0.26
...

Sheet Logistics
A1: PATCH# | B1: HABITAT | C1: Date | D1: N CPB | E1: N WISA | F1: Late or Incid WISA | G1: Time (hrs) | H1: Time | I1: Comments | J1: PATCH# | K1: HABITAT | L1: Date | M1: N CPB | N1: N WISA | P1: Time (hrs) | R1: Comments
A2: Ok-Bdy TFL8 | J2: Princeton
A3: 001-1 | B3: L | C3: 41753 | D3: 4 | E3: 0 | G3: 0.17569444 | H3: =G3*1440/60 -> 4.2166667 | J3: 052-1 | K3: M | L3: 41736 | M3: 4 | N3: 4 | P3: 0.083333333 | Q3: =P3*1440/60 -> 2
A4: 002-1 | B4: L | C4: 41753 | D4: 4 | E4: 1 | G4: 0.085416667 | H4: =G4*1440/60 -> 2.05 | J4: 053-1 | K4: L | L4: 41736 | M4: 4 | N4: 1 | P4: 0.064583333 | Q4: =P4*1440/60 -> 1.55
A5: 003-1 | B5: L | C5: 41773 | D5: 3 | E5: 0 | G5: 0.041666667 | H5: =G5*1440/60 -> 1 | J5: 054-1 | K5: M | L5: 41736 | M5: 4 | N5: 9 | P5: 0.050694444 | Q5: =P5*1440/60 -> 1.2166667
A6: 004-1 | B6: M | C6: 41773 | D6: 4 | E6: 2 | G6: 0.069444444 | H6: =G6*1440/60 -> 1.6666667 | J6: Pike Mt
A7: 005-1 | B7: L | C7: 41765 | D7: 4 | E7: 0 | G7: 0.059027778 | H7: =G7*1440/60 -> 1.4166667 | J7: 055-1 | K7: M | L7: 41762 | M7: 4 | N7: 1 | P7: 0.039583333 | Q7: =P7*1440/60 -> 0.95 | R7: 2 people
A8: 006-1 | B8: L | C8: 41753 | D8: 4 | E8: 0 | G8: 0.053472222 | H8: =G8*1440/60 -> 1.2833333 | I8: Private-Kerr-Marshall | J8: 056-1 | K8: L | L8: 41762 | M8: 4 | N8: 0 | P8: 0.093055556 | Q8: =P8*1440/60 -> 2.2333333
A9: 007-1 | B9: M | C9: 41752 | D9: 3 | E9: 3 | F9: 1 | G9: 0.0375 | H9: =G9*1440/60 -> 0.9 | I9: Drop Pt3 2 people | J9: 057-1 | K9: L | L9: 41756 | M9: 4 | N9: 0 | P9: 0.059027778 | Q9: =P9*1440/60 -> 1.4166667 | R9: 2 people
A10: 008-1 | B10: M | C10: 41752 | D10: 4 | E10: 3 | G10: 0.0375 | H10: =G10*1440/60 -> 0.9 | I10: 2 people | J10: 058-1 | K10: M | L10: 41762 | M10: 4 | N10: 0 | P10: 0.086111111 | Q10: =P10*1440/60 -> 2.0666667
A11: 009-1 | B11: M | C11: 41753 | D11: 4 | E11: 2 | F11: 1 | G11: 0.068055556 | H11: =G11*1440/60 -> 1.6333333 | I11: 2 people | J11: Otter-Boss-Davis-Dodds-AspenGrove
A12: 010-1 | B12: M | C12: 41752 | D12: 4 | E12: 2 | G12: 0.055555556 | H12: =G12*1440/60 -> 1.3333333 | I12: 2 people | J12: 059-1 | K12: L | L12: 41736 | M12: 4 | N12: 2 | P12: 0.084722222 | Q12: =P12*1440/60 -> 2.0333333 | R12: Snowshoes
A13: 012-1 | B13: M | C13: 41752 | D13: 4 | E13: 1 | G13: 0.066666667 | H13: =G13*1440/60 -> 1.6 | I13: 2 people | J13: 062-1 | K13: L | L13: 41735 | M13: 3 | N13: 3 | P13: 0.089583333 | Q13: =P13*1440/60 -> 2.15 | R13: Only 3 Pts on Crown
A14: 013-1 | B14: M | C14: 41752 | D14: 4 | E14: 2 | G14: 0.0625 | H14: =G14*1440/60 -> 1.5 | I14: 2 people | J14: 063-1 | K14: L | L14: 41756 | M14: 3 | N14: 2 | P14: 0.036805556 | Q14: =P14*1440/60 -> 0.88333333 | R14: Only 3 Pts on Crown; snowshoes
A15: Bdy - Anarchist-Johnstone | J15: 064-1 | K15: L | L15: 41756 | M15: 4 | N15: 0 | P15: 0.039583333 | Q15: =P15*1440/60 -> 0.95 | R15: 2 people
A16: 011-1 | B16: L | C16: 41755 | D16: 4 | E16: 1 | G16: 0.077777778 | H16: =G16*1440/60 -> 1.8666667 | I16: 2 people | J16: 065-1 | K16: L | L16: 41756 | M16: 4 | N16: 3 | P16: 0.091666667 | Q16: =P16*1440/60 -> 2.2
A17: 018-1 | B17: L | C17: 41740 | D17: 4 | E17: 5 | G17: 0.038194444 | H17: =G17*1440/60 -> 0.91666667 | J17: 066-1 | K17: L | L17: 41745 | M17: 3 | N17: 0 | P17: 0.017361111 | Q17: =P17*1440/60 -> 0.41666667 | R17: Drop Pt3
A18: 019-1 | B18: M | C18: 41740 | D18: 4 | E18: 6 | G18: 0.065277778 | H18: =G18*1440/60 -> 1.5666667 | J18: 067-1 | K18: L | L18: 41735 | M18: 4 | N18: 0 | P18: 0.13055556 | Q18: =P18*1440/60 -> 3.1333333 | R18: Snowshoes
A19: 020-1 | B19: M | C19: 41740 | D19: 4 | E19: 1 | F19: 1 | G19: 0.059722222 | H19: =G19*1440/60 -> 1.4333333 | J19: 068-1 | K19: L | L19: 41756 | M19: 3 | N19: 1 | P19: 0.031944444 | Q19: =P19*1440/60 -> 0.76666667 | R19: 2 people
A20: 021-1 | B20: M | C20: 41755 | D20: 4 | E20: 0 | G20: 0.077777778 | H20: =G20*1440/60 -> 1.8666667 | I20: 2 people | J20: Kane
A21: 022-1 | B21: L | C21: 41765 | D21: 4 | E21: 1 | G21: 0.08125 | H21: =G21*1440/60 -> 1.95 | J21: 070-1 | K21: L | L21: 41761 | M21: 4 | N21: 1 | P21: 0.038194444 | Q21: =P21*1440/60 -> 0.91666667 | R21: 2 people
A22: 023-1 | B22: L | C22: 41755 | D22: 4 | E22: 3 | G22: 0.0625 | H22: =G22*1440/60 -> 1.5 | I22: 2 people | J22: 071-1 | K22: L | L22: 41761 | M22: 3 | N22: 0 | P22: 0.044444444 | Q22: =P22*1440/60 -> 1.0666667 | R22: Nicola Ranch access
A23: 024-1 | B23: L | C23: 41755 | D23: 4 | E23: 2 | G23: 0.045138889 | H23: =G23*1440/60 -> 1.0833333 | I23: 2 people | J23: 073-1 | K23: L | L23: 41745 | M23: 4 | N23: 1 | O23: 1 | P23: 0.068055556 | Q23: =P23*1440/60 -> 1.6333333 | R23: Nicola Ranch
A24: 025-1 | B24: L | C24: 41739 | D24: 3 | E24: 0 | G24: 0.077777778 | H24: =G24*1440/60 -> 1.8666667 | J24: 074-1 | K24: L | L24: 41745 | M24: 4 | N24: 0 | P24: 0.059722222 | Q24: =P24*1440/60 -> 1.4333333 | R24: Nicola Ranch
A25: 026-1 | B25: M | C25: 41755 | D25: 4 | E25: 3 | G25: 0.056944444 | H25: =G25*1440/60 -> 1.3666667 | J25: 075-1 | K25: L | L25: 41745 | M25: 4 | N25: 0 | O25: 1 | P25: 0.070138889 | Q25: =P25*1440/60 -> 1.6833333 | R25: Nicola Ranch
A26: 027-1 | B26: M | C26: 41755 | D26: 4 | E26: 1 | G26: 0.086805556 | H26: =G26*1440/60 -> 2.0833333 | I26: 2 people | J26: 077-1 | K26: L | L26: 41745 | M26: 4 | N26: 1 | P26: 0.061805556 | Q26: =P26*1440/60 -> 1.4833333 | R26: Nicola Ranch
A27: 028-1 | B27: M | C27: 41755 | D27: 4 | E27: 1 | F27: 1 | G27: 0.054166667 | H27: =G27*1440/60 -> 1.3 | I27: 2 people | J27: Coquihalla
A28: Okanagan | J28: 076-1 | K28: L | L28: 41761 | M28: 3 | N28: 0 | P28: 0.095138889 | Q28: =P28*1440/60 -> 2.2833333 | R28: Drop Pt4
A29: 031-1 | B29: L | C29: 41750 | D29: 4 | E29: 0 | G29: 0.13194444 | H29: =G29*1440/60 -> 3.1666667 | J29: 078-1 | K29: L | L29: 41761 | M29: 4 | N29: 0 | P29: 0.063194444 | Q29: =P29*1440/60 -> 1.5166667
A30: 032-1 | B30: L | C30: 41750 | D30: 3 | E30: 0 | F30: 1 | G30: 0.11319444 | H30: =G30*1440/60 -> 2.7166667 | J30: 079-1 | K30: L | L30: 41761 | M30: 4 | N30: 0 | P30: 0.095833333 | Q30: =P30*1440/60 -> 2.3
A31: 033-1 | B31: M | C31: 41757 | D31: 4 | E31: 0 | G31: 0.077777778 | H31: =G31*1440/60 -> 1.8666667 | J31: 080-1 | K31: L | L31: 41761 | M31: 4 | N31: 0 | P31: 0.086805556 | Q31: =P31*1440/60 -> 2.0833333
A32: 034-1 | B32: L | C32: 41765 | D32: 4 | E32: 2 | G32: 0.05625 | H32: =G32*1440/60 -> 1.35 | J32: Patchett-Midday
A33: 035-1 | B33: L | C33: 41757 | D33: 4 | E33: 0 | G33: 0.068055556 | H33: =G33*1440/60 -> 1.6333333 | J33: 082-1 | K33: L | L33: 41743 | M33: 3 | N33: 1 | P33: 0.056944444 | Q33: =P33*1440/60 -> 1.3666667
A34: 036-1 | B34: L | C34: 41739 | D34: 4 | E34: 2 | G34: 0.043055556 | H34: =G34*1440/60 -> 1.0333333 | J34: 083-1 | K34: M | L34: 41743 | M34: 4 | N34: 0 | P34: 0.065972222 | Q34: =P34*1440/60 -> 1.5833333
A35: 037-1 | B35: M | C35: 41739 | D35: 4 | E35: 2 | G35: 0.047916667 | H35: =G35*1440/60 -> 1.15 | J35: 084-1 | K35: L | L35: 41742 | M35: 4 | N35: 3 | O35: 1 | P35: 0.094444444 | Q35: =P35*1440/60 -> 2.2666667
A36: 038-1 | B36: M | C36: 41739 | D36: 4 | E36: 4 | G36: 0.034722222 | H36: =G36*1440/60 -> 0.83333333 | J36: 085-1 | K36: L | L36: 41744 | M36: 4 | N36: 0 | P36: 0.075694444 | Q36: =P36*1440/60 -> 1.8166667
A37: 039-1 | B37: L | C37: 41765 | D37: 3 | E37: 0 | F37: 1 | G37: 0.053472222 | H37: =G37*1440/60 -> 1.2833333 | J37: 086-1 | K37: L | L37: 41742 | M37: 4 | N37: 5 | P37: 0.076388889 | Q37: =P37*1440/60 -> 1.8333333
A38: 040-1 | B38: M | C38: 41739 | D38: 4 | E38: 3 | G38: 0.075 | H38: =G38*1440/60 -> 1.8 | J38: 087-1 | K38: M | L38: 41742 | M38: 4 | N38: 5 | P38: 0.052777778 | Q38: =P38*1440/60 -> 1.2666667
A39: 041-1 | B39: M | C39: 41757 | D39: 4 | E39: 5 | G39: 0.069444444 | H39: =G39*1440/60 -> 1.6666667 | J39: 088-1 | K39: L | L39: 41742 | M39: 4 | N39: 4 | O39: 1 | P39: 0.065972222 | Q39: =P39*1440/60 -> 1.5833333
A40: 042-1 | B40: L | C40: 41757 | D40: 4 | E40: 0 | G40: 0.39930556 | H40: =G40*1440/60 -> 9.5833333 | I40: !!!!!!!!!!!!! | J40: NW Merritt
...

Sheet Patch CPB DataEntry
A1: Survey Name | B1: Study Area Name | C1: Survey Intensity | D1: CPB Station | E1: Patch | F1: Date | G1: Surveyors | H1: Type CPB | I1: Time Start | J1: Continuation Line | K1: Type of Access | L1: Air Temp (C) | M1: Wind Speed | N1: Cloud Cover | O1: Current Precipitation | P1: Species | Q1: Detection Time (seconds) | R1: Count | S1: Sex | T1: WISA V/D/C | U1: Detect Type | V1: Detect Dir (deg) | W1: Detect Dist (m) | X1: Life Stage | Y1: Activity | Z1: WISA ID | AA1: Final Assigned WISA Site ID | AB1: Comments | AC1: Other Species | AD1: CPB UTM Zone | AE1: CPB UTM E | AF1: CPB UTM N | AG1: WISA UTM E | AH1: WISA UTM N | AI1: CPB Albers E | AJ1: CPB Albers N | AK1: WISA Albers E | AL1: WISA Albers N | AM1: Hab Suit | AN1: HabSuit Class
A2: Patch Monitoring | B2: Boundary | C2: RA | D2: 001-1-1 | E2: =LEFT(D2,5) -> 001-1 | F2: 41753 | G2: Philip Gyug | H2: Patch CPB | I2: 0.65625 | J2: 1 | K2: Walk | L2: 5 | M2: 1 | N2: 3 | O2: N | P2: NULL | R2: 0 | AD2: =LOOKUP($D2,'Design Component Spatial Info'!$C$231:$C$575,'Design Component Spatial Info'!E$231:E$575) -> 11 | AE2: =LOOKUP($D2,'Design Component Spatial Info'!$C$231:$C$575,'Design Component Spatial Info'!M$231:M$575) -> 373900.6 | AF2: =LOOKUP($D2,'Design Component Spatial Info'!$C$231:$C$575,'Design Component Spatial Info'!N$231:N$575) -> 5442251.7 | AG2: =IF(V2="",0,SIN(RADIANS(VALUE(V2)))*VALUE(W2)+AE2) -> 0 | AH2: =IF(V2="",0,COS(RADIANS(VALUE(V2)))*VALUE(W2)+AF2) -> 0 | AI2: =LOOKUP($D2,'Design Component Spatial Info'!$C$231:$C$575,'Design Component Spatial Info'!O$231:O$575) -> 1530468 | AJ2: =LOOKUP($D2,'Design Component Spatial Info'!$C$231:$C$575,'Design Component Spatial Info'!P$231:P$575) -> 483250 | AM2: 0.075479 | AN2: =IF(AM2<0.05,"VL",IF(AM2<0.16,"L","M")) -> L
A3: Patch Monitoring | B3: Boundary | C3: RA | D3: 001-1-2 | E3: =LEFT(D3,5) -> 001-1 | F3: 41753 | G3: Philip Gyug | H3: Patch CPB | I3: 0.63194444 | J3: 1 | K3: Walk | L3: 5 | M3: 0 | N3: 4 | O3: N | P3: NULL | R3: 0 | AD3: =LOOKUP($D3,'Design Component Spatial Info'!$C$231:$C$575,'Design Component Spatial Info'!E$231:E$575) -> 11 | AE3: =LOOKUP($D3,'Design Component Spatial Info'!$C$231:$C$575,'Design Component Spatial Info'!M$231:M$575) -> 374000.67 | AF3: =LOOKUP($D3,'Design Component Spatial Info'!$C$231:$C$575,'Design Component Spatial Info'!N$231:N$575) -> 5443046.1 | AG3: =IF(V3="",0,SIN(RADIANS(VALUE(V3)))*VALUE(W3)+AE3) -> 0 | AH3: =IF(V3="",0,COS(RADIANS(VALUE(V3)))*VALUE(W3)+AF3) -> 0 | AI3: =LOOKUP($D3,'Design Component Spatial Info'!$C$231:$C$575,'Design Component Spatial Info'!O$231:O$575) -> 1530468 | AJ3: =LOOKUP($D3,'Design Component Spatial Info'!$C$231:$C$575,'Design Component Spatial Info'!P$231:P$575) -> 484050 | AM3: 0.191171 | AN3: =IF(AM3<0.05,"VL",IF(AM3<0.16,"L","M")) -> M
A4: Patch Monitoring | B4: Boundary | C4: RA | D4: 001-1-3 | E4: =LEFT(D4,5) -> 001-1 | F4: 41753 | G4: Les Gyug | H4: Patch CPB | I4: 0.29375 | J4: 1 | K4: Walk | L4: 1 | M4: 0 | N4: 4 | O4: LS | P4: NULL | R4: 0 | AD4: =LOOKUP($D4,'Design Component Spatial Info'!$C$231:$C$575,'Design Component Spatial Info'!E$231:E$575) -> 11 | AE4: =LOOKUP($D4,'Design Component Spatial Info'!$C$231:$C$575,'Design Component Spatial Info'!M$231:M$575) -> 374793.33 | AF4: =LOOKUP($D4,'Design Component Spatial Info'!$C$231:$C$575,'Design Component Spatial Info'!N$231:N$575) -> 5442945.9 | AG4: =IF(V4="",0,SIN(RADIANS(VALUE(V4)))*VALUE(W4)+AE4) -> 0 | AH4: =IF(V4="",0,COS(RADIANS(VALUE(V4)))*VALUE(W4)+AF4) -> 0 | AI4: =LOOKUP($D4,'Design Component Spatial Info'!$C$231:$C$575,'Design Component Spatial Info'!O$231:O$575) -> 1531268 | AJ4: =LOOKUP($D4,'Design Component Spatial Info'!$C$231:$C$575,'Design Component Spatial Info'!P$231:P$575) -> 484050 | AM4: 0.115867 | AN4: =IF(AM4<0.05,"VL",IF(AM4<0.16,"L","M")) -> L
A5: Patch Monitoring | B5: Boundary | C5: RA | D5: 001-1-4 | E5: =LEFT(D5,5) -> 001-1 | F5: 41753 | G5: Les Gyug | H5: Patch CPB | I5: 0.28194444 | J5: 1 | K5: Walk | L5: 1 | M5: 0 | N5: 4 | O5: LS | P5: NULL | R5: 0 | AD5: =LOOKUP($D5,'Design Component Spatial Info'!$C$231:$C$575,'Design Component Spatial Info'!E$231:E$575) -> 11 | AE5: =LOOKUP($D5,'Design Component Spatial Info'!$C$231:$C$575,'Design Component Spatial Info'!M$231:M$575) -> 375585.98 | AF5: =LOOKUP($D5,'Design Component Spatial Info'!$C$231:$C$575,'Design Component Spatial Info'!N$231:N$575) -> 5442845.7 | AG5: =IF(V5="",0,SIN(RADIANS(VALUE(V5)))*VALUE(W5)+AE5) -> 0 | AH5: =IF(V5="",0,COS(RADIANS(VALUE(V5)))*VALUE(W5)+AF5) -> 0 | AI5: =LOOKUP($D5,'Design Component Spatial Info'!$C$231:$C$575,'Design Component Spatial Info'!O$231:O$575) -> 1532068 | AJ5: =LOOKUP($D5,'Design Component Spatial Info'!$C$231:$C$575,'Design Component Spatial Info'!P$231:P$575) -> 484050 | AM5: 0.035974 | AN5: =IF(AM5<0.05,"VL",IF(AM5<0.16,"L","M")) -> VL
A6: Patch Monitoring | B6: Boundary | C6: RA | D6: 002-1-1 | E6: =LEFT(D6,5) -> 002-1 | F6: 41753 | G6: Les Gyug | H6: Patch CPB | I6: 0.67638889 | J6: 1 | K6: Walk | L6: 6 | M6: 1 | N6: 3 | O6: N | P6: B-WISA | Q6: 58 | R6: 1 | S6: U | T6: C | U6: CA | V6: 258 | W6: 175 | X6: AD | Y6: TE | AA6: WB538 | AD6: =LOOKUP($D6,'Design Component Spatial Info'!$C$231:$C$575,'Design Component Spatial Info'!E$231:E$575) -> 11 | AE6: =LOOKUP($D6,'Design Component Spatial Info'!$C$231:$C$575,'Design Component Spatial Info'!M$231:M$575) -> 369644.79 | AF6: =LOOKUP($D6,'Design Component Spatial Info'!$C$231:$C$575,'Design Component Spatial Info'!N$231:N$575) -> 5446824.9 | AG6: =IF(V6="",0,SIN(RADIANS(VALUE(V6)))*VALUE(W6)+AE6) -> 369473.62 | AH6: =IF(V6="",0,COS(RADIANS(VALUE(V6)))*VALUE(W6)+AF6) -> 5446788.6 | AI6: =LOOKUP($D6,'Design Component Spatial Info'!$C$231:$C$575,'Design Component Spatial Info'!O$231:O$575) -> 1525668 | AJ6: =LOOKUP($D6,'Design Component Spatial Info'!$C$231:$C$575,'Design Component Spatial Info'!P$231:P$575) -> 487250 | AK6: 1525502.5 | AL6: 487192.49 | AM6: 0.112722 | AN6: =IF(AM6<0.05,"VL",IF(AM6<0.16,"L","M")) -> L
A7: Patch Monitoring | B7: Boundary | C7: RA | D7: 002-1-2 | E7: =LEFT(D7,5) -> 002-1 | F7: 41753 | G7: Les Gyug | H7: Patch CPB | I7: 0.65833333 | J7: 1 | K7: Walk | L7: 8 | M7: 0 | N7: 3 | O7: M | P7: NULL | R7: 0 | AD7: =LOOKUP($D7,'Design Component Spatial Info'!$C$231:$C$575,'Design Component Spatial Info'!E$231:E$575) -> 11 | AE7: =LOOKUP($D7,'Design Component Spatial Info'!$C$231:$C$575,'Design Component Spatial Info'!M$231:M$575) -> 370437.5 | AF7: =LOOKUP($D7,'Design Component Spatial Info'!$C$231:$C$575,'Design Component Spatial Info'!N$231:N$575) -> 5446724.8 | AG7: =IF(V7="",0,SIN(RADIANS(VALUE(V7)))*VALUE(W7)+AE7) -> 0 | AH7: =IF(V7="",0,COS(RADIANS(VALUE(V7)))*VALUE(W7)+AF7) -> 0 | AI7: =LOOKUP($D7,'Design Component Spatial Info'!$C$231:$C$575,'Design Component Spatial Info'!O$231:O$575) -> 1526468 | AJ7: =LOOKUP($D7,'Design Component Spatial Info'!$C$231:$C$575,'Design Component Spatial Info'!P$231:P$575) -> 487250 | AM7: 0.164245 | AN7: =IF(AM7<0.05,"VL",IF(AM7<0.16,"L","M")) -> M
A8: Patch Monitoring | B8: Boundary | C8: RA | D8: 002-1-3 | E8: =LEFT(D8,5) -> 002-1 | F8: 41753 | G8: Les Gyug | H8: Patch CPB | I8: 0.63611111 | J8: 1 | K8: Walk | L8: 8 | M8: 1 | N8: 3 | O8: N | P8: NULL | R8: 0 | AD8: =LOOKUP($D8,'Design Component Spatial Info'!$C$231:$C$575,'Design Component Spatial Info'!E$231:E$575) -> 11 | AE8: =LOOKUP($D8,'Design Component Spatial Info'!$C$231:$C$575,'Design Component Spatial Info'!M$231:M$575) -> 371230.2 | AF8: =LOOKUP($D8,'Design Component Spatial Info'!$C$231:$C$575,'Design Component Spatial Info'!N$231:N$575) -> 5446624.6 | AG8: =IF(V8="",0,SIN(RADIANS(VALUE(V8)))*VALUE(W8)+AE8) -> 0 | AH8: =IF(V8="",0,COS(RADIANS(VALUE(V8)))*VALUE(W8)+AF8) -> 0 | AI8: =LOOKUP($D8,'Design Component Spatial Info'!$C$231:$C$575,'Design Component Spatial Info'!O$231:O$575) -> 1527268 | AJ8: =LOOKUP($D8,'Design Component Spatial Info'!$C$231:$C$575,'Design Component Spatial Info'!P$231:P$575) -> 487250 | AM8: 0.074372 | AN8: =IF(AM8<0.05,"VL",IF(AM8<0.16,"L","M")) -> L
A9: Patch Monitoring | B9: Boundary | C9: RA | D9: 002-1-4 | E9: =LEFT(D9,5) -> 002-1 | F9: 41753 | G9: Les Gyug | H9: Patch CPB | I9: 0.62222222 | J9: 1 | K9: Road | L9: 10 | M9: 1 | N9: 3 | O9: N | P9: NULL | R9: 0 | AD9: =LOOKUP($D9,'Design Component Spatial Info'!$C$231:$C$575,'Design Component Spatial Info'!E$231:E$575) -> 11 | AE9: =LOOKUP($D9,'Design Component Spatial Info'!$C$231:$C$575,'Design Component Spatial Info'!M$231:M$575) -> 372059 | AF9: =LOOKUP($D9,'Design Component Spatial Info'!$C$231:$C$575,'Design Component Spatial Info'!N$231:N$575) -> 5446366 | AG9: =IF(V9="",0,SIN(RADIANS(VALUE(V9)))*VALUE(W9)+AE9) -> 0 | AH9: =IF(V9="",0,COS(RADIANS(VALUE(V9)))*VALUE(W9)+AF9) -> 0 | AI9: =LOOKUP($D9,'Design Component Spatial Info'!$C$231:$C$575,'Design Component Spatial Info'!O$231:O$575) -> 1528123.7 | AJ9: =LOOKUP($D9,'Design Component Spatial Info'!$C$231:$C$575,'Design Component Spatial Info'!P$231:P$575) -> 487097.53 | AM9: 0.093285 | AN9: =IF(AM9<0.05,"VL",IF(AM9<0.16,"L","M")) -> L
A10: Patch Monitoring | B10: Boundary | C10: RA | D10: 003-1-1 | E10: =LEFT(D10,5) -> 003-1 | F10: 41773 | G10: Les Gyug | H10: Patch CPB | I10: 0.31388889 | J10: 1 | K10: Walk | L10: 12 | M10: 1 | N10: 1 | O10: N | P10: NULL | R10: 0 | AD10: =LOOKUP($D10,'Design Component Spatial Info'!$C$231:$C$575,'Design Component Spatial Info'!E$231:E$575) -> 11 | AE10: =LOOKUP($D10,'Design Component Spatial Info'!$C$231:$C$575,'Design Component Spatial Info'!M$231:M$575) -> 366373.91 | AF10: =LOOKUP($D10,'Design Component Spatial Info'!$C$231:$C$575,'Design Component Spatial Info'!N$231:N$575) -> 5446431.2 | AG10: =IF(V10="",0,SIN(RADIANS(VALUE(V10)))*VALUE(W10)+AE10) -> 0 | AH10: =IF(V10="",0,COS(RADIANS(VALUE(V10)))*VALUE(W10)+AF10) -> 0 | AI10: =LOOKUP($D10,'Design Component Spatial Info'!$C$231:$C$575,'Design Component Spatial Info'!O$231:O$575) -> 1522468 | AJ10: =LOOKUP($D10,'Design Component Spatial Info'!$C$231:$C$575,'Design Component Spatial Info'!P$231:P$575) -> 486450 | AM10: 0.101371 | AN10: =IF(AM10<0.05,"VL",IF(AM10<0.16,"L","M")) -> L
A11: Patch Monitoring | B11: Boundary | C11: RA | D11: 003-1-2 | E11: =LEFT(D11,5) -> 003-1 | F11: 41773 | G11: Les Gyug | H11: Patch CPB | I11: 0.33125 | J11: 1 | K11: Walk | L11: 12 | M11: 0 | N11: 1 | O11: N | P11: NULL | R11: 0 | AD11: =LOOKUP($D11,'Design Component Spatial Info'!$C$231:$C$575,'Design Component Spatial Info'!E$231:E$575) -> 11 | AE11: =LOOKUP($D11,'Design Component Spatial Info'!$C$231:$C$575,'Design Component Spatial Info'!M$231:M$575) -> 367066.61 | AF11: =LOOKUP($D11,'Design Component Spatial Info'!$C$231:$C$575,'Design Component Spatial Info'!N$231:N$575) -> 5445536.6 | AG11: =IF(V11="",0,SIN(RADIANS(VALUE(V11)))*VALUE(W11)+AE11) -> 0 | AH11: =IF(V11="",0,COS(RADIANS(VALUE(V11)))*VALUE(W11)+AF11) -> 0 | AI11: =LOOKUP($D11,'Design Component Spatial Info'!$C$231:$C$575,'Design Component Spatial Info'!O$231:O$575) -> 1523268 | AJ11: =LOOKUP($D11,'Design Component Spatial Info'!$C$231:$C$575,'Design Component Spatial Info'!P$231:P$575) -> 485650 | AM11: 0.120677 | AN11: =IF(AM11<0.05,"VL",IF(AM11<0.16,"L","M")) -> L
A12: Patch Monitoring | B12: Boundary | C12: RA | D12: 003-1-3 | E12: =LEFT(D12,5) -> 003-1 | F12: 41773 | G12: Les Gyug | H12: Patch CPB | I12: 0.30625 | J12: 1 | K12: Walk | L12: 12 | M12: 0 | N12: 1 | O12: N | P12: NULL | R12: 0 | AD12: =LOOKUP($D12,'Design Component Spatial Info'!$C$231:$C$575,'Design Component Spatial Info'!E$231:E$575) -> 11 | AE12: =LOOKUP($D12,'Design Component Spatial Info'!$C$231:$C$575,'Design Component Spatial Info'!M$231:M$575) -> 367166.63 | AF12: =LOOKUP($D12,'Design Component Spatial Info'!$C$231:$C$575,'Design Component Spatial Info'!N$231:N$575) -> 5446331 | AG12: =IF(V12="",0,SIN(RADIANS(VALUE(V12)))*VALUE(W12)+AE12) -> 0 | AH12: =IF(V12="",0,COS(RADIANS(VALUE(V12)))*VALUE(W12)+AF12) -> 0 | AI12: =LOOKUP($D12,'Design Component Spatial Info'!$C$231:$C$575,'Design Component Spatial Info'!O$231:O$575) -> 1523268 | AJ12: =LOOKUP($D12,'Design Component Spatial Info'!$C$231:$C$575,'Design Component Spatial Info'!P$231:P$575) -> 486450 | AM12: 0.077278 | AN12: =IF(AM12<0.05,"VL",IF(AM12<0.16,"L","M")) -> L
A13: Patch Monitoring | B13: Boundary | C13: RA | D13: 004-1-1 | E13: =LEFT(D13,5) -> 004-1 | F13: 41773 | G13: Les Gyug | H13: Patch CPB | I13: 0.37083333 | J13: 1 | K13: Walk | L13: 14 | M13: 0 | N13: 1 | O13: N | P13: B-WISA | Q13: 210 | R13: 1 | S13: U | T13: D | U13: DR | V13: 219 | W13: 400 | X13: AD | Y13: TE | AA13: WB578 | AD13: =LOOKUP($D13,'Design Component Spatial Info'!$C$231:$C$575,'Design Component Spatial Info'!E$231:E$575) -> 11 | AE13: =LOOKUP($D13,'Design Component Spatial Info'!$C$231:$C$575,'Design Component Spatial Info'!M$231:M$575) -> 367659.28 | AF13: =LOOKUP($D13,'Design Component Spatial Info'!$C$231:$C$575,'Design Component Spatial Info'!N$231:N$575) -> 5443847.6 | AG13: =IF(V13="",0,SIN(RADIANS(VALUE(V13)))*VALUE(W13)+AE13) -> 367407.55 | AH13: =IF(V13="",0,COS(RADIANS(VALUE(V13)))*VALUE(W13)+AF13) -> 5443536.7 | AI13: =LOOKUP($D13,'Design Component Spatial Info'!$C$231:$C$575,'Design Component Spatial Info'!O$231:O$575) -> 1524068 | AJ13: =LOOKUP($D13,'Design Component Spatial Info'!$C$231:$C$575,'Design Component Spatial Info'!P$231:P$575) -> 484050 | AK13: 1523856.8 | AL13: 483710.34 | AM13: 0.160987 | AN13: =IF(AM13<0.05,"VL",IF(AM13<0.16,"L","M")) -> M
A14: Patch Monitoring | B14: Boundary | C14: RA | D14: 004-1-2 | E14: =LEFT(D14,5) -> 004-1 | F14: 41773 | G14: Les Gyug | H14: Patch CPB | I14: 0.4 | J14: 1 | K14: Walk | L14: 14 | M14: 0 | N14: 2 | O14: N | P14: NULL | R14: 0 | AD14: =LOOKUP($D14,'Design Component Spatial Info'!$C$231:$C$575,'Design Component Spatial Info'!E$231:E$575) -> 11 | AE14: =LOOKUP($D14,'Design Component Spatial Info'!$C$231:$C$575,'Design Component Spatial Info'!M$231:M$575) -> 367759.3 | AF14: =LOOKUP($D14,'Design Component Spatial Info'!$C$231:$C$575,'Design Component Spatial Info'!N$231:N$575) -> 5444642 | AG14: =IF(V14="",0,SIN(RADIANS(VALUE(V14)))*VALUE(W14)+AE14) -> 0 | AH14: =IF(V14="",0,COS(RADIANS(VALUE(V14)))*VALUE(W14)+AF14) -> 0 | AI14: =LOOKUP($D14,'Design Component Spatial Info'!$C$231:$C$575,'Design Component Spatial Info'!O$231:O$575) -> 1524068 | AJ14: =LOOKUP($D14,'Design Component Spatial Info'!$C$231:$C$575,'Design Component Spatial Info'!P$231:P$575) -> 484850 | AM14: 0.225571 | AN14: =IF(AM14<0.05,"VL",IF(AM14<0.16,"L","M")) -> M
A15: Patch Monitoring | B15: Boundary | C15: RA | D15: 004-1-3 | E15: =LEFT(D15,5) -> 004-1 | F15: 41773 | G15: Les Gyug | H15: Patch CPB | I15: 0.38263889 | J15: 1 | K15: Walk | L15: 14 | M15: 1 | N15: 1 | O15: N | P15: NULL | R15: 0 | AD15: =LOOKUP($D15,'Design Component Spatial Info'!$C$231:$C$575,'Design Component Spatial Info'!E$231:E$575) -> 11 | AE15: =LOOKUP($D15,'Design Component Spatial Info'!$C$231:$C$575,'Design Component Spatial Info'!M$231:M$575) -> 368451.97 | AF15: =LOOKUP($D15,'Design Component Spatial Info'!$C$231:$C$575,'Design Component Spatial Info'!N$231:N$575) -> 5443747.4 | AG15: =IF(V15="",0,SIN(RADIANS(VALUE(V15)))*VALUE(W15)+AE15) -> 0 | AH15: =IF(V15="",0,COS(RADIANS(VALUE(V15)))*VALUE(W15)+AF15) -> 0 | AI15: =LOOKUP($D15,'Design Component Spatial Info'!$C$231:$C$575,'Design Component Spatial Info'!O$231:O$575) -> 1524868 | AJ15: =LOOKUP($D15,'Design Component Spatial Info'!$C$231:$C$575,'Design Component Spatial Info'!P$231:P$575) -> 484050 | AM15: 0.321735 | AN15: =IF(AM15<0.05,"VL",IF(AM15<0.16,"L","M")) -> M
A16: Patch Monitoring | B16: Boundary | C16: RA | D16: 004-1-4 | E16: =LEFT(D16,5) -> 004-1 | F16: 41773 | G16: Les Gyug | H16: Patch CPB | I16: 0.425 | J16: 1 | K16: Walk | L16: 16 | M16: 0 | N16: 2 | O16: N | P16: B-WISA | Q16: 90 | R16: 1 | S16: U | T16: C | U16: CA | V16: 110 | W16: 350 | X16: AD | Y16: TE | AA16: WB579 | AD16: =LOOKUP($D16,'Design Component Spatial Info'!$C$231:$C$575,'Design Component Spatial Info'!E$231:E$575) -> 11 | AE16: =LOOKUP($D16,'Design Component Spatial Info'!$C$231:$C$575,'Design Component Spatial Info'!M$231:M$575) -> 368551.99 | AF16: =LOOKUP($D16,'Design Component Spatial Info'!$C$231:$C$575,'Design Component Spatial Info'!N$231:N$575) -> 5444541.8 | AG16: =IF(V16="",0,SIN(RADIANS(VALUE(V16)))*VALUE(W16)+AE16) -> 368880.88 | AH16: =IF(V16="",0,COS(RADIANS(VALUE(V16)))*VALUE(W16)+AF16) -> 5444422.1 | AI16: =LOOKUP($D16,'Design Component Spatial Info'!$C$231:$C$575,'Design Component Spatial Info'!O$231:O$575) -> 1524868 | AJ16: =LOOKUP($D16,'Design Component Spatial Info'!$C$231:$C$575,'Design Component Spatial Info'!P$231:P$575) -> 484850 | AK16: 1525209.7 | AL16: 484772.54 | AM16: 0.045219 | AN16: =IF(AM16<0.05,"VL",IF(AM16<0.16,"L","M")) -> VL
A17: Patch Monitoring | B17: Boundary | C17: RA | D17: 005-1-1 | E17: =LEFT(D17,5) -> 005-1 | F17: 41765 | G17: Les Gyug | H17: Patch CPB | I17: 0.58125 | J17: 1 | K17: Walk | L17: 12 | M17: 1 | N17: 3 | O17: N | P17: NULL | R17: 0 | AD17: =LOOKUP($D17,'Design Component Spatial Info'!$C$231:$C$575,'Design Component Spatial Info'!E$231:E$575) -> 11 | AE17: =LOOKUP($D17,'Design Component Spatial Info'!$C$231:$C$575,'Design Component Spatial Info'!M$231:M$575) -> 373400.3 | AF17: =LOOKUP($D17,'Design Component Spatial Info'!$C$231:$C$575,'Design Component Spatial Info'!N$231:N$575) -> 5438279.4 | AG17: =IF(V17="",0,SIN(RADIANS(VALUE(V17)))*VALUE(W17)+AE17) -> 0 | AH17: =IF(V17="",0,COS(RADIANS(VALUE(V17)))*VALUE(W17)+AF17) -> 0 | AI17: =LOOKUP($D17,'Design Component Spatial Info'!$C$231:$C$575,'Design Component Spatial Info'!O$231:O$575) -> 1530468 | AJ17: =LOOKUP($D17,'Design Component Spatial Info'!$C$231:$C$575,'Design Component Spatial Info'!P$231:P$575) -> 479250 | AM17: 0.391255 | AN17: =IF(AM17<0.05,"VL",IF(AM17<0.16,"L","M")) -> M
A18: Patch Monitoring | B18: Boundary | C18: RA | D18: 005-1-2 | E18: =LEFT(D18,5) -> 005-1 | F18: 41765 | G18: Les Gyug | H18: Patch CPB | I18: 0.57361111 | J18: 1 | K18: Road | L18: 10 | M18: 2 | N18: 4 | O18: N | P18: NULL | R18: 0 | AD18: =LOOKUP($D18,'Design Component Spatial Info'!$C$231:$C$575,'Design Component Spatial Info'!E$231:E$575) -> 11 | AE18: =LOOKUP($D18,'Design Component Spatial Info'!$C$231:$C$575,'Design Component Spatial Info'!M$231:M$575) -> 373500.35 | AF18: =LOOKUP($D18,'Design Component Spatial Info'!$C$231:$C$575,'Design Component Spatial Info'!N$231:N$575) -> 5439073.9 | AG18: =IF(V18="",0,SIN(RADIANS(VALUE(V18)))*VALUE(W18)+AE18) -> 0 | AH18: =IF(V18="",0,COS(RADIANS(VALUE(V18)))*VALUE(W18)+AF18) -> 0 | AI18: =LOOKUP($D18,'Design Component Spatial Info'!$C$231:$C$575,'Design Component Spatial Info'!O$231:O$575) -> 1530468 | AJ18: =LOOKUP($D18,'Design Component Spatial Info'!$C$231:$C$575,'Design Component Spatial Info'!P$231:P$575) -> 480050 | AM18: 0.1489 | AN18: =IF(AM18<0.05,"VL",IF(AM18<0.16,"L","M")) -> L
A19: Patch Monitoring | B19: Boundary | C19: RA | D19: 005-1-3 | E19: =LEFT(D19,5) -> 005-1 | F19: 41765 | G19: Les Gyug | H19: Patch CPB | I19: 0.60347222 | J19: 1 | K19: Walk | L19: 12 | M19: 2 | N19: 2 | O19: N | P19: NULL | R19: 0 | AD19: =LOOKUP($D19,'Design Component Spatial Info'!$C$231:$C$575,'Design Component Spatial Info'!E$231:E$575) -> 11 | AE19: =LOOKUP($D19,'Design Component Spatial Info'!$C$231:$C$575,'Design Component Spatial Info'!M$231:M$575) -> 374192.91 | AF19: =LOOKUP($D19,'Design Component Spatial Info'!$C$231:$C$575,'Design Component Spatial Info'!N$231:N$575) -> 5438179.2 | AG19: =IF(V19="",0,SIN(RADIANS(VALUE(V19)))*VALUE(W19)+AE19) -> 0 | AH19: =IF(V19="",0,COS(RADIANS(VALUE(V19)))*VALUE(W19)+AF19) -> 0 | AI19: =LOOKUP($D19,'Design Component Spatial Info'!$C$231:$C$575,'Design Component Spatial Info'!O$231:O$575) -> 1531268 | AJ19: =LOOKUP($D19,'Design Component Spatial Info'!$C$231:$C$575,'Design Component Spatial Info'!P$231:P$575) -> 479250 | AM19: 0.050169 | AN19: =IF(AM19<0.05,"VL",IF(AM19<0.16,"L","M")) -> L
A20: Patch Monitoring | B20: Boundary | C20: RA | D20: 005-1-4 | E20: =LEFT(D20,5) -> 005-1 | F20: 41765 | G20: Les Gyug | H20: Patch CPB | I20: 0.61875 | J20: 1 | K20: Walk | L20: 12 | M20: 1 | N20: 2 | O20: N | P20: NULL | R20: 0 | AD20: =LOOKUP($D20,'Design Component Spatial Info'!$C$231:$C$575,'Design Component Spatial Info'!E$231:E$575) -> 11 | AE20: =LOOKUP($D20,'Design Component Spatial Info'!$C$231:$C$575,'Design Component Spatial Info'!M$231:M$575) -> 374292.97 | AF20: =LOOKUP($D20,'Design Component Spatial Info'!$C$231:$C$575,'Design Component Spatial Info'!N$231:N$575) -> 5438973.7 | AG20: =IF(V20="",0,SIN(RADIANS(VALUE(V20)))*VALUE(W20)+AE20) -> 0 | AH20: =IF(V20="",0,COS(RADIANS(VALUE(V20)))*VALUE(W20)+AF20) -> 0 | AI20: =LOOKUP($D20,'Design Component Spatial Info'!$C$231:$C$575,'Design Component Spatial Info'!O$231:O$575) -> 1531268 | AJ20: =LOOKUP($D20,'Design Component Spatial Info'!$C$231:$C$575,'Design Component Spatial Info'!P$231:P$575) -> 480050 | AM20: 0.080659 | AN20: =IF(AM20<0.05,"VL",IF(AM20<0.16,"L","M")) -> L
A21: Patch Monitoring | B21: Boundary | C21: RA | D21: 006-1-1 | E21: =LEFT(D21,5) -> 006-1 | F21: 41753 | G21: Les Gyug | H21: Patch CPB | I21: 0.54444444 | J21: 1 | K21: Walk | L21: 6 | M21: 0 | N21: 4 | O21: N | P21: NULL | R21: 0 | AD21: =LOOKUP($D21,'Design Component Spatial Info'!$C$231:$C$575,'Design Component Spatial Info'!E$231:E$575) -> 11 | AE21: =LOOKUP($D21,'Design Component Spatial Info'!$C$231:$C$575,'Design Component Spatial Info'!M$231:M$575) -> 370422.32 | AF21: =LOOKUP($D21,'Design Component Spatial Info'!$C$231:$C$575,'Design Component Spatial Info'!N$231:N$575) -> 5433812.9 | AG21: =IF(V21="",0,SIN(RADIANS(VALUE(V21)))*VALUE(W21)+AE21) -> 0 | AH21: =IF(V21="",0,COS(RADIANS(VALUE(V21)))*VALUE(W21)+AF21) -> 0 | AI21: =LOOKUP($D21,'Design Component Spatial Info'!$C$231:$C$575,'Design Component Spatial Info'!O$231:O$575) -> 1528068 | AJ21: =LOOKUP($D21,'Design Component Spatial Info'!$C$231:$C$575,'Design Component Spatial Info'!P$231:P$575) -> 474450 | AM21: 0.123695 | AN21: =IF(AM21<0.05,"VL",IF(AM21<0.16,"L","M")) -> L
A22: Patch Monitoring | B22: Boundary | C22: RA | D22: 006-1-2 | E22: =LEFT(D22,5) -> 006-1 | F22: 41753 | G22: Les Gyug | H22: Patch CPB | I22: 0.5625 | J22: 1 | K22: Walk | L22: 6 | M22: 0 | N22: 4 | O22: N | P22: NULL | R22: 0 | AD22: =LOOKUP($D22,'Design Component Spatial Info'!$C$231:$C$575,'Design Component Spatial Info'!E$231:E$575) -> 11 | AE22: =LOOKUP($D22,'Design Component Spatial Info'!$C$231:$C$575,'Design Component Spatial Info'!M$231:M$575) -> 370522.33 | AF22: =LOOKUP($D22,'Design Component Spatial Info'!$C$231:$C$575,'Design Component Spatial Info'!N$231:N$575) -> 5434607.4 | AG22: =IF(V22="",0,SIN(RADIANS(VALUE(V22)))*VALUE(W22)+AE22) -> 0 | AH22: =IF(V22="",0,COS(RADIANS(VALUE(V22)))*VALUE(W22)+AF22) -> 0 | AI22: =LOOKUP($D22,'Design Component Spatial Info'!$C$231:$C$575,'Design Component Spatial Info'!O$231:O$575) -> 1528068 | AJ22: =LOOKUP($D22,'Design Component Spatial Info'!$C$231:$C$575,'Design Component Spatial Info'!P$231:P$575) -> 475250 | AM22: 0.092341 | AN22: =IF(AM22<0.05,"VL",IF(AM22<0.16,"L","M")) -> L
A23: Patch Monitoring | B23: Boundary | C23: RA | D23: 006-1-3 | E23: =LEFT(D23,5) -> 006-1 | F23: 41753 | G23: Les Gyug | H23: Patch CPB | I23: 0.53402778 | J23: 1 | K23: Walk | L23: 6 | M23: 0 | N23: 4 | O23: N | P23: NULL | R23: 0 | AD23: =LOOKUP($D23,'Design Component Spatial Info'!$C$231:$C$575,'Design Component Spatial Info'!E$231:E$575) -> 11 | AE23: =LOOKUP($D23,'Design Component Spatial Info'!$C$231:$C$575,'Design Component Spatial Info'!M$231:M$575) -> 371214.9 | AF23: =LOOKUP($D23,'Design Component Spatial Info'!$C$231:$C$575,'Design Component Spatial Info'!N$231:N$575) -> 5433712.7 | AG23: =IF(V23="",0,SIN(RADIANS(VALUE(V23)))*VALUE(W23)+AE23) -> 0 | AH23: =IF(V23="",0,COS(RADIANS(VALUE(V23)))*VALUE(W23)+AF23) -> 0 | AI23: =LOOKUP($D23,'Design Component Spatial Info'!$C$231:$C$575,'Design Component Spatial Info'!O$231:O$575) -> 1528868 | AJ23: =LOOKUP($D23,'Design Component Spatial Info'!$C$231:$C$575,'Design Component Spatial Info'!P$231:P$575) -> 474450 | AM23: 0.093006 | AN23: =IF(AM23<0.05,"VL",IF(AM23<0.16,"L","M")) -> L
A24: Patch Monitoring | B24: Boundary | C24: RA | D24: 006-1-4 | E24: =LEFT(D24,5) -> 006-1 | F24: 41753 | G24: Les Gyug | H24: Patch CPB | I24: 0.57430556 | J24: 1 | K24: Walk | L24: 6 | M24: 0 | N24: 4 | O24: N | P24: NULL | R24: 0 | AD24: =LOOKUP($D24,'Design Component Spatial Info'!$C$231:$C$575,'Design Component Spatial Info'!E$231:E$575) -> 11 | AE24: =LOOKUP($D24,'Design Component Spatial Info'!$C$231:$C$575,'Design Component Spatial Info'!M$231:M$575) -> 371314.92 | AF24: =LOOKUP($D24,'Design Component Spatial Info'!$C$231:$C$575,'Design Component Spatial Info'!N$231:N$575) -> 5434507.3 | AG24: =IF(V24="",0,SIN(RADIANS(VALUE(V24)))*VALUE(W24)+AE24) -> 0 | AH24: =IF(V24="",0,COS(RADIANS(VALUE(V24)))*VALUE(W24)+AF24) -> 0 | AI24: =LOOKUP($D24,'Design Component Spatial Info'!$C$231:$C$575,'Design Component Spatial Info'!O$231:O$575) -> 1528868 | AJ24: =LOOKUP($D24,'Design Component Spatial Info'!$C$231:$C$575,'Design Component Spatial Info'!P$231:P$575) -> 475250 | AM24: 0.141809 | AN24: =IF(AM24<0.05,"VL",IF(AM24<0.16,"L","M")) -> L
A25: Patch Monitoring | B25: Boundary | C25: RA | D25: 007-1-1 | E25: =LEFT(D25,5) -> 007-1 | F25: 41752 | G25: Philip Gyug | H25: Patch CPB | I25: 0.53402778 | J25: 1 | K25: Walk | L25: 5 | M25: 0 | N25: 3 | O25: N | P25: B-WISA | Q25: 192 | R25: 1 | S25: U | T25: DC | U25: DR | V25: 290 | W25: 150 | X25: AD | Y25: TE | AA25: WB539 | AD25: =LOOKUP($D25,'Design Component Spatial Info'!$C$231:$C$575,'Design Component Spatial Info'!E$231:E$575) -> 11 | AE25: =LOOKUP($D25,'Design Component Spatial Info'!$C$231:$C$575,'Design Component Spatial Info'!M$231:M$575) -> 363588.77 | AF25: =LOOKUP($D25,'Design Component Spatial Info'!$C$231:$C$575,'Design Component Spatial Info'!N$231:N$575) -> 5437097.7 | AG25: =IF(V25="",0,SIN(RADIANS(VALUE(V25)))*VALUE(W25)+AE25) -> 363447.81 | AH25: =IF(V25="",0,COS(RADIANS(VALUE(V25)))*VALUE(W25)+AF25) -> 5437149 | AI25: =LOOKUP($D25,'Design Component Spatial Info'!$C$231:$C$575,'Design Component Spatial Info'!O$231:O$575) -> 1520868 | AJ25: =LOOKUP($D25,'Design Component Spatial Info'!$C$231:$C$575,'Design Component Spatial Info'!P$231:P$575) -> 476850 | AK25: 1520721.6 | AL25: 476883.21 | AM25: 0.290428 | AN25: =IF(AM25<0.05,"VL",IF(AM25<0.16,"L","M")) -> M
A26: Patch Monitoring | B26: Boundary | C26: RA | D26: 007-1-2 | E26: =LEFT(D26,5) -> 007-1 | F26: 41752 | G26: Philip Gyug | H26: Patch CPB | I26: 0.55138889 | J26: 1 | K26: Walk | L26: 5 | M26: 1 | N26: 3 | O26: N | P26: NULL | R26: 0 | AD26: =LOOKUP($D26,'Design Component Spatial Info'!$C$231:$C$575,'Design Component Spatial Info'!E$231:E$575) -> 11 | AE26: =LOOKUP($D26,'Design Component Spatial Info'!$C$231:$C$575,'Design Component Spatial Info'!M$231:M$575) -> 364381.41 | AF26: =LOOKUP($D26,'Design Component Spatial Info'!$C$231:$C$575,'Design Component Spatial Info'!N$231:N$575) -> 5436997.6 | AG26: =IF(V26="",0,SIN(RADIANS(VALUE(V26)))*VALUE(W26)+AE26) -> 0 | AH26: =IF(V26="",0,COS(RADIANS(VALUE(V26)))*VALUE(W26)+AF26) -> 0 | AI26: =LOOKUP($D26,'Design Component Spatial Info'!$C$231:$C$575,'Design Component Spatial Info'!O$231:O$575) -> 1521668 | AJ26: =LOOKUP($D26,'Design Component Spatial Info'!$C$231:$C$575,'Design Component Spatial Info'!P$231:P$575) -> 476850 | AM26: 0.260074 | AN26: =IF(AM26<0.05,"VL",IF(AM26<0.16,"L","M")) -> M
A27: Patch Monitoring | B27: Boundary | C27: RA | D27: 007-1-4 | E27: =LEFT(D27,5) -> 007-1 | F27: 41752 | G27: Les Gyug | H27: Patch CPB | I27: 0.54097222 | J27: 1 | K27: Walk | L27: 5 | M27: 1 | N27: 3 | O27: N | P27: B-WISA | Q27: 0 | R27: 1 | S27: U | T27: DC | U27: DR | V27: 330 | W27: 75 | X27: AD | Y27: TE | AA27: WB540 | AB27: POSSIBLE PAIR | AD27: =LOOKUP($D27,'Design Component Spatial Info'!$C$231:$C$575,'Design Component Spatial Info'!E$231:E$575) -> 11 | AE27: =LOOKUP($D27,'Design Component Spatial Info'!$C$231:$C$575,'Design Component Spatial Info'!M$231:M$575) -> 365931 | AF27: =LOOKUP($D27,'Design Component Spatial Info'!$C$231:$C$575,'Design Component Spatial Info'!N$231:N$575) -> 5436975 | AG27: =IF(V27="",0,SIN(RADIANS(VALUE(V27)))*VALUE(W27)+AE27) -> 365893.5 | AH27: =IF(V27="",0,COS(RADIANS(VALUE(V27)))*VALUE(W27)+AF27) -> 5437040 | AI27: =LOOKUP($D27,'Design Component Spatial Info'!$C$231:$C$575,'Design Component Spatial Info'!O$231:O$575) -> 1523210.4 | AJ27: =LOOKUP($D27,'Design Component Spatial Info'!$C$231:$C$575,'Design Component Spatial Info'!P$231:P$575) -> 477021.61 | AK27: 1523165 | AL27: 477081.29 | AM27: 0.403481 | AN27: =IF(AM27<0.05,"VL",IF(AM27<0.16,"L","M")) -> M
A28: Patch Monitoring | B28: Boundary | C28: RA | D28: 007-1-4 | E28: =LEFT(D28,5) -> 007-1 | F28: 41752 | G28: Les Gyug | H28: Patch CPB | I28: 0.54097222 | J28: 2 | K28: Walk | L28: 5 | M28: 1 | N28: 3 | O28: N | P28: B-WISA | Q28: 85 | R28: 1 | S28: U | T28: D | U28: DR | V28: 165 | W28: 100 | X28: AD | Y28: TE | AA28: WB541 | AB28: POSSIBLE PAIR | AD28: =LOOKUP($D28,'Design Component Spatial Info'!$C$231:$C$575,'Design Component Spatial Info'!E$231:E$575) -> 11 | AE28: =LOOKUP($D28,'Design Component Spatial Info'!$C$231:$C$575,'Design Component Spatial Info'!M$231:M$575) -> 365931 | AF28: =LOOKUP($D28,'Design Component Spatial Info'!$C$231:$C$575,'Design Component Spatial Info'!N$231:N$575) -> 5436975 | AG28: =IF(V28="",0,SIN(RADIANS(VALUE(V28)))*VALUE(W28)+AE28) -> 365956.88 | AH28: =IF(V28="",0,COS(RADIANS(VALUE(V28)))*VALUE(W28)+AF28) -> 5436878.4 | AI28: =LOOKUP($D28,'Design Component Spatial Info'!$C$231:$C$575,'Design Component Spatial Info'!O$231:O$575) -> 1523210.4 | AJ28: =LOOKUP($D28,'Design Component Spatial Info'!$C$231:$C$575,'Design Component Spatial Info'!P$231:P$575) -> 477021.61 | AK28: 1523248.1 | AL28: 476929.11 | AM28: 0.403481 | AN28: =IF(AM28<0.05,"VL",IF(AM28<0.16,"L","M")) -> M
A29: Patch Monitoring | B29: Boundary | C29: RA | D29: 008-1-1 | E29: =LEFT(D29,5) -> 008-1 | F29: 41752 | G29: Philip Gyug | H29: Patch CPB | I29: 0.64791667 | J29: 1 | K29: Walk | L29: 5 | M29: 3 | N29: 3 | O29: N | P29: NULL | R29: 0 | AD29: =LOOKUP($D29,'Design Component Spatial Info'!$C$231:$C$575,'Design Component Spatial Info'!E$231:E$575) -> 11 | AE29: =LOOKUP($D29,'Design Component Spatial Info'!$C$231:$C$575,'Design Component Spatial Info'!M$231:M$575) -> 367059.26 | AF29: =LOOKUP($D29,'Design Component Spatial Info'!$C$231:$C$575,'Design Component Spatial Info'!N$231:N$575) -> 5439080.7 | AG29: =IF(V29="",0,SIN(RADIANS(VALUE(V29)))*VALUE(W29)+AE29) -> 0 | AH29: =IF(V29="",0,COS(RADIANS(VALUE(V29)))*VALUE(W29)+AF29) -> 0 | AI29: =LOOKUP($D29,'Design Component Spatial Info'!$C$231:$C$575,'Design Component Spatial Info'!O$231:O$575) -> 1524068 | AJ29: =LOOKUP($D29,'Design Component Spatial Info'!$C$231:$C$575,'Design Component Spatial Info'!P$231:P$575) -> 479250 | AM29: 0.262285 | AN29: =IF(AM29<0.05,"VL",IF(AM29<0.16,"L","M")) -> M
A30: Patch Monitoring | B30: Boundary | C30: RA | D30: 008-1-2 | E30: =LEFT(D30,5) -> 008-1 | F30: 41752 | G30: Les Gyug | H30: Patch CPB | I30: 0.64444444 | J30: 1 | K30: Walk | L30: 8 | M30: 2 | N30: 2 | O30: N | P30: B-WISA | Q30: 20 | R30: 1 | S30: M | T30: VC | U30: VI | V30: 206 | W30: 150 | X30: AD | Y30: TE | AA30: WB542 | AD30: =LOOKUP($D30,'Design Component Spatial Info'!$C$231:$C$575,'Design Component Spatial Info'!E$231:E$575) -> 11 | AE30: =LOOKUP($D30,'Design Component Spatial Info'!$C$231:$C$575,'Design Component Spatial Info'!M$231:M$575) -> 367159.25 | AF30: =LOOKUP($D30,'Design Component Spatial Info'!$C$231:$C$575,'Design Component Spatial Info'!N$231:N$575) -> 5439875.2 | AG30: =IF(V30="",0,SIN(RADIANS(VALUE(V30)))*VALUE(W30)+AE30) -> 367093.5 | AH30: =IF(V30="",0,COS(RADIANS(VALUE(V30)))*VALUE(W30)+AF30) -> 5439740.4 | AI30: =LOOKUP($D30,'Design Component Spatial Info'!$C$231:$C$575,'Design Component Spatial Info'!O$231:O$575) -> 1524068 | AJ30: =LOOKUP($D30,'Design Component Spatial Info'!$C$231:$C$575,'Design Component Spatial Info'!P$231:P$575) -> 480050 | AK30: 1524019.5 | AL30: 479908.14 | AM30: 0.388378 | AN30: =IF(AM30<0.05,"VL",IF(AM30<0.16,"L","M")) -> M
A31: Patch Monitoring | B31: Boundary | C31: RA | D31: 008-1-3 | E31: =LEFT(D31,5) -> 008-1 | F31: 41752 | G31: Philip Gyug | H31: Patch CPB | I31: 0.69583333 | J31: 1 | K31: Walk | L31: 5 | M31: 1 | N31: 3 | O31: N | P31: B-WISA | Q31: 15 | R31: 1 | S31: U | T31: D | U31: DR | V31: 150 | W31: 150 | X31: AD | Y31: TE | AA31: WB543 | AD31: =LOOKUP($D31,'Design Component Spatial Info'!$C$231:$C$575,'Design Component Spatial Info'!E$231:E$575) -> 11 | AE31: =LOOKUP($D31,'Design Component Spatial Info'!$C$231:$C$575,'Design Component Spatial Info'!M$231:M$575) -> 367851.9 | AF31: =LOOKUP($D31,'Design Component Spatial Info'!$C$231:$C$575,'Design Component Spatial Info'!N$231:N$575) -> 5438980.6 | AG31: =IF(V31="",0,SIN(RADIANS(VALUE(V31)))*VALUE(W31)+AE31) -> 367926.9 | AH31: =IF(V31="",0,COS(RADIANS(VALUE(V31)))*VALUE(W31)+AF31) -> 5438850.7 | AI31: =LOOKUP($D31,'Design Component Spatial Info'!$C$231:$C$575,'Design Component Spatial Info'!O$231:O$575) -> 1524868 | AJ31: =LOOKUP($D31,'Design Component Spatial Info'!$C$231:$C$575,'Design Component Spatial Info'!P$231:P$575) -> 479250 | AK31: 1524958.8 | AL31: 479130.64 | AM31: 0.176291 | AN31: =IF(AM31<0.05,"VL",IF(AM31<0.16,"L","M")) -> M
A32: Patch Monitoring | B32: Boundary | C32: RA | D32: 008-1-4 | E32: =LEFT(D32,5) -> 008-1 | F32: 41752 | G32: Les Gyug | H32: Patch CPB | I32: 0.70416667 | J32: 1 | K32: Walk | L32: 5 | M32: 2 | N32: 2 | O32: N | P32: B-WISA | Q32: 124 | R32: 1 | S32: U | T32: C | U32: CA | V32: 168 | W32: 300 | X32: AD | Y32: TE | AA32: WB544 | AD32: =LOOKUP($D32,'Design Component Spatial Info'!$C$231:$C$575,'Design Component Spatial Info'!E$231:E$575) -> 11 | AE32: =LOOKUP($D32,'Design Component Spatial Info'!$C$231:$C$575,'Design Component Spatial Info'!M$231:M$575) -> 367951.9 | AF32: =LOOKUP($D32,'Design Component Spatial Info'!$C$231:$C$575,'Design Component Spatial Info'!N$231:N$575) -> 5439775.1 | AG32: =IF(V32="",0,SIN(RADIANS(VALUE(V32)))*VALUE(W32)+AE32) -> 368014.28 | AH32: =IF(V32="",0,COS(RADIANS(VALUE(V32)))*VALUE(W32)+AF32) -> 5439481.7 | AI32: =LOOKUP($D32,'Design Component Spatial Info'!$C$231:$C$575,'Design Component Spatial Info'!O$231:O$575) -> 1524868 | AJ32: =LOOKUP($D32,'Design Component Spatial Info'!$C$231:$C$575,'Design Component Spatial Info'!P$231:P$575) -> 480050 | AK32: 1524966.7 | AL32: 479766.96 | AM32: 0.162482 | AN32: =IF(AM32<0.05,"VL",IF(AM32<0.16,"L","M")) -> M
A33: Patch Monitoring | B33: Boundary | C33: RA | D33: 009-1-1 | E33: =LEFT(D33,5) -> 009-1 | F33: 41753 | G33: Les Gyug | H33: Patch CPB | I33: 0.41527778 | J33: 1 | K33: Walk | L33: 1 | M33: 0 | N33: 4 | O33: M | P33: NULL | R33: 0 | V33: 50 | W33: 425 | AD33: =LOOKUP($D33,'Design Component Spatial Info'!$C$231:$C$575,'Design Component Spatial Info'!E$231:E$575) -> 11 | AE33: =LOOKUP($D33,'Design Component Spatial Info'!$C$231:$C$575,'Design Component Spatial Info'!M$231:M$575) -> 370029.77 | AF33: =LOOKUP($D33,'Design Component Spatial Info'!$C$231:$C$575,'Design Component Spatial Info'!N$231:N$575) -> 5437091.1 | AG33: =IF(V33="",0,SIN(RADIANS(VALUE(V33)))*VALUE(W33)+AE33) -> 370355.34 | AH33: =IF(V33="",0,COS(RADIANS(VALUE(V33)))*VALUE(W33)+AF33) -> 5437364.3 | AI33: =LOOKUP($D33,'Design Component Spatial Info'!$C$231:$C$575,'Design Component Spatial Info'!O$231:O$575) -> 1527268 | AJ33: =LOOKUP($D33,'Design Component Spatial Info'!$C$231:$C$575,'Design Component Spatial Info'!P$231:P$575) -> 477650 | AM33: 0.198449 | AN33: =IF(AM33<0.05,"VL",IF(AM33<0.16,"L","M")) -> M
A34: Patch Monitoring | B34: Boundary | C34: RA | D34: 009-1-2 | E34: =LEFT(D34,5) -> 009-1 | F34: 41753 | G34: Les Gyug | H34: Patch CPB | I34: 0.43472222 | J34: 1 | K34: Walk | L34: 2 | M34: 0 | N34: 4 | O34: N | P34: NULL | R34: 0 | AD34: =LOOKUP($D34,'Design Component Spatial Info'!$C$231:$C$575,'Design Component Spatial Info'!E$231:E$575) -> 11 | AE34: =LOOKUP($D34,'Design Component Spatial Info'!$C$231:$C$575,'Design Component Spatial Info'!M$231:M$575) -> 370129.79 | AF34: =LOOKUP($D34,'Design Component Spatial Info'!$C$231:$C$575,'Design Component Spatial Info'!N$231:N$575) -> 5437885.6 | AG34: =IF(V34="",0,SIN(RADIANS(VALUE(V34)))*VALUE(W34)+AE34) -> 0 | AH34: =IF(V34="",0,COS(RADIANS(VALUE(V34)))*VALUE(W34)+AF34) -> 0 | AI34: =LOOKUP($D34,'Design Component Spatial Info'!$C$231:$C$575,'Design Component Spatial Info'!O$231:O$575) -> 1527268 | AJ34: =LOOKUP($D34,'Design Component Spatial Info'!$C$231:$C$575,'Design Component Spatial Info'!P$231:P$575) -> 478450 | AM34: 0.195571 | AN34: =IF(AM34<0.05,"VL",IF(AM34<0.16,"L","M")) -> M
A35: Patch Monitoring | B35: Boundary | C35: RA | D35: 009-1-3 | E35: =LEFT(D35,5) -> 009-1 | F35: 41753 | G35: Philip Gyug | H35: Patch CPB | I35: 0.42361111 | J35: 1 | K35: Walk | L35: 5 | M35: 0 | N35: 4 | O35: N | P35: B-WISA | Q35: 30 | R35: 1 | S35: U | T35: VDC | U35: VI | V35: 254 | W35: 100 | X35: AD | Y35: TE | AA35: WB545 | AD35: =LOOKUP($D35,'Design Component Spatial Info'!$C$231:$C$575,'Design Component Spatial Info'!E$231:E$575) -> 11 | AE35: =LOOKUP($D35,'Design Component Spatial Info'!$C$231:$C$575,'Design Component Spatial Info'!M$231:M$575) -> 370822.39 | AF35: =LOOKUP($D35,'Design Component Spatial Info'!$C$231:$C$575,'Design Component Spatial Info'!N$231:N$575) -> 5436991 | AG35: =IF(V35="",0,SIN(RADIANS(VALUE(V35)))*VALUE(W35)+AE35) -> 370726.26 | AH35: =IF(V35="",0,COS(RADIANS(VALUE(V35)))*VALUE(W35)+AF35) -> 5436963.4 | AI35: =LOOKUP($D35,'Design Component Spatial Info'!$C$231:$C$575,'Design Component Spatial Info'!O$231:O$575) -> 1528068 | AJ35: =LOOKUP($D35,'Design Component Spatial Info'!$C$231:$C$575,'Design Component Spatial Info'!P$231:P$575) -> 477650 | AK35: 1527975.9 | AL35: 477610.64 | AM35: 0.121749 | AN35: =IF(AM35<0.05,"VL",IF(AM35<0.16,"L","M")) -> L
A36: Patch Monitoring | B36: Boundary | C36: RA | D36: 009-1-3 | E36: =LEFT(D36,5) -> 009-1 | F36: 41753 | G36: Philip Gyug | H36: Patch CPB | I36: 0.42361111 | J36: 2 | K36: Walk | L36: 5 | M36: 0 | N36: 4 | O36: N | P36: B-WISA | Q36: 30 | R36: 1 | S36: U | T36: VC | U36: VI | V36: 254 | W36: 30 | X36: AD | Y36: TE | AA36: WB546 | AD36: =LOOKUP($D36,'Design Component Spatial Info'!$C$231:$C$575,'Design Component Spatial Info'!E$231:E$575) -> 11 | AE36: =LOOKUP($D36,'Design Component Spatial Info'!$C$231:$C$575,'Design Component Spatial Info'!M$231:M$575) -> 370822.39 | AF36: =LOOKUP($D36,'Design Component Spatial Info'!$C$231:$C$575,'Design Component Spatial Info'!N$231:N$575) -> 5436991 | AG36: =IF(V36="",0,SIN(RADIANS(VALUE(V36)))*VALUE(W36)+AE36) -> 370793.55 | AH36: =IF(V36="",0,COS(RADIANS(VALUE(V36)))*VALUE(W36)+AF36) -> 5436982.7 | AI36: =LOOKUP($D36,'Design Component Spatial Info'!$C$231:$C$575,'Design Component Spatial Info'!O$231:O$575) -> 1528068 | AJ36: =LOOKUP($D36,'Design Component Spatial Info'!$C$231:$C$575,'Design Component Spatial Info'!P$231:P$575) -> 477650 | AK36: 1528040.4 | AL36: 477638.19 | AM36: 0.121749 | AN36: =IF(AM36<0.05,"VL",IF(AM36<0.16,"L","M")) -> L
A37: Patch Monitoring | B37: Boundary | C37: RA | D37: 009-1-4 | E37: =LEFT(D37,5) -> 009-1 | F37: 41753 | G37: Les Gyug | H37: Patch CPB | I37: 0.39097222 | J37: 1 | K37: Road | L37: 4 | M37: 0 | N37: 4 | O37: N | P37: NULL | R37: 0 | AD37: =LOOKUP($D37,'Design Component Spatial Info'!$C$231:$C$575,'Design Component Spatial Info'!E$231:E$575) -> 11 | AE37: =LOOKUP($D37,'Design Component Spatial Info'!$C$231:$C$575,'Design Component Spatial Info'!M$231:M$575) -> 370922.41 | AF37: =LOOKUP($D37,'Design Component Spatial Info'!$C$231:$C$575,'Design Component Spatial Info'!N$231:N$575) -> 5437785.5 | AG37: =IF(V37="",0,SIN(RADIANS(VALUE(V37)))*VALUE(W37)+AE37) -> 0 | AH37: =IF(V37="",0,COS(RADIANS(VALUE(V37)))*VALUE(W37)+AF37) -> 0 | AI37: =LOOKUP($D37,'Design Component Spatial Info'!$C$231:$C$575,'Design Component Spatial Info'!O$231:O$575) -> 1528068 | AJ37: =LOOKUP($D37,'Design Component Spatial Info'!$C$231:$C$575,'Design Component Spatial Info'!P$231:P$575) -> 478450 | AM37: 0.224344 | AN37: =IF(AM37<0.05,"VL",IF(AM37<0.16,"L","M")) -> M
