Workbook

Sheet Project Data
A2: Project Name | B2: WISA Monitoring West and Okanagan-Boundary 2014
A3: Project Agency | B3: Canadian Wildlife Service-Environment Canada
A4: Project Coordinator | B4: Megan Harrison/Andrea Norris
A5: Project Start Date | B5: February 2014
A6: Funding Agency Name(s) | B6: Canadian Wildlife Service-Environment Canada
A7: Funding Agency Project ID(s)
A8: BAPID
A9: MOE Region | B9: Regions 3 and 8
A11: Survey Name | B11: Survey Start Date | C11: Survey Obs - Data Field Group | D11: Survey Intensity | E11: Target Taxa | F11: Surveyors Names | G11: Survey Objectives | H11: Study Area Name | I11: Study Area Description
A12: Williamson's Sapsucker April Road Monitoring | B12: 41729 | D12: Relative Abundance | E12: B-WISA | F12: Les Gyug, Philip Gyug | G12: Long-term Relative Abundance and Trend Monitoring | H12: WISA Area of Occupancy | I12: Public Roads kept open all year by MOTH
A13: Williamson's Sapsucker Patch (not annual) Monitoring | B13: 41735 | D13: Relative Abundance | E13: B-WISA | F13: Les Gyug, Philip Gyug | G13: Long-term Relative Abundance and Trend Monitoring | H13: WISA Area of Occupancy | I13: Spatially balanced stratified random patches (1600 m x 1600 m)

Sheet Report Data
A1: File Name | B1: Report Title | C1: Abstract | D1: Author(s) | E1: Year | F1: Other Publication Information
A2: WISA 2014 Monitoring 2014 05 28.docx (or .pdf) | B2: Williamson's Sapsucker Monitoring 2014: Okanagan-Boundary and West | D2: Les Gyug | E2: 2014 | F2: Report prepared for Canadian Wildlife Service-Environment Canada
C3: Trend monitoring of the Endangered Williamson’s Sapsucker (WISA) began in 2010 and 2011 based on random call-playback (CPB) points stratified by habitat suitability in the Okanagan-Boundary and West Areas of Occupancy (AO). Detectability on these late May and June surveys was on the order of 50%. Detectability was thought to be much higher, making for more efficient sampling, when WISA establish breeding territories in April. However, sampling is difficult in April because many roads are still snowbound. In 2012, CPB points were established at 800-m spacing on all public roads kept open all year. All 213 of these points within 300 m of Low or better suitability habitat were sampled twice each in April in 2012, 2013 and 2014. To determine if these road points were representative of the AOs at large, in 2014 the AOs were divided into 800- x 800-m cells, adjacent cells were aggregated by fours into 2.56 km2 patches, and 20% of these patches selected for CPB sampling as early as possible in the WISA breeding season of 2014.
C4: Relative abundance from the road monitoring of 213 CPB pts has not changed over the 2012-2014 period but relative abundance did vary by date of the survey within April requiring adjustment by date for this road monitoring. It is recommended to continue one sampling round of 229 Road Monitoring Points, preferably in the first week of April each year. After the sampling round of 2015, trend analyses will be possible as there will then be >3 sampling years.
C5: The relative abundance stratified by Low or Moderate habitat suitability in 2014 patch monitoring was not significantly different from the relative abundance of the road monitoring or from prior years of CPBs. Sampling patches compared to isolated single CPB points provides logistical efficiency and will better allow future correlation of possible relative abundance changes with habitat changes. Patch monitoring need not be annual given the similar results to the road monitoring points and the relatively low cost of the road monitoring, which can be completed with 5 person-days effort.
C6: Habitat changes since the habitat mapping of 2009-2010 and that may affect WISA habitat suitability were noted at 24% of the patches and road monitoring points in the West AO and about 5% in the Okanagan-Boundary AO. Updated habitat suitability mapping will not likely be feasible until there are new aerial photo surveys of these areas since these habitat changes have taken place since the most recent aerial photo coverages of 2004-2005.

Sheet Design Component Spatial Info
A1: Study Area Name | B1: DC Type | C1: Design Component Label | D1: Patch | E1: DC UTM Zone | F1: DC UTM Easting | G1: DC UTM Northing | H1: DC Comments | I1: Albers Easting | J1: Albers Northing | K1: Maximum Suitability within 300 m | L1: Average Suitability within 300 m | M1: New UTM E | N1: New UTM N | O1: New Albers E | P1: New Albers N | Q1: Reason | R1: Habitat Change?
A2: Okanagan-Boundary | B2: RM CPB | C2: RM-K001 | E2: 11 | F2: 323399.83 | G2: 5447801.2 | I2: 1479609 | J2: 482439 | K2: 4 | L2: 0
A3: Okanagan-Boundary | B3: RM CPB | C3: RM-K002 | E3: 11 | F3: 323839.04 | G3: 5447168.9 | I3: 1480124 | J3: 481867 | K3: 4 | L3: 0.08
A4: Okanagan-Boundary | B4: RM CPB | C4: RM-K003 | D4: 037-3 | E4: 11 | F4: 324362.21 | G4: 5446684.4 | I4: 1480704 | J4: 481452 | K4: 4 | L4: 0.12
A5: Okanagan-Boundary | B5: RM CPB | C5: RM-K004 | D5: 037-3 | E5: 11 | F5: 325097.12 | G5: 5446612.1 | I5: 1481443 | J5: 481472 | K5: 3 | L5: 0.16
A6: Okanagan-Boundary | B6: RM CPB | C6: RM-K005 | D6: 037-4 | E6: 11 | F6: 325796.4 | G6: 5446223.5 | I6: 1482186 | J6: 481174 | K6: 3 | L6: 0.14
A7: Okanagan-Boundary | B7: RM CPB | C7: RM-K006 | D7: 037-4 | E7: 11 | F7: 326222.83 | G7: 5445609.9 | I7: 1482686 | J7: 480619 | K7: 3 | L7: 0.22
A8: Okanagan-Boundary | B8: RM CPB | C8: RM-K007 | D8: 037-5 | E8: 11 | F8: 326462.37 | G8: 5444927 | I8: 1483009 | J8: 479972 | K8: 3 | L8: 0.12
A9: Okanagan-Boundary | B9: RM CPB | C9: RM-K008 | D9: 037-5 | E9: 11 | F9: 327034.61 | G9: 5444496.8 | I9: 1483631 | J9: 479617 | K9: 4 | L9: 0.06
A10: Okanagan-Boundary | B10: RM CPB | C10: RM-K009 | D10: 037-1 | E10: 11 | F10: 327598.96 | G10: 5443955.7 | I10: 1484259 | J10: 479151 | K10: 4 | L10: 0.06
A11: Okanagan-Boundary | B11: RM CPB | C11: RM-K010 | D11: 037-1 | E11: 11 | F11: 328348.97 | G11: 5443723.1 | I11: 1485033 | J11: 479014 | K11: 3 | L11: 0.17
A12: Okanagan-Boundary | B12: RM CPB | C12: RM-K011 | D12: 036-1 | E12: 11 | F12: 328676.55 | G12: 5443188.5 | I12: 1485425 | J12: 478525 | K12: 4 | L12: 0.04
A13: Okanagan-Boundary | B13: RM CPB | C13: RM-K012 | D13: 036-1 | E13: 11 | F13: 329223.14 | G13: 5442610.2 | I13: 1486040 | J13: 478020 | K13: 4 | L13: 0.04
A14: Okanagan-Boundary | B14: RM CPB | C14: RM-K013 | D14: 036-1 | E14: 11 | F14: 329856.69 | G14: 5442211.6 | I14: 1486719 | J14: 477704 | K14: 3 | L14: 0.15
A15: Okanagan-Boundary | B15: RM CPB | C15: RM-K014 | D15: 036-5 | E15: 11 | F15: 330576.39 | G15: 5441898.1 | I15: 1487473 | J15: 477483 | K15: 4 | L15: 0.08
... A17: Okanagan-Boundary | B17: RM CPB | C17: RM-K016 | D17: 538 | E17: 11 | F17: 332000.3 | G17: 5441645.2 | I17: 1488919 | J17: 477410 | K17: 4 | L17: 0.05
A18: Okanagan-Boundary | B18: RM CPB | C18: RM-K017B | D18: 025-1 | E18: 11 | F18: 341061.88 | G18: 5441614.7 | H18: Boundary | I18: 1497924.6 | J18: 478510.69 | K18: 4 | L18: 0.05
A19: Okanagan-Boundary | B19: RM CPB | C19: RM-K018B | D19: 025-4 | E19: 11 | F19: 341787.6 | G19: 5441197.2 | H19: Boundary | I19: 1498697.6 | J19: 478187.52 | K19: 3 | L19: 0.06
A20: Okanagan-Boundary | B20: RM CPB | C20: RM-K019B | D20: 025-4 | E20: 11 | F20: 342529.4 | G20: 5440916.4 | H20: Boundary | I20: 1499469.5 | J20: 478001.85 | K20: 3 | L20: 0.1
A21: Okanagan-Boundary | B21: RM CPB | C21: RM-K020B | D21: 024-5 | E21: 11 | F21: 343413.72 | G21: 5441830.6 | H21: Boundary | I21: 1500234 | J21: 479018.39 | K21: 4 | L21: 0.12
A22: Okanagan-Boundary | B22: RM CPB | C22: RM-K021B | D22: 024-1 | E22: 11 | F22: 343019.79 | G22: 5440309.4 | H22: Boundary | I22: 1500032.4 | J22: 477461.53 | K22: 3 | L22: 0.17
A23: Okanagan-Boundary | B23: RM CPB | C23: RM-K022B | D23: 023-3 | E23: 11 | F23: 343272.83 | G23: 5439562.3 | H23: Boundary | I23: 1500377 | J23: 476752.62 | K23: 3 | L23: 0.15
A24: Okanagan-Boundary | B24: RM CPB | C24: RM-K023B | D24: 508 | E24: 11 | F24: 343652.52 | G24: 5438072.3 | H24: Boundary | I24: 1500940 | J24: 475323.29 | K24: 4 | L24: 0.03
A25: Okanagan-Boundary | B25: RM CPB | C25: RM-K024B | D25: 621 | E25: 11 | F25: 344727.7 | G25: 5435726.5 | H25: Boundary | I25: 1502300.8 | J25: 473132.69 | K25: 4 | L25: 0.04
A26: Okanagan-Boundary | B26: RM CPB | C26: RM-K025B | D26: 018-1 | E26: 11 | F26: 349376 | G26: 5435115 | H26: Boundary | I26: 1506999.6 | J26: 473106.14 | K26: 4 | L26: 0.13 | R26: New partial cut for ER
A27: Okanagan-Boundary | B27: RM CPB | C27: RM-K026B | D27: 018-1 | E27: 11 | F27: 349358.92 | G27: 5435981.4 | H27: Boundary | I27: 1506870.1 | J27: 473963.92 | K27: 4 | L27: 0.06
A28: Okanagan-Boundary | B28: RM CPB | C28: RM-K027B | D28: 019-4 | E28: 11 | F28: 349328.26 | G28: 5436777.6 | H28: Boundary | I28: 1506740.2 | J28: 474749.25 | K28: 4 | L28: 0.09
A29: Okanagan-Boundary | B29: RM CPB | C29: RM-K028B | D29: 019-4 | E29: 11 | F29: 349522.66 | G29: 5437556.6 | H29: Boundary | I29: 1506836.2 | J29: 475545.57 | K29: 4 | L29: 0.15
A30: Okanagan-Boundary | B30: RM CPB | C30: RM-K029B | D30: 019-1 | E30: 11 | F30: 349437.92 | G30: 5438390.9 | H30: Boundary | I30: 1506647.8 | J30: 476361.93 | K30: 4 | L30: 0.12
A31: Okanagan-Boundary | B31: RM CPB | C31: RM-K030B | D31: 019-1 | E31: 11 | F31: 349461.92 | G31: 5439192.3 | H31: Boundary | I31: 1506571.6 | J31: 477159.2 | K31: 4 | L31: 0.08
A32: Okanagan-Boundary | B32: RM CPB | C32: RM-K031B | D32: 018-1 | E32: 11 | F32: 349931.34 | G32: 5434576.8 | H32: Boundary | I32: 1507614.1 | J32: 472643.39 | K32: 3 | L32: 0.16 | R32: New partial cut for ER
A33: Okanagan-Boundary | B33: RM CPB | C33: RM-K032B | E33: 11 | F33: 352553.45 | G33: 5438821 | H33: Boundary | I33: 1509689.3 | J33: 477177.59 | K33: 3 | L33: 0.16
A34: Okanagan-Boundary | B34: RM CPB | C34: RM-K033B | E34: 11 | F34: 352415.02 | G34: 5439626.6 | H34: Boundary | I34: 1515339.6 | J34: 479846.3 | K34: 3 | L34: 0.35
A35: Okanagan-Boundary | B35: RM CPB | C35: RM-K034B | D35: 020-1 | E35: 11 | F35: 352287.22 | G35: 5440397.6 | H35: Boundary | I35: 1509451.2 | J35: 477958.75 | K35: 3 | L35: 0.22
A36: Okanagan-Boundary | B36: RM CPB | C36: RM-K035B | D36: 533 | E36: 11 | F36: 358385.87 | G36: 5440787.6 | H36: Boundary | I36: 1509228 | J36: 478706.99 | K36: 3 | L36: 0.11
A37: Okanagan-Boundary | B37: RM CPB | C37: RM-K036B | D37: 013-4 | E37: 11 | F37: 359270.84 | G37: 5440657.8 | H37: Boundary | I37: 1516133.4 | J37: 479838.24 | K37: 3 | L37: 0.15
A38: Okanagan-Boundary | B38: RM CPB | C38: RM-K037B | D38: 013-4 | E38: 11 | F38: 359924.16 | G38: 5440949.1 | H38: Boundary | I38: 1516746 | J38: 480208.76 | K38: 4 | L38: 0.09
A39: Okanagan-Boundary | B39: RM CPB | C39: RM-K038B | D39: 011-5 | E39: 11 | F39: 360458.18 | G39: 5441520.3 | H39: Boundary | I39: 1517205.1 | J39: 480841.71 | K39: 4 | L39: 0.04
A40: Okanagan-Boundary | B40: RM CPB | C40: RM-K039B | D40: 012-1 | E40: 11 | F40: 361117.97 | G40: 5441490.9 | H40: Boundary | I40: 1517864.3 | J40: 480895.19 | K40: 3 | L40: 0.15
A41: Okanagan-Boundary | B41: RM CPB | C41: RM-K040B | D41: 012-1 | E41: 11 | F41: 361430.82 | G41: 5442220.5 | H41: Boundary | I41: 1518083.9 | J41: 481657.46 | K41: 3 | L41: 0.26
A42: Okanagan-Boundary | B42: RM CPB | C42: RM-K041B | E42: 11 | F42: 351544.04 | G42: 5434205.2 | H42: Boundary | I42: 1509262.7 | J42: 472476.69 | K42: 4 | L42: 0.13
A43: Okanagan-Boundary | B43: RM CPB | C43: RM-K042B | D43: 018-4 | E43: 11 | F43: 350990.12 | G43: 5433663.4 | H43: Boundary | I43: 1508780 | J43: 471870.51 | K43: 3 | L43: 0.15
A44: Okanagan-Boundary | B44: RM CPB | C44: RM-K043B | D44: 018-4 | E44: 11 | F44: 350617.3 | G44: 5432983 | H44: Boundary | I44: 1508494.5 | J44: 471149.59 | K44: 3 | L44: 0.11
A45: Okanagan-Boundary | B45: RM CPB | C45: RM-K044B | E45: 11 | F45: 349567.42 | G45: 5430274.3 | H45: Boundary | I45: 1507789.4 | J45: 468333.92 | K45: 4 | L45: 0.06
A46: Okanagan-Boundary | B46: RM CPB | C46: RM-K045B | E46: 11 | F46: 348857.72 | G46: 5430390.3 | H46: Boundary | I46: 1507069.8 | J46: 468360.22 | K46: 3 | L46: 0.22
A47: Okanagan-Boundary | B47: RM CPB | C47: RM-K046B | D47: 018-5 | E47: 11 | F47: 348159.3 | G47: 5430392 | H47: Boundary | I47: 1506375.6 | J47: 468274.67 | K47: 3 | L47: 0.26
A48: Okanagan-Boundary | B48: RM CPB | C48: RM-K047B | D48: 017-4 | E48: 11 | F48: 346642.64 | G48: 5430382 | H48: Boundary | I48: 1504870 | J48: 468075.27 | K48: 3 | L48: 0.07
A49: Okanagan-Boundary | B49: RM CPB | C49: RM-K048B | D49: 016-3 | E49: 11 | F49: 345987.84 | G49: 5430285.4 | H49: Boundary | I49: 1504231.5 | J49: 467897.7 | K49: 4 | L49: 0.03
A50: Okanagan-Boundary | B50: RM CPB | C50: RM-K049B | D50: 016-3 | E50: 11 | F50: 345358.05 | G50: 5430419.6 | H50: Boundary | I50: 1503589 | J50: 467952.08 | K50: 4 | L50: 0.04
A51: Okanagan-Boundary | B51: RM CPB | C51: RM-K050B | D51: 016-3 | E51: 11 | F51: 344709.01 | G51: 5430852.3 | H51: Boundary | I51: 1502890.2 | J51: 468299.75 | K51: 3 | L51: 0.17
A52: Okanagan-Boundary | B52: RM CPB | C52: RM-K051B | D52: 016-1 | E52: 11 | F52: 344012.73 | G52: 5430811.2 | H52: Boundary | I52: 1502203.5 | J52: 468172.13 | K52: 3 | L52: 0.11
A53: Okanagan-Boundary | B53: RM CPB | C53: RM-K052B | D53: 016-1 | E53: 11 | F53: 343643.29 | G53: 5431300.4 | H53: Boundary | I53: 1501775.4 | J53: 468610.76 | K53: 3 | L53: 0.07
A54: Okanagan-Boundary | B54: RM CPB | C54: RM-K053B | D54: 016-1 | E54: 11 | F54: 343278.43 | G54: 5431956.6 | H54: Boundary | I54: 1501331.1 | J54: 469215.55 | K54: 4 | L54: 0.03
A55: Okanagan-Boundary | B55: RM CPB | C55: RM-K054B | D55: 016-4 | E55: 11 | F55: 343472.84 | G55: 5432695.8 | H55: Boundary | I55: 1501432.1 | J55: 469972.37 | K55: 4 | L55: 0.09
A56: Okanagan-Boundary | B56: RM CPB | C56: RM-K055B | D56: 585 | E56: 11 | F56: 342918.44 | G56: 5433196.3 | H56: Boundary | I56: 1500818.8 | J56: 470399.2 | K56: 4 | L56: 0.07
A57: Okanagan-Boundary | B57: RM CPB | C57: RM-K056B | E57: 11 | F57: 342290 | G57: 5433133 | H57: Boundary | I57: 1500202.6 | J57: 470257.46 | K57: 4 | L57: 0.06
A58: Okanagan-Boundary | B58: RM CPB | C58: RM-K057B | D58: 560 | E58: 11 | F58: 337246.45 | G58: 5433633.9 | H58: Boundary | I58: 1495129.1 | J58: 470124.75 | K58: 3 | L58: 0.14
A59: Okanagan-Boundary | B59: RM CPB | C59: RM-K058B | D59: 029-4 | E59: 11 | F59: 336466.68 | G59: 5434430.8 | H59: Boundary | I59: 1494255.1 | J59: 470817.22 | K59: 4 | L59: 0.05
A60: Okanagan-Boundary | B60: RM CPB | C60: RM-K059B | D60: 029-3 | E60: 11 | F60: 336387.18 | G60: 5435188.4 | H60: Boundary | I60: 1494081.7 | J60: 471558.07 | K60: 4 | L60: 0.14
A61: Okanagan-Boundary | B61: RM CPB | C61: RM-K060B | D61: 029-4 | E61: 11 | F61: 335866.18 | G61: 5433110.7 | H61: Boundary | I61: 1493823 | J61: 469433.98 | K61: 3 | L61: 0.15
A62: Okanagan-Boundary | B62: RM CPB | C62: RM-K061B | D62: 030-2 | E62: 11 | F62: 335067.61 | G62: 5433135 | H62: Boundary | I62: 1493026.6 | J62: 469358.45 | K62: 4 | L62: 0.03
A63: Okanagan-Boundary | B63: RM CPB | C63: RM-K062B | D63: 029-2 | E63: 11 | F63: 335839.03 | G63: 5432259.3 | H63: Boundary | I63: 1493902.1 | J63: 468586.86 | K63: 3 | L63: 0.06
A64: Okanagan-Boundary | B64: RM CPB | C64: RM-K063B | D64: 029-2 | E64: 11 | F64: 335819.84 | G64: 5431459.2 | H64: Boundary | I64: 1493982.8 | J64: 467791.58 | K64: 4 | L64: 0.04
A65: Okanagan-Boundary | B65: RM CPB | C65: RM-K064 | D65: 553 | E65: 11 | F65: 334933.56 | G65: 5431430.5 | I65: 1493105.8 | J65: 467652.57 | K65: 3 | L65: 0.18
A66: Okanagan-Boundary | B66: RM CPB | C66: RM-K065 | D66: 505 | E66: 11 | F66: 333224.14 | G66: 5432377.7 | I66: 1491289.4 | J66: 468378.03 | K66: 4 | L66: 0.06
A67: Okanagan-Boundary | B67: RM CPB | C67: RM-K066 | D67: 607 | E67: 11 | F67: 331535.86 | G67: 5431298.8 | I67: 1489746.5 | J67: 467098.21 | K67: 4 | L67: 0.03
A68: Okanagan-Boundary | B68: RM CPB | C68: RM-K067 | D68: 607 | E68: 11 | F68: 330518.91 | G68: 5430526.6 | I68: 1488832.3 | J68: 466206.19 | K68: 4 | L68: 0.04
A69: Okanagan-Boundary | B69: RM CPB | C69: RM-K068 | D69: 031-5 | E69: 11 | F69: 329790.01 | G69: 5430758.7 | I69: 1488079.2 | J69: 466345.32 | K69: 4 | L69: 0.1
A70: Okanagan-Boundary | B70: RM CPB | C70: RM-K069 | D70: 031-5 | E70: 11 | F70: 329086.87 | G70: 5430947.1 | I70: 1487357.2 | J70: 466444.38 | K70: 4 | L70: 0.09
A71: Okanagan-Boundary | B71: RM CPB | C71: RM-K070 | D71: 481 | E71: 11 | F71: 328489.6 | G71: 5431577 | I71: 1486685.3 | J71: 466994.14 | K71: 4 | L71: 0.06
A72: Okanagan-Boundary | B72: RM CPB | C72: RM-K071 | D72: 532 | E72: 11 | F72: 327927.25 | G72: 5432391.3 | I72: 1486025.3 | J72: 467730.92 | K72: 4 | L72: 0.03
A73: Okanagan-Boundary | B73: RM CPB | C73: RM-K072 | D73: 532 | E73: 11 | F73: 327719.2 | G73: 5433479.3 | I73: 1485683.1 | J73: 468783.23 | K73: 4 | L73: 0.05
A74: Okanagan-Boundary | B74: RM CPB | C74: RM-K073 | D74: 481 | E74: 11 | F74: 327577.59 | G74: 5431553.9 | I74: 1485782.1 | J74: 466857.5 | K74: 4 | L74: 0.03
A75: West-Merritt | B75: RM CPB | C75: RM-M001 | D75: 061-5 | E75: 10 | F75: 670895.65 | G75: 5521250.6 | I75: 1386576.1 | J75: 548375.28 | K75: 4 | L75: 0.05
A76: West-Merritt | B76: RM CPB | C76: RM-M002 | D76: 061-3 | E76: 10 | F76: 670877.64 | G76: 5520451 | I76: 1386593.4 | J76: 547575.81 | K76: 4 | L76: 0.06
... A118: West-Merritt | B118: RM CPB | C118: RM-M044 | D118: 058-4 | E118: 10 | F118: 663352.18 | G118: 5517420 | I118: 1379207 | J118: 544215.43 | K118: 3 | L118: 0.22
A119: West-Merritt | B119: RM CPB | C119: RM-M045 | D119: 058-4 | E119: 10 | F119: 663072 | G119: 5516707 | H119: Only done once on first round in 2012, and then again in 2014 | I119: 1378958.9 | J119: 543490.89
A120: West-Merritt | B120: RM CPB | C120: RM-M046 | D120: 514 | E120: 10 | F120: 669400.41 | G120: 5544174.2 | I120: 1378958.9 | J120: 543490.89 | K120: 4 | L120: 0.05
A121: West-Merritt | B121: RM CPB | C121: RM-M047 | D121: 584 | E121: 10 | F121: 668725.07 | G121: 5542891.5 | I121: 1384069.4 | J121: 571209.31 | K121: 4 | L121: 0.04
A122: West-Merritt | B122: RM CPB | C122: RM-M048 | D122: 584 | E122: 10 | F122: 668210.17 | G122: 5542305.4 | I122: 1383451.3 | J122: 569898.01 | K122: 4 | L122: 0.06
A123: West-Merritt | B123: RM CPB | C123: RM-M049 | D123: 070-5 | E123: 10 | F123: 667818.97 | G123: 5541659 | I123: 1382962.8 | J123: 569289.7 | K123: 3 | L123: 0.11
A124: West-Merritt | B124: RM CPB | C124: RM-M050 | D124: 069-4 | E124: 10 | F124: 667457.75 | G124: 5540957.2 | I124: 1382600.5 | J124: 568626.65 | K124: 3 | L124: 0.15
A125: West-Merritt | B125: RM CPB | C125: RM-M051 | D125: 070-2 | E125: 10 | F125: 666884.45 | G125: 5540435.4 | I125: 1382270.5 | J125: 567909.48 | K125: 3 | L125: 0.11
A126: West-Merritt | B126: RM CPB | C126: RM-M052 | D126: 071-4 | E126: 10 | F126: 666339.31 | G126: 5539898.9 | I126: 1381720.8 | J126: 567362.91 | K126: 3 | L126: 0.16
A127: West-Merritt | B127: RM CPB | C127: RM-M053 | D127: 071-4 | E127: 10 | F127: 665913.7 | G127: 5539299.3 | I127: 1381199.8 | J127: 566802.8 | K127: 4 | L127: 0.08
A128: West-Merritt | B128: RM CPB | C128: RM-M054 | D128: 071-2 | E128: 10 | F128: 665226.75 | G128: 5538962.3 | I128: 1380801 | J128: 566185.02 | K128: 4 | L128: 0.09
A129: West-Merritt | B129: RM CPB | C129: RM-M055 | D129: 071-5 | E129: 10 | F129: 664856.29 | G129: 5538323 | I129: 1380129.6 | J129: 565818.01 | K129: 4 | L129: 0.11
A130: West-Merritt | B130: RM CPB | C130: RM-M056 | D130: 071-3 | E130: 10 | F130: 664463.62 | G130: 5537760.7 | I130: 1379787.6 | J130: 565162.98 | K130: 4 | L130: 0.09
A131: West-Merritt | B131: RM CPB | C131: RM-M057 | D131: 071-3 | E131: 10 | F131: 664219.77 | G131: 5537031.9 | I131: 1379420.1 | J131: 564583.88 | K131: 4 | L131: 0.05
... A137: West-Merritt | B137: RM CPB | C137: RM-M063 | D137: 073-3 | E137: 10 | F137: 665657.53 | G137: 5533706.4 | I137: 1380166.9 | J137: 560310.87 | K137: 4 | L137: 0.09
A138: West-Merritt | B138: RM CPB | C138: RM-M064 | D138: 073-4 | E138: 10 | F138: 663127.04 | G138: 5534012.4 | I138: 1380791.8 | J138: 560586.24 | K138: 4 | L138: 0.04 | R138: Extensive MPB Py salvage
A139: West-Merritt | B139: RM CPB | C139: RM-M065 | D139: 074-5 | E139: 10 | F139: 662440.72 | G139: 5533671.3 | I139: 1378249.9 | J139: 560780.27 | K139: 4 | L139: 0.1 | R139: Extensive MPB Py salvage
A140: West-Merritt | B140: RM CPB | C140: RM-M066 | D140: 074-5 | E140: 10 | F140: 661731.15 | G140: 5533489.7 | I140: 1377579.2 | J140: 560409.22 | K140: 4 | L140: 0.09 | R140: Extensive MPB Py salvage
A141: West-Merritt | B141: RM CPB | C141: RM-M067 | D141: 075-5 | E141: 10 | F141: 661203.54 | G141: 5532935.4 | I141: 1376878.2 | J141: 560196.52 | K141: 3 | L141: 0.27 | R141: Extensive MPB Py salvage
A142: West-Merritt | B142: RM CPB | C142: RM-M068 | D142: 075-5 | E142: 10 | F142: 660473.91 | G142: 5532687 | I142: 1376375.5 | J142: 559619.48 | K142: 4 | L142: 0.04 | R142: Extensive MPB Py salvage
A143: West-Merritt | B143: RM CPB | C143: RM-M069 | D143: 075-5 | E143: 10 | F143: 659765.78 | G143: 5532495.7 | I143: 1375657.4 | J143: 559339.15 | K143: 4 | L143: 0.09 | R143: Extensive MPB Py salvage
A144: West-Merritt | B144: RM CPB | C144: RM-M070 | D144: 075-4 | E144: 10 | F144: 659055.66 | G144: 5532626.5 | I144: 1374958.3 | J144: 559116.73 | K144: 3 | L144: 0.11 | R144: Extensive MPB Py salvage
A145: West-Merritt | B145: RM CPB | C145: RM-M071 | D145: 078-2 | E145: 10 | F145: 654628.19 | G145: 5531025.1 | I145: 1374243 | J145: 559216.14 | K145: 4 | L145: 0.16 | R145: Extensive MPB Py salvage
A146: West-Merritt | B146: RM CPB | C146: RM-M072 | E146: 10 | F146: 656896 | G146: 5547645 | H146: Only done once on first round in 2012, and then again in 2014 | I146: 1371424.2 | J146: 574125.8
A147: West-Merritt | B147: RM CPB | C147: RM-M073 | D147: 622 | E147: 10 | F147: 656251 | G147: 5547177 | H147: Only done once on first round in 2012, and then again in 2014 | I147: 1370800.5 | J147: 573630.26
...

Sheet Logistics
A1: PATCH# | B1: HABITAT | C1: Date | D1: N CPB | E1: N WISA | F1: Late or Incid WISA | G1: Time (hrs) | H1: Time | I1: Comments | J1: PATCH# | K1: HABITAT | L1: Date | M1: N CPB | N1: N WISA | P1: Time (hrs) | R1: Comments
A2: Ok-Bdy TFL8 | J2: Princeton
A3: 001-1 | B3: L | C3: 41753 | D3: 4 | E3: 0 | G3: 0.17569444 | H3: =G3*1440/60 -> 4.2166667 | J3: 052-1 | K3: M | L3: 41736 | M3: 4 | N3: 4 | P3: 0.083333333 | Q3: =P3*1440/60 -> 2
A4: 002-1 | B4: L | C4: 41753 | D4: 4 | E4: 1 | G4: 0.085416667 | H4: =G4*1440/60 -> 2.05 | J4: 053-1 | K4: L | L4: 41736 | M4: 4 | N4: 1 | P4: 0.064583333 | Q4: =P4*1440/60 -> 1.55
A5: 003-1 | B5: L | C5: 41773 | D5: 3 | E5: 0 | G5: 0.041666667 | H5: =G5*1440/60 -> 1 | J5: 054-1 | K5: M | L5: 41736 | M5: 4 | N5: 9 | P5: 0.050694444 | Q5: =P5*1440/60 -> 1.2166667
A6: 004-1 | B6: M | C6: 41773 | D6: 4 | E6: 2 | G6: 0.069444444 | H6: =G6*1440/60 -> 1.6666667 | J6: Pike Mt
A7: 005-1 | B7: L | C7: 41765 | D7: 4 | E7: 0 | G7: 0.059027778 | H7: =G7*1440/60 -> 1.4166667 | J7: 055-1 | K7: M | L7: 41762 | M7: 4 | N7: 1 | P7: 0.039583333 | Q7: =P7*1440/60 -> 0.95 | R7: 2 people
A8: 006-1 | B8: L | C8: 41753 | D8: 4 | E8: 0 | G8: 0.053472222 | H8: =G8*1440/60 -> 1.2833333 | I8: Private-Kerr-Marshall | J8: 056-1 | K8: L | L8: 41762 | M8: 4 | N8: 0 | P8: 0.093055556 | Q8: =P8*1440/60 -> 2.2333333
A9: 007-1 | B9: M | C9: 41752 | D9: 3 | E9: 3 | F9: 1 | G9: 0.0375 | H9: =G9*1440/60 -> 0.9 | I9: Drop Pt3 2 people | J9: 057-1 | K9: L | L9: 41756 | M9: 4 | N9: 0 | P9: 0.059027778 | Q9: =P9*1440/60 -> 1.4166667 | R9: 2 people
A10: 008-1 | B10: M | C10: 41752 | D10: 4 | E10: 3 | G10: 0.0375 | H10: =G10*1440/60 -> 0.9 | I10: 2 people | J10: 058-1 | K10: M | L10: 41762 | M10: 4 | N10: 0 | P10: 0.086111111 | Q10: =P10*1440/60 -> 2.0666667
A11: 009-1 | B11: M | C11: 41753 | D11: 4 | E11: 2 | F11: 1 | G11: 0.068055556 | H11: =G11*1440/60 -> 1.6333333 | I11: 2 people | J11: Otter-Boss-Davis-Dodds-AspenGrove
A12: 010-1 | B12: M | C12: 41752 | D12: 4 | E12: 2 | G12: 0.055555556 | H12: =G12*1440/60 -> 1.3333333 | I12: 2 people | J12: 059-1 | K12: L | L12: 41736 | M12: 4 | N12: 2 | P12: 0.084722222 | Q12: =P12*1440/60 -> 2.0333333 | R12: Snowshoes
A13: 012-1 | B13: M | C13: 41752 | D13: 4 | E13: 1 | G13: 0.066666667 | H13: =G13*1440/60 -> 1.6 | I13: 2 people | J13: 062-1 | K13: L | L13: 41735 | M13: 3 | N13: 3 | P13: 0.089583333 | Q13: =P13*1440/60 -> 2.15 | R13: Only 3 Pts on Crown
A14: 013-1 | B14: M | C14: 41752 | D14: 4 | E14: 2 | G14: 0.0625 | H14: =G14*1440/60 -> 1.5 | I14: 2 people | J14: 063-1 | K14: L | L14: 41756 | M14: 3 | N14: 2 | P14: 0.036805556 | Q14: =P14*1440/60 -> 0.88333333 | R14: Only 3 Pts on Crown; snowshoes
A15: Bdy - Anarchist-Johnstone | J15: 064-1 | K15: L | L15: 41756 | M15: 4 | N15: 0 | P15: 0.039583333 | Q15: =P15*1440/60 -> 0.95 | R15: 2 people
A16: 011-1 | B16: L | C16: 41755 | D16: 4 | E16: 1 | G16: 0.077777778 | H16: =G16*1440/60 -> 1.8666667 | I16: 2 people | J16: 065-1 | K16: L | L16: 41756 | M16: 4 | N16: 3 | P16: 0.091666667 | Q16: =P16*1440/60 -> 2.2
A17: 018-1 | B17: L | C17: 41740 | D17: 4 | E17: 5 | G17: 0.038194444 | H17: =G17*1440/60 -> 0.91666667 | J17: 066-1 | K17: L | L17: 41745 | M17: 3 | N17: 0 | P17: 0.017361111 | Q17: =P17*1440/60 -> 0.41666667 | R17: Drop Pt3
A18: 019-1 | B18: M | C18: 41740 | D18: 4 | E18: 6 | G18: 0.065277778 | H18: =G18*1440/60 -> 1.5666667 | J18: 067-1 | K18: L | L18: 41735 | M18: 4 | N18: 0 | P18: 0.13055556 | Q18: =P18*1440/60 -> 3.1333333 | R18: Snowshoes
A19: 020-1 | B19: M | C19: 41740 | D19: 4 | E19: 1 | F19: 1 | G19: 0.059722222 | H19: =G19*1440/60 -> 1.4333333 | J19: 068-1 | K19: L | L19: 41756 | M19: 3 | N19: 1 | P19: 0.031944444 | Q19: =P19*1440/60 -> 0.76666667 | R19: 2 people
A20: 021-1 | B20: M | C20: 41755 | D20: 4 | E20: 0 | G20: 0.077777778 | H20: =G20*1440/60 -> 1.8666667 | I20: 2 people | J20: Kane
A21: 022-1 | B21: L | C21: 41765 | D21: 4 | E21: 1 | G21: 0.08125 | H21: =G21*1440/60 -> 1.95 | J21: 070-1 | K21: L | L21: 41761 | M21: 4 | N21: 1 | P21: 0.038194444 | Q21: =P21*1440/60 -> 0.91666667 | R21: 2 people
A22: 023-1 | B22: L | C22: 41755 | D22: 4 | E22: 3 | G22: 0.0625 | H22: =G22*1440/60 -> 1.5 | I22: 2 people | J22: 071-1 | K22: L | L22: 41761 | M22: 3 | N22: 0 | P22: 0.044444444 | Q22: =P22*1440/60 -> 1.0666667 | R22: Nicola Ranch access
A23: 024-1 | B23: L | C23: 41755 | D23: 4 | E23: 2 | G23: 0.045138889 | H23: =G23*1440/60 -> 1.0833333 | I23: 2 people | J23: 073-1 | K23: L | L23: 41745 | M23: 4 | N23: 1 | O23: 1 | P23: 0.068055556 | Q23: =P23*1440/60 -> 1.6333333 | R23: Nicola Ranch
A24: 025-1 | B24: L | C24: 41739 | D24: 3 | E24: 0 | G24: 0.077777778 | H24: =G24*1440/60 -> 1.8666667 | J24: 074-1 | K24: L | L24: 41745 | M24: 4 | N24: 0 | P24: 0.059722222 | Q24: =P24*1440/60 -> 1.4333333 | R24: Nicola Ranch
A25: 026-1 | B25: M | C25: 41755 | D25: 4 | E25: 3 | G25: 0.056944444 | H25: =G25*1440/60 -> 1.3666667 | J25: 075-1 | K25: L | L25: 41745 | M25: 4 | N25: 0 | O25: 1 | P25: 0.070138889 | Q25: =P25*1440/60 -> 1.6833333 | R25: Nicola Ranch
A26: 027-1 | B26: M | C26: 41755 | D26: 4 | E26: 1 | G26: 0.086805556 | H26: =G26*1440/60 -> 2.0833333 | I26: 2 people | J26: 077-1 | K26: L | L26: 41745 | M26: 4 | N26: 1 | P26: 0.061805556 | Q26: =P26*1440/60 -> 1.4833333 | R26: Nicola Ranch
A27: 028-1 | B27: M | C27: 41755 | D27: 4 | E27: 1 | F27: 1 | G27: 0.054166667 | H27: =G27*1440/60 -> 1.3 | I27: 2 people | J27: Coquihalla
A28: Okanagan | J28: 076-1 | K28: L | L28: 41761 | M28: 3 | N28: 0 | P28: 0.095138889 | Q28: =P28*1440/60 -> 2.2833333 | R28: Drop Pt4
A29: 031-1 | B29: L | C29: 41750 | D29: 4 | E29: 0 | G29: 0.13194444 | H29: =G29*1440/60 -> 3.1666667 | J29: 078-1 | K29: L | L29: 41761 | M29: 4 | N29: 0 | P29: 0.063194444 | Q29: =P29*1440/60 -> 1.5166667
A30: 032-1 | B30: L | C30: 41750 | D30: 3 | E30: 0 | F30: 1 | G30: 0.11319444 | H30: =G30*1440/60 -> 2.7166667 | J30: 079-1 | K30: L | L30: 41761 | M30: 4 | N30: 0 | P30: 0.095833333 | Q30: =P30*1440/60 -> 2.3
A31: 033-1 | B31: M | C31: 41757 | D31: 4 | E31: 0 | G31: 0.077777778 | H31: =G31*1440/60 -> 1.8666667 | J31: 080-1 | K31: L | L31: 41761 | M31: 4 | N31: 0 | P31: 0.086805556 | Q31: =P31*1440/60 -> 2.0833333
A32: 034-1 | B32: L | C32: 41765 | D32: 4 | E32: 2 | G32: 0.05625 | H32: =G32*1440/60 -> 1.35 | J32: Patchett-Midday
A33: 035-1 | B33: L | C33: 41757 | D33: 4 | E33: 0 | G33: 0.068055556 | H33: =G33*1440/60 -> 1.6333333 | J33: 082-1 | K33: L | L33: 41743 | M33: 3 | N33: 1 | P33: 0.056944444 | Q33: =P33*1440/60 -> 1.3666667
A34: 036-1 | B34: L | C34: 41739 | D34: 4 | E34: 2 | G34: 0.043055556 | H34: =G34*1440/60 -> 1.0333333 | J34: 083-1 | K34: M | L34: 41743 | M34: 4 | N34: 0 | P34: 0.065972222 | Q34: =P34*1440/60 -> 1.5833333
A35: 037-1 | B35: M | C35: 41739 | D35: 4 | E35: 2 | G35: 0.047916667 | H35: =G35*1440/60 -> 1.15 | J35: 084-1 | K35: L | L35: 41742 | M35: 4 | N35: 3 | O35: 1 | P35: 0.094444444 | Q35: =P35*1440/60 -> 2.2666667
A36: 038-1 | B36: M | C36: 41739 | D36: 4 | E36: 4 | G36: 0.034722222 | H36: =G36*1440/60 -> 0.83333333 | J36: 085-1 | K36: L | L36: 41744 | M36: 4 | N36: 0 | P36: 0.075694444 | Q36: =P36*1440/60 -> 1.8166667
A37: 039-1 | B37: L | C37: 41765 | D37: 3 | E37: 0 | F37: 1 | G37: 0.053472222 | H37: =G37*1440/60 -> 1.2833333 | J37: 086-1 | K37: L | L37: 41742 | M37: 4 | N37: 5 | P37: 0.076388889 | Q37: =P37*1440/60 -> 1.8333333
A38: 040-1 | B38: M | C38: 41739 | D38: 4 | E38: 3 | G38: 0.075 | H38: =G38*1440/60 -> 1.8 | J38: 087-1 | K38: M | L38: 41742 | M38: 4 | N38: 5 | P38: 0.052777778 | Q38: =P38*1440/60 -> 1.2666667
A39: 041-1 | B39: M | C39: 41757 | D39: 4 | E39: 5 | G39: 0.069444444 | H39: =G39*1440/60 -> 1.6666667 | J39: 088-1 | K39: L | L39: 41742 | M39: 4 | N39: 4 | O39: 1 | P39: 0.065972222 | Q39: =P39*1440/60 -> 1.5833333
A40: 042-1 | B40: L | C40: 41757 | D40: 4 | E40: 0 | G40: 0.39930556 | H40: =G40*1440/60 -> 9.5833333 | I40: !!!!!!!!!!!!! | J40: NW Merritt
A41: 043-1 | B41: L | C41: 41774 | D41: 4 | E41: 0 | F41: 1 | G41: 0.14444444 | H41: =G41*1440/60 -> 3.4666667 | J41: 091-1 | K41: L | L41: 41742 | M41: 3 | N41: 2 | P41: 0.052777778 | Q41: =P41*1440/60 -> 1.2666667
A42: 044-1 | B42: L | C42: 41773 | D42: 3 | E42: 0 | G42: 0.069444444 | H42: =G42*1440/60 -> 1.6666667 | J42: 092-1 | K42: L | L42: 41743 | M42: 4 | N42: 7 | O42: 3 | P42: 0.076388889 | Q42: =P42*1440/60 -> 1.8333333 | R42: Private
A43: 045-1 | B43: L | C43: 41750 | D43: 4 | E43: 5 | F43: 2 | G43: 0.063194444 | H43: =G43*1440/60 -> 1.5166667 | J43: 093-1 | K43: L | L43: 41743 | M43: 4 | N43: 3 | P43: 0.052777778 | Q43: =P43*1440/60 -> 1.2666667 | R43: Private
A44: 046-1 | B44: L | C44: 41750 | D44: 4 | E44: 1 | G44: 0.076388889 | H44: =G44*1440/60 -> 1.8333333 | J44: 094-1 | K44: L | L44: 41744 | M44: 4 | N44: 2 | P44: 0.058333333 | Q44: =P44*1440/60 -> 1.4 | R44: Nicola Ranch
A45: 047-1 | B45: L | C45: 41750 | D45: 4 | E45: 0 | F45: 1 | G45: 0.0875 | H45: =G45*1440/60 -> 2.1 | J45: 096-1 | K45: L | L45: 41744 | M45: 4 | N45: 1 | P45: 0.0875 | Q45: =P45*1440/60 -> 2.1 | R45: Nicola Ranch
A46: 048-1 | B46: L | C46: 41760 | D46: 3 | E46: 0 | G46: 0.13194444 | H46: =G46*1440/60 -> 3.1666667 | J46: Spare Ms
A47: 049-1 | B47: M | C47: 41746 | D47: 4 | E47: 9 | F47: 1 | G47: 0.085416667 | H47: =G47*1440/60 -> 2.05 | I47: 0.19820567 | J47: 039-2 | K47: M | L47: 41739 | M47: 3 | N47: 3 | P47: 0.025 | R47: RandomOrder1
C49: =COUNT(C3:C47) -> 43 | L49: =COUNT(L3:L46) -> 37
A56: Private-Not Sampled
A57: 015-1 | B57: L | E57: Unk | I57: Ranchland-permission denied for LEWO in 2011
A58: 016-1 | B58: L | E58: Yes | I58: Ranchland-permission denied
A59: 017-1 | B59: L | E59: Yes | I59: Ranchland-permission denied
A60: 029-1 | B60: L | E60: Yes | I60: Private 2 pts
A61: 030-1 | B61: L | E61: Yes | I61: Private 2 pts
A62: 050-1 | B62: L | E62: Yes | I62: Private 1 Pt
A63: 051-1 | B63: L | E63: No | I63: Private
A64: 060-1 | B64: L | E64: No | I64: Private
A65: 061-1 | B65: L | E65: Unk | I65: Douglas Lake-permission denied
A66: 069-1 | B66: L | E66: No | I66: Douglas Lake-permission denied
A67: 081-1 | B67: L | E67: No | I67: Douglas Lake-permission denied
A68: 089-1 | B68: L | E68: Yes | I68: FN (too late to seek proper approval)
A69: 095-1 | B69: L | E69: No | I69: FN (too late to seek proper approval)
A70: 13

Sheet Patch CPB DataEntry
A1: Survey Name | B1: Study Area Name | C1: Survey Intensity | D1: CPB Station | E1: Patch | F1: Date | G1: Surveyors | H1: Type CPB | I1: Time Start | J1: Continuation Line | K1: Type of Access | L1: Air Temp (C) | M1: Wind Speed | N1: Cloud Cover | O1: Current Precipitation | P1: Species | Q1: Detection Time (seconds) | R1: Count | S1: Sex | T1: WISA V/D/C | U1: Detect Type | V1: Detect Dir (deg) | W1: Detect Dist (m) | X1: Life Stage | Y1: Activity | Z1: WISA ID | AA1: Final Assigned WISA Site ID | AB1: Comments | AC1: Other Species | AD1: CPB UTM Zone | AE1: CPB UTM E | AF1: CPB UTM N | AG1: WISA UTM E | AH1: WISA UTM N | AI1: CPB Albers E | AJ1: CPB Albers N | AK1: WISA Albers E | AL1: WISA Albers N | AM1: Hab Suit | AN1: HabSuit Class
A2: Patch Monitoring | B2: Boundary | C2: RA | D2: 001-1-1 | E2: =LEFT(D2,5) -> 001-1 | F2: 41753 | G2: Philip Gyug | H2: Patch CPB | I2: 0.65625 | J2: 1 | K2: Walk | L2: 5 | M2: 1 | N2: 3 | O2: N | P2: NULL | R2: 0 | AD2: =LOOKUP($D2,'Design Component Spatial Info'!$C$231:$C$575,'Design Component Spatial Info'!E$231:E$575) -> 11 | AE2: =LOOKUP($D2,'Design Component Spatial Info'!$C$231:$C$575,'Design Component Spatial Info'!M$231:M$575) -> 373900.6 | AF2: =LOOKUP($D2,'Design Component Spatial Info'!$C$231:$C$575,'Design Component Spatial Info'!N$231:N$575) -> 5442251.7 | AG2: =IF(V2="",0,SIN(RADIANS(VALUE(V2)))*VALUE(W2)+AE2) -> 0 | AH2: =IF(V2="",0,COS(RADIANS(VALUE(V2)))*VALUE(W2)+AF2) -> 0 | AI2: =LOOKUP($D2,'Design Component Spatial Info'!$C$231:$C$575,'Design Component Spatial Info'!O$231:O$575) -> 1530468 | AJ2: =LOOKUP($D2,'Design Component Spatial Info'!$C$231:$C$575,'Design Component Spatial Info'!P$231:P$575) -> 483250 | AM2: 0.075479 | AN2: =IF(AM2<0.05,"VL",IF(AM2<0.16,"L","M")) -> L
A3: Patch Monitoring | B3: Boundary | C3: RA | D3: 001-1-2 | E3: =LEFT(D3,5) -> 001-1 | F3: 41753 | G3: Philip Gyug | H3: Patch CPB | I3: 0.63194444 | J3: 1 | K3: Walk | L3: 5 | M3: 0 | N3: 4 | O3: N | P3: NULL | R3: 0 | AD3: =LOOKUP($D3,'Design Component Spatial Info'!$C$231:$C$575,'Design Component Spatial Info'!E$231:E$575) -> 11 | AE3: =LOOKUP($D3,'Design Component Spatial Info'!$C$231:$C$575,'Design Component Spatial Info'!M$231:M$575) -> 374000.67 | AF3: =LOOKUP($D3,'Design Component Spatial Info'!$C$231:$C$575,'Design Component Spatial Info'!N$231:N$575) -> 5443046.1 | AG3: =IF(V3="",0,SIN(RADIANS(VALUE(V3)))*VALUE(W3)+AE3) -> 0 | AH3: =IF(V3="",0,COS(RADIANS(VALUE(V3)))*VALUE(W3)+AF3) -> 0 | AI3: =LOOKUP($D3,'Design Component Spatial Info'!$C$231:$C$575,'Design Component Spatial Info'!O$231:O$575) -> 1530468 | AJ3: =LOOKUP($D3,'Design Component Spatial Info'!$C$231:$C$575,'Design Component Spatial Info'!P$231:P$575) -> 484050 | AM3: 0.191171 | AN3: =IF(AM3<0.05,"VL",IF(AM3<0.16,"L","M")) -> M
A4: Patch Monitoring | B4: Boundary | C4: RA | D4: 001-1-3 | E4: =LEFT(D4,5) -> 001-1 | F4: 41753 | G4: Les Gyug | H4: Patch CPB | I4: 0.29375 | J4: 1 | K4: Walk | L4: 1 | M4: 0 | N4: 4 | O4: LS | P4: NULL | R4: 0 | AD4: =LOOKUP($D4,'Design Component Spatial Info'!$C$231:$C$575,'Design Component Spatial Info'!E$231:E$575) -> 11 | AE4: =LOOKUP($D4,'Design Component Spatial Info'!$C$231:$C$575,'Design Component Spatial Info'!M$231:M$575) -> 374793.33 | AF4: =LOOKUP($D4,'Design Component Spatial Info'!$C$231:$C$575,'Design Component Spatial Info'!N$231:N$575) -> 5442945.9 | AG4: =IF(V4="",0,SIN(RADIANS(VALUE(V4)))*VALUE(W4)+AE4) -> 0 | AH4: =IF(V4="",0,COS(RADIANS(VALUE(V4)))*VALUE(W4)+AF4) -> 0 | AI4: =LOOKUP($D4,'Design Component Spatial Info'!$C$231:$C$575,'Design Component Spatial Info'!O$231:O$575) -> 1531268 | AJ4: =LOOKUP($D4,'Design Component Spatial Info'!$C$231:$C$575,'Design Component Spatial Info'!P$231:P$575) -> 484050 | AM4: 0.115867 | AN4: =IF(AM4<0.05,"VL",IF(AM4<0.16,"L","M")) -> L
A5: Patch Monitoring | B5: Boundary | C5: RA | D5: 001-1-4 | E5: =LEFT(D5,5) -> 001-1 | F5: 41753 | G5: Les Gyug | H5: Patch CPB | I5: 0.28194444 | J5: 1 | K5: Walk | L5: 1 | M5: 0 | N5: 4 | O5: LS | P5: NULL | R5: 0 | AD5: =LOOKUP($D5,'Design Component Spatial Info'!$C$231:$C$575,'Design Component Spatial Info'!E$231:E$575) -> 11 | AE5: =LOOKUP($D5,'Design Component Spatial Info'!$C$231:$C$575,'Design Component Spatial Info'!M$231:M$575) -> 375585.98 | AF5: =LOOKUP($D5,'Design Component Spatial Info'!$C$231:$C$575,'Design Component Spatial Info'!N$231:N$575) -> 5442845.7 | AG5: =IF(V5="",0,SIN(RADIANS(VALUE(V5)))*VALUE(W5)+AE5) -> 0 | AH5: =IF(V5="",0,COS(RADIANS(VALUE(V5)))*VALUE(W5)+AF5) -> 0 | AI5: =LOOKUP($D5,'Design Component Spatial Info'!$C$231:$C$575,'Design Component Spatial Info'!O$231:O$575) -> 1532068 | AJ5: =LOOKUP($D5,'Design Component Spatial Info'!$C$231:$C$575,'Design Component Spatial Info'!P$231:P$575) -> 484050 | AM5: 0.035974 | AN5: =IF(AM5<0.05,"VL",IF(AM5<0.16,"L","M")) -> VL
A6: Patch Monitoring | B6: Boundary | C6: RA | D6: 002-1-1 | E6: =LEFT(D6,5) -> 002-1 | F6: 41753 | G6: Les Gyug | H6: Patch CPB | I6: 0.67638889 | J6: 1 | K6: Walk | L6: 6 | M6: 1 | N6: 3 | O6: N | P6: B-WISA | Q6: 58 | R6: 1 | S6: U | T6: C | U6: CA | V6: 258 | W6: 175 | X6: AD | Y6: TE | AA6: WB538 | AD6: =LOOKUP($D6,'Design Component Spatial Info'!$C$231:$C$575,'Design Component Spatial Info'!E$231:E$575) -> 11 | AE6: =LOOKUP($D6,'Design Component Spatial Info'!$C$231:$C$575,'Design Component Spatial Info'!M$231:M$575) -> 369644.79 | AF6: =LOOKUP($D6,'Design Component Spatial Info'!$C$231:$C$575,'Design Component Spatial Info'!N$231:N$575) -> 5446824.9 | AG6: =IF(V6="",0,SIN(RADIANS(VALUE(V6)))*VALUE(W6)+AE6) -> 369473.62 | AH6: =IF(V6="",0,COS(RADIANS(VALUE(V6)))*VALUE(W6)+AF6) -> 5446788.6 | AI6: =LOOKUP($D6,'Design Component Spatial Info'!$C$231:$C$575,'Design Component Spatial Info'!O$231:O$575) -> 1525668 | AJ6: =LOOKUP($D6,'Design Component Spatial Info'!$C$231:$C$575,'Design Component Spatial Info'!P$231:P$575) -> 487250 | AK6: 1525502.5 | AL6: 487192.49 | AM6: 0.112722 | AN6: =IF(AM6<0.05,"VL",IF(AM6<0.16,"L","M")) -> L
A7: Patch Monitoring | B7: Boundary | C7: RA | D7: 002-1-2 | E7: =LEFT(D7,5) -> 002-1 | F7: 41753 | G7: Les Gyug | H7: Patch CPB | I7: 0.65833333 | J7: 1 | K7: Walk | L7: 8 | M7: 0 | N7: 3 | O7: M | P7: NULL | R7: 0 | AD7: =LOOKUP($D7,'Design Component Spatial Info'!$C$231:$C$575,'Design Component Spatial Info'!E$231:E$575) -> 11 | AE7: =LOOKUP($D7,'Design Component Spatial Info'!$C$231:$C$575,'Design Component Spatial Info'!M$231:M$575) -> 370437.5 | AF7: =LOOKUP($D7,'Design Component Spatial Info'!$C$231:$C$575,'Design Component Spatial Info'!N$231:N$575) -> 5446724.8 | AG7: =IF(V7="",0,SIN(RADIANS(VALUE(V7)))*VALUE(W7)+AE7) -> 0 | AH7: =IF(V7="",0,COS(RADIANS(VALUE(V7)))*VALUE(W7)+AF7) -> 0 | AI7: =LOOKUP($D7,'Design Component Spatial Info'!$C$231:$C$575,'Design Component Spatial Info'!O$231:O$575) -> 1526468 | AJ7: =LOOKUP($D7,'Design Component Spatial Info'!$C$231:$C$575,'Design Component Spatial Info'!P$231:P$575) -> 487250 | AM7: 0.164245 | AN7: =IF(AM7<0.05,"VL",IF(AM7<0.16,"L","M")) -> M
A8: Patch Monitoring | B8: Boundary | C8: RA | D8: 002-1-3 | E8: =LEFT(D8,5) -> 002-1 | F8: 41753 | G8: Les Gyug | H8: Patch CPB | I8: 0.63611111 | J8: 1 | K8: Walk | L8: 8 | M8: 1 | N8: 3 | O8: N | P8: NULL | R8: 0 | AD8: =LOOKUP($D8,'Design Component Spatial Info'!$C$231:$C$575,'Design Component Spatial Info'!E$231:E$575) -> 11 | AE8: =LOOKUP($D8,'Design Component Spatial Info'!$C$231:$C$575,'Design Component Spatial Info'!M$231:M$575) -> 371230.2 | AF8: =LOOKUP($D8,'Design Component Spatial Info'!$C$231:$C$575,'Design Component Spatial Info'!N$231:N$575) -> 5446624.6 | AG8: =IF(V8="",0,SIN(RADIANS(VALUE(V8)))*VALUE(W8)+AE8) -> 0 | AH8: =IF(V8="",0,COS(RADIANS(VALUE(V8)))*VALUE(W8)+AF8) -> 0 | AI8: =LOOKUP($D8,'Design Component Spatial Info'!$C$231:$C$575,'Design Component Spatial Info'!O$231:O$575) -> 1527268 | AJ8: =LOOKUP($D8,'Design Component Spatial Info'!$C$231:$C$575,'Design Component Spatial Info'!P$231:P$575) -> 487250 | AM8: 0.074372 | AN8: =IF(AM8<0.05,"VL",IF(AM8<0.16,"L","M")) -> L
A9: Patch Monitoring | B9: Boundary | C9: RA | D9: 002-1-4 | E9: =LEFT(D9,5) -> 002-1 | F9: 41753 | G9: Les Gyug | H9: Patch CPB | I9: 0.62222222 | J9: 1 | K9: Road | L9: 10 | M9: 1 | N9: 3 | O9: N | P9: NULL | R9: 0 | AD9: =LOOKUP($D9,'Design Component Spatial Info'!$C$231:$C$575,'Design Component Spatial Info'!E$231:E$575) -> 11 | AE9: =LOOKUP($D9,'Design Component Spatial Info'!$C$231:$C$575,'Design Component Spatial Info'!M$231:M$575) -> 372059 | AF9: =LOOKUP($D9,'Design Component Spatial Info'!$C$231:$C$575,'Design Component Spatial Info'!N$231:N$575) -> 5446366 | AG9: =IF(V9="",0,SIN(RADIANS(VALUE(V9)))*VALUE(W9)+AE9) -> 0 | AH9: =IF(V9="",0,COS(RADIANS(VALUE(V9)))*VALUE(W9)+AF9) -> 0 | AI9: =LOOKUP($D9,'Design Component Spatial Info'!$C$231:$C$575,'Design Component Spatial Info'!O$231:O$575) -> 1528123.7 | AJ9: =LOOKUP($D9,'Design Component Spatial Info'!$C$231:$C$575,'Design Component Spatial Info'!P$231:P$575) -> 487097.53 | AM9: 0.093285 | AN9: =IF(AM9<0.05,"VL",IF(AM9<0.16,"L","M")) -> L
A10: Patch Monitoring | B10: Boundary | C10: RA | D10: 003-1-1 | E10: =LEFT(D10,5) -> 003-1 | F10: 41773 | G10: Les Gyug | H10: Patch CPB | I10: 0.31388889 | J10: 1 | K10: Walk | L10: 12 | M10: 1 | N10: 1 | O10: N | P10: NULL | R10: 0 | AD10: =LOOKUP($D10,'Design Component Spatial Info'!$C$231:$C$575,'Design Component Spatial Info'!E$231:E$575) -> 11 | AE10: =LOOKUP($D10,'Design Component Spatial Info'!$C$231:$C$575,'Design Component Spatial Info'!M$231:M$575) -> 366373.91 | AF10: =LOOKUP($D10,'Design Component Spatial Info'!$C$231:$C$575,'Design Component Spatial Info'!N$231:N$575) -> 5446431.2 | AG10: =IF(V10="",0,SIN(RADIANS(VALUE(V10)))*VALUE(W10)+AE10) -> 0 | AH10: =IF(V10="",0,COS(RADIANS(VALUE(V10)))*VALUE(W10)+AF10) -> 0 | AI10: =LOOKUP($D10,'Design Component Spatial Info'!$C$231:$C$575,'Design Component Spatial Info'!O$231:O$575) -> 1522468 | AJ10: =LOOKUP($D10,'Design Component Spatial Info'!$C$231:$C$575,'Design Component Spatial Info'!P$231:P$575) -> 486450 | AM10: 0.101371 | AN10: =IF(AM10<0.05,"VL",IF(AM10<0.16,"L","M")) -> L
A11: Patch Monitoring | B11: Boundary | C11: RA | D11: 003-1-2 | E11: =LEFT(D11,5) -> 003-1 | F11: 41773 | G11: Les Gyug | H11: Patch CPB | I11: 0.33125 | J11: 1 | K11: Walk | L11: 12 | M11: 0 | N11: 1 | O11: N | P11: NULL | R11: 0 | AD11: =LOOKUP($D11,'Design Component Spatial Info'!$C$231:$C$575,'Design Component Spatial Info'!E$231:E$575) -> 11 | AE11: =LOOKUP($D11,'Design Component Spatial Info'!$C$231:$C$575,'Design Component Spatial Info'!M$231:M$575) -> 367066.61 | AF11: =LOOKUP($D11,'Design Component Spatial Info'!$C$231:$C$575,'Design Component Spatial Info'!N$231:N$575) -> 5445536.6 | AG11: =IF(V11="",0,SIN(RADIANS(VALUE(V11)))*VALUE(W11)+AE11) -> 0 | AH11: =IF(V11="",0,COS(RADIANS(VALUE(V11)))*VALUE(W11)+AF11) -> 0 | AI11: =LOOKUP($D11,'Design Component Spatial Info'!$C$231:$C$575,'Design Component Spatial Info'!O$231:O$575) -> 1523268 | AJ11: =LOOKUP($D11,'Design Component Spatial Info'!$C$231:$C$575,'Design Component Spatial Info'!P$231:P$575) -> 485650 | AM11: 0.120677 | AN11: =IF(AM11<0.05,"VL",IF(AM11<0.16,"L","M")) -> L
A12: Patch Monitoring | B12: Boundary | C12: RA | D12: 003-1-3 | E12: =LEFT(D12,5) -> 003-1 | F12: 41773 | G12: Les Gyug | H12: Patch CPB | I12: 0.30625 | J12: 1 | K12: Walk | L12: 12 | M12: 0 | N12: 1 | O12: N | P12: NULL | R12: 0 | AD12: =LOOKUP($D12,'Design Component Spatial Info'!$C$231:$C$575,'Design Component Spatial Info'!E$231:E$575) -> 11 | AE12: =LOOKUP($D12,'Design Component Spatial Info'!$C$231:$C$575,'Design Component Spatial Info'!M$231:M$575) -> 367166.63 | AF12: =LOOKUP($D12,'Design Component Spatial Info'!$C$231:$C$575,'Design Component Spatial Info'!N$231:N$575) -> 5446331 | AG12: =IF(V12="",0,SIN(RADIANS(VALUE(V12)))*VALUE(W12)+AE12) -> 0 | AH12: =IF(V12="",0,COS(RADIANS(VALUE(V12)))*VALUE(W12)+AF12) -> 0 | AI12: =LOOKUP($D12,'Design Component Spatial Info'!$C$231:$C$575,'Design Component Spatial Info'!O$231:O$575) -> 1523268 | AJ12: =LOOKUP($D12,'Design Component Spatial Info'!$C$231:$C$575,'Design Component Spatial Info'!P$231:P$575) -> 486450 | AM12: 0.077278 | AN12: =IF(AM12<0.05,"VL",IF(AM12<0.16,"L","M")) -> L
A13: Patch Monitoring | B13: Boundary | C13: RA | D13: 004-1-1 | E13: =LEFT(D13,5) -> 004-1 | F13: 41773 | G13: Les Gyug | H13: Patch CPB | I13: 0.37083333 | J13: 1 | K13: Walk | L13: 14 | M13: 0 | N13: 1 | O13: N | P13: B-WISA | Q13: 210 | R13: 1 | S13: U | T13: D | U13: DR | V13: 219 | W13: 400 | X13: AD | Y13: TE | AA13: WB578 | AD13: =LOOKUP($D13,'Design Component Spatial Info'!$C$231:$C$575,'Design Component Spatial Info'!E$231:E$575) -> 11 | AE13: =LOOKUP($D13,'Design Component Spatial Info'!$C$231:$C$575,'Design Component Spatial Info'!M$231:M$575) -> 367659.28 | AF13: =LOOKUP($D13,'Design Component Spatial Info'!$C$231:$C$575,'Design Component Spatial Info'!N$231:N$575) -> 5443847.6 | AG13: =IF(V13="",0,SIN(RADIANS(VALUE(V13)))*VALUE(W13)+AE13) -> 367407.55 | AH13: =IF(V13="",0,COS(RADIANS(VALUE(V13)))*VALUE(W13)+AF13) -> 5443536.7 | AI13: =LOOKUP($D13,'Design Component Spatial Info'!$C$231:$C$575,'Design Component Spatial Info'!O$231:O$575) -> 1524068 | AJ13: =LOOKUP($D13,'Design Component Spatial Info'!$C$231:$C$575,'Design Component Spatial Info'!P$231:P$575) -> 484050 | AK13: 1523856.8 | AL13: 483710.34 | AM13: 0.160987 | AN13: =IF(AM13<0.05,"VL",IF(AM13<0.16,"L","M")) -> M
A14: Patch Monitoring | B14: Boundary | C14: RA | D14: 004-1-2 | E14: =LEFT(D14,5) -> 004-1 | F14: 41773 | G14: Les Gyug | H14: Patch CPB | I14: 0.4 | J14: 1 | K14: Walk | L14: 14 | M14: 0 | N14: 2 | O14: N | P14: NULL | R14: 0 | AD14: =LOOKUP($D14,'Design Component Spatial Info'!$C$231:$C$575,'Design Component Spatial Info'!E$231:E$575) -> 11 | AE14: =LOOKUP($D14,'Design Component Spatial Info'!$C$231:$C$575,'Design Component Spatial Info'!M$231:M$575) -> 367759.3 | AF14: =LOOKUP($D14,'Design Component Spatial Info'!$C$231:$C$575,'Design Component Spatial Info'!N$231:N$575) -> 5444642 | AG14: =IF(V14="",0,SIN(RADIANS(VALUE(V14)))*VALUE(W14)+AE14) -> 0 | AH14: =IF(V14="",0,COS(RADIANS(VALUE(V14)))*VALUE(W14)+AF14) -> 0 | AI14: =LOOKUP($D14,'Design Component Spatial Info'!$C$231:$C$575,'Design Component Spatial Info'!O$231:O$575) -> 1524068 | AJ14: =LOOKUP($D14,'Design Component Spatial Info'!$C$231:$C$575,'Design Component Spatial Info'!P$231:P$575) -> 484850 | AM14: 0.225571 | AN14: =IF(AM14<0.05,"VL",IF(AM14<0.16,"L","M")) -> M
A15: Patch Monitoring | B15: Boundary | C15: RA | D15: 004-1-3 | E15: =LEFT(D15,5) -> 004-1 | F15: 41773 | G15: Les Gyug | H15: Patch CPB | I15: 0.38263889 | J15: 1 | K15: Walk | L15: 14 | M15: 1 | N15: 1 | O15: N | P15: NULL | R15: 0 | AD15: =LOOKUP($D15,'Design Component Spatial Info'!$C$231:$C$575,'Design Component Spatial Info'!E$231:E$575) -> 11 | AE15: =LOOKUP($D15,'Design Component Spatial Info'!$C$231:$C$575,'Design Component Spatial Info'!M$231:M$575) -> 368451.97 | AF15: =LOOKUP($D15,'Design Component Spatial Info'!$C$231:$C$575,'Design Component Spatial Info'!N$231:N$575) -> 5443747.4 | AG15: =IF(V15="",0,SIN(RADIANS(VALUE(V15)))*VALUE(W15)+AE15) -> 0 | AH15: =IF(V15="",0,COS(RADIANS(VALUE(V15)))*VALUE(W15)+AF15) -> 0 | AI15: =LOOKUP($D15,'Design Component Spatial Info'!$C$231:$C$575,'Design Component Spatial Info'!O$231:O$575) -> 1524868 | AJ15: =LOOKUP($D15,'Design Component Spatial Info'!$C$231:$C$575,'Design Component Spatial Info'!P$231:P$575) -> 484050 | AM15: 0.321735 | AN15: =IF(AM15<0.05,"VL",IF(AM15<0.16,"L","M")) -> M
A16: Patch Monitoring | B16: Boundary | C16: RA | D16: 004-1-4 | E16: =LEFT(D16,5) -> 004-1 | F16: 41773 | G16: Les Gyug | H16: Patch CPB | I16: 0.425 | J16: 1 | K16: Walk | L16: 16 | M16: 0 | N16: 2 | O16: N | P16: B-WISA | Q16: 90 | R16: 1 | S16: U | T16: C | U16: CA | V16: 110 | W16: 350 | X16: AD | Y16: TE | AA16: WB579 | AD16: =LOOKUP($D16,'Design Component Spatial Info'!$C$231:$C$575,'Design Component Spatial Info'!E$231:E$575) -> 11 | AE16: =LOOKUP($D16,'Design Component Spatial Info'!$C$231:$C$575,'Design Component Spatial Info'!M$231:M$575) -> 368551.99 | AF16: =LOOKUP($D16,'Design Component Spatial Info'!$C$231:$C$575,'Design Component Spatial Info'!N$231:N$575) -> 5444541.8 | AG16: =IF(V16="",0,SIN(RADIANS(VALUE(V16)))*VALUE(W16)+AE16) -> 368880.88 | AH16: =IF(V16="",0,COS(RADIANS(VALUE(V16)))*VALUE(W16)+AF16) -> 5444422.1 | AI16: =LOOKUP($D16,'Design Component Spatial Info'!$C$231:$C$575,'Design Component Spatial Info'!O$231:O$575) -> 1524868 | AJ16: =LOOKUP($D16,'Design Component Spatial Info'!$C$231:$C$575,'Design Component Spatial Info'!P$231:P$575) -> 484850 | AK16: 1525209.7 | AL16: 484772.54 | AM16: 0.045219 | AN16: =IF(AM16<0.05,"VL",IF(AM16<0.16,"L","M")) -> VL
A17: Patch Monitoring | B17: Boundary | C17: RA | D17: 005-1-1 | E17: =LEFT(D17,5) -> 005-1 | F17: 41765 | G17: Les Gyug | H17: Patch CPB | I17: 0.58125 | J17: 1 | K17: Walk | L17: 12 | M17: 1 | N17: 3 | O17: N | P17: NULL | R17: 0 | AD17: =LOOKUP($D17,'Design Component Spatial Info'!$C$231:$C$575,'Design Component Spatial Info'!E$231:E$575) -> 11 | AE17: =LOOKUP($D17,'Design Component Spatial Info'!$C$231:$C$575,'Design Component Spatial Info'!M$231:M$575) -> 373400.3 | AF17: =LOOKUP($D17,'Design Component Spatial Info'!$C$231:$C$575,'Design Component Spatial Info'!N$231:N$575) -> 5438279.4 | AG17: =IF(V17="",0,SIN(RADIANS(VALUE(V17)))*VALUE(W17)+AE17) -> 0 | AH17: =IF(V17="",0,COS(RADIANS(VALUE(V17)))*VALUE(W17)+AF17) -> 0 | AI17: =LOOKUP($D17,'Design Component Spatial Info'!$C$231:$C$575,'Design Component Spatial Info'!O$231:O$575) -> 1530468 | AJ17: =LOOKUP($D17,'Design Component Spatial Info'!$C$231:$C$575,'Design Component Spatial Info'!P$231:P$575) -> 479250 | AM17: 0.391255 | AN17: =IF(AM17<0.05,"VL",IF(AM17<0.16,"L","M")) -> M
A18: Patch Monitoring | B18: Boundary | C18: RA | D18: 005-1-2 | E18: =LEFT(D18,5) -> 005-1 | F18: 41765 | G18: Les Gyug | H18: Patch CPB | I18: 0.57361111 | J18: 1 | K18: Road | L18: 10 | M18: 2 | N18: 4 | O18: N | P18: NULL | R18: 0 | AD18: =LOOKUP($D18,'Design Component Spatial Info'!$C$231:$C$575,'Design Component Spatial Info'!E$231:E$575) -> 11 | AE18: =LOOKUP($D18,'Design Component Spatial Info'!$C$231:$C$575,'Design Component Spatial Info'!M$231:M$575) -> 373500.35 | AF18: =LOOKUP($D18,'Design Component Spatial Info'!$C$231:$C$575,'Design Component Spatial Info'!N$231:N$575) -> 5439073.9 | AG18: =IF(V18="",0,SIN(RADIANS(VALUE(V18)))*VALUE(W18)+AE18) -> 0 | AH18: =IF(V18="",0,COS(RADIANS(VALUE(V18)))*VALUE(W18)+AF18) -> 0 | AI18: =LOOKUP($D18,'Design Component Spatial Info'!$C$231:$C$575,'Design Component Spatial Info'!O$231:O$575) -> 1530468 | AJ18: =LOOKUP($D18,'Design Component Spatial Info'!$C$231:$C$575,'Design Component Spatial Info'!P$231:P$575) -> 480050 | AM18: 0.1489 | AN18: =IF(AM18<0.05,"VL",IF(AM18<0.16,"L","M")) -> L
A19: Patch Monitoring | B19: Boundary | C19: RA | D19: 005-1-3 | E19: =LEFT(D19,5) -> 005-1 | F19: 41765 | G19: Les Gyug | H19: Patch CPB | I19: 0.60347222 | J19: 1 | K19: Walk | L19: 12 | M19: 2 | N19: 2 | O19: N | P19: NULL | R19: 0 | AD19: =LOOKUP($D19,'Design Component Spatial Info'!$C$231:$C$575,'Design Component Spatial Info'!E$231:E$575) -> 11 | AE19: =LOOKUP($D19,'Design Component Spatial Info'!$C$231:$C$575,'Design Component Spatial Info'!M$231:M$575) -> 374192.91 | AF19: =LOOKUP($D19,'Design Component Spatial Info'!$C$231:$C$575,'Design Component Spatial Info'!N$231:N$575) -> 5438179.2 | AG19: =IF(V19="",0,SIN(RADIANS(VALUE(V19)))*VALUE(W19)+AE19) -> 0 | AH19: =IF(V19="",0,COS(RADIANS(VALUE(V19)))*VALUE(W19)+AF19) -> 0 | AI19: =LOOKUP($D19,'Design Component Spatial Info'!$C$231:$C$575,'Design Component Spatial Info'!O$231:O$575) -> 1531268 | AJ19: =LOOKUP($D19,'Design Component Spatial Info'!$C$231:$C$575,'Design Component Spatial Info'!P$231:P$575) -> 479250 | AM19: 0.050169 | AN19: =IF(AM19<0.05,"VL",IF(AM19<0.16,"L","M")) -> L
A20: Patch Monitoring | B20: Boundary | C20: RA | D20: 005-1-4 | E20: =LEFT(D20,5) -> 005-1 | F20: 41765 | G20: Les Gyug | H20: Patch CPB | I20: 0.61875 | J20: 1 | K20: Walk | L20: 12 | M20: 1 | N20: 2 | O20: N | P20: NULL | R20: 0 | AD20: =LOOKUP($D20,'Design Component Spatial Info'!$C$231:$C$575,'Design Component Spatial Info'!E$231:E$575) -> 11 | AE20: =LOOKUP($D20,'Design Component Spatial Info'!$C$231:$C$575,'Design Component Spatial Info'!M$231:M$575) -> 374292.97 | AF20: =LOOKUP($D20,'Design Component Spatial Info'!$C$231:$C$575,'Design Component Spatial Info'!N$231:N$575) -> 5438973.7 | AG20: =IF(V20="",0,SIN(RADIANS(VALUE(V20)))*VALUE(W20)+AE20) -> 0 | AH20: =IF(V20="",0,COS(RADIANS(VALUE(V20)))*VALUE(W20)+AF20) -> 0 | AI20: =LOOKUP($D20,'Design Component Spatial Info'!$C$231:$C$575,'Design Component Spatial Info'!O$231:O$575) -> 1531268 | AJ20: =LOOKUP($D20,'Design Component Spatial Info'!$C$231:$C$575,'Design Component Spatial Info'!P$231:P$575) -> 480050 | AM20: 0.080659 | AN20: =IF(AM20<0.05,"VL",IF(AM20<0.16,"L","M")) -> L
A21: Patch Monitoring | B21: Boundary | C21: RA | D21: 006-1-1 | E21: =LEFT(D21,5) -> 006-1 | F21: 41753 | G21: Les Gyug | H21: Patch CPB | I21: 0.54444444 | J21: 1 | K21: Walk | L21: 6 | M21: 0 | N21: 4 | O21: N | P21: NULL | R21: 0 | AD21: =LOOKUP($D21,'Design Component Spatial Info'!$C$231:$C$575,'Design Component Spatial Info'!E$231:E$575) -> 11 | AE21: =LOOKUP($D21,'Design Component Spatial Info'!$C$231:$C$575,'Design Component Spatial Info'!M$231:M$575) -> 370422.32 | AF21: =LOOKUP($D21,'Design Component Spatial Info'!$C$231:$C$575,'Design Component Spatial Info'!N$231:N$575) -> 5433812.9 | AG21: =IF(V21="",0,SIN(RADIANS(VALUE(V21)))*VALUE(W21)+AE21) -> 0 | AH21: =IF(V21="",0,COS(RADIANS(VALUE(V21)))*VALUE(W21)+AF21) -> 0 | AI21: =LOOKUP($D21,'Design Component Spatial Info'!$C$231:$C$575,'Design Component Spatial Info'!O$231:O$575) -> 1528068 | AJ21: =LOOKUP($D21,'Design Component Spatial Info'!$C$231:$C$575,'Design Component Spatial Info'!P$231:P$575) -> 474450 | AM21: 0.123695 | AN21: =IF(AM21<0.05,"VL",IF(AM21<0.16,"L","M")) -> L
A22: Patch Monitoring | B22: Boundary | C22: RA | D22: 006-1-2 | E22: =LEFT(D22,5) -> 006-1 | F22: 41753 | G22: Les Gyug | H22: Patch CPB | I22: 0.5625 | J22: 1 | K22: Walk | L22: 6 | M22: 0 | N22: 4 | O22: N | P22: NULL | R22: 0 | AD22: =LOOKUP($D22,'Design Component Spatial Info'!$C$231:$C$575,'Design Component Spatial Info'!E$231:E$575) -> 11 | AE22: =LOOKUP($D22,'Design Component Spatial Info'!$C$231:$C$575,'Design Component Spatial Info'!M$231:M$575) -> 370522.33 | AF22: =LOOKUP($D22,'Design Component Spatial Info'!$C$231:$C$575,'Design Component Spatial Info'!N$231:N$575) -> 5434607.4 | AG22: =IF(V22="",0,SIN(RADIANS(VALUE(V22)))*VALUE(W22)+AE22) -> 0 | AH22: =IF(V22="",0,COS(RADIANS(VALUE(V22)))*VALUE(W22)+AF22) -> 0 | AI22: =LOOKUP($D22,'Design Component Spatial Info'!$C$231:$C$575,'Design Component Spatial Info'!O$231:O$575) -> 1528068 | AJ22: =LOOKUP($D22,'Design Component Spatial Info'!$C$231:$C$575,'Design Component Spatial Info'!P$231:P$575) -> 475250 | AM22: 0.092341 | AN22: =IF(AM22<0.05,"VL",IF(AM22<0.16,"L","M")) -> L
A23: Patch Monitoring | B23: Boundary | C23: RA | D23: 006-1-3 | E23: =LEFT(D23,5) -> 006-1 | F23: 41753 | G23: Les Gyug | H23: Patch CPB | I23: 0.53402778 | J23: 1 | K23: Walk | L23: 6 | M23: 0 | N23: 4 | O23: N | P23: NULL | R23: 0 | AD23: =LOOKUP($D23,'Design Component Spatial Info'!$C$231:$C$575,'Design Component Spatial Info'!E$231:E$575) -> 11 | AE23: =LOOKUP($D23,'Design Component Spatial Info'!$C$231:$C$575,'Design Component Spatial Info'!M$231:M$575) -> 371214.9 | AF23: =LOOKUP($D23,'Design Component Spatial Info'!$C$231:$C$575,'Design Component Spatial Info'!N$231:N$575) -> 5433712.7 | AG23: =IF(V23="",0,SIN(RADIANS(VALUE(V23)))*VALUE(W23)+AE23) -> 0 | AH23: =IF(V23="",0,COS(RADIANS(VALUE(V23)))*VALUE(W23)+AF23) -> 0 | AI23: =LOOKUP($D23,'Design Component Spatial Info'!$C$231:$C$575,'Design Component Spatial Info'!O$231:O$575) -> 1528868 | AJ23: =LOOKUP($D23,'Design Component Spatial Info'!$C$231:$C$575,'Design Component Spatial Info'!P$231:P$575) -> 474450 | AM23: 0.093006 | AN23: =IF(AM23<0.05,"VL",IF(AM23<0.16,"L","M")) -> L
A24: Patch Monitoring | B24: Boundary | C24: RA | D24: 006-1-4 | E24: =LEFT(D24,5) -> 006-1 | F24: 41753 | G24: Les Gyug | H24: Patch CPB | I24: 0.57430556 | J24: 1 | K24: Walk | L24: 6 | M24: 0 | N24: 4 | O24: N | P24: NULL | R24: 0 | AD24: =LOOKUP($D24,'Design Component Spatial Info'!$C$231:$C$575,'Design Component Spatial Info'!E$231:E$575) -> 11 | AE24: =LOOKUP($D24,'Design Component Spatial Info'!$C$231:$C$575,'Design Component Spatial Info'!M$231:M$575) -> 371314.92 | AF24: =LOOKUP($D24,'Design Component Spatial Info'!$C$231:$C$575,'Design Component Spatial Info'!N$231:N$575) -> 5434507.3 | AG24: =IF(V24="",0,SIN(RADIANS(VALUE(V24)))*VALUE(W24)+AE24) -> 0 | AH24: =IF(V24="",0,COS(RADIANS(VALUE(V24)))*VALUE(W24)+AF24) -> 0 | AI24: =LOOKUP($D24,'Design Component Spatial Info'!$C$231:$C$575,'Design Component Spatial Info'!O$231:O$575) -> 1528868 | AJ24: =LOOKUP($D24,'Design Component Spatial Info'!$C$231:$C$575,'Design Component Spatial Info'!P$231:P$575) -> 475250 | AM24: 0.141809 | AN24: =IF(AM24<0.05,"VL",IF(AM24<0.16,"L","M")) -> L
A25: Patch Monitoring | B25: Boundary | C25: RA | D25: 007-1-1 | E25: =LEFT(D25,5) -> 007-1 | F25: 41752 | G25: Philip Gyug | H25: Patch CPB | I25: 0.53402778 | J25: 1 | K25: Walk | L25: 5 | M25: 0 | N25: 3 | O25: N | P25: B-WISA | Q25: 192 | R25: 1 | S25: U | T25: DC | U25: DR | V25: 290 | W25: 150 | X25: AD | Y25: TE | AA25: WB539 | AD25: =LOOKUP($D25,'Design Component Spatial Info'!$C$231:$C$575,'Design Component Spatial Info'!E$231:E$575) -> 11 | AE25: =LOOKUP($D25,'Design Component Spatial Info'!$C$231:$C$575,'Design Component Spatial Info'!M$231:M$575) -> 363588.77 | AF25: =LOOKUP($D25,'Design Component Spatial Info'!$C$231:$C$575,'Design Component Spatial Info'!N$231:N$575) -> 5437097.7 | AG25: =IF(V25="",0,SIN(RADIANS(VALUE(V25)))*VALUE(W25)+AE25) -> 363447.81 | AH25: =IF(V25="",0,COS(RADIANS(VALUE(V25)))*VALUE(W25)+AF25) -> 5437149 | AI25: =LOOKUP($D25,'Design Component Spatial Info'!$C$231:$C$575,'Design Component Spatial Info'!O$231:O$575) -> 1520868 | AJ25: =LOOKUP($D25,'Design Component Spatial Info'!$C$231:$C$575,'Design Component Spatial Info'!P$231:P$575) -> 476850 | AK25: 1520721.6 | AL25: 476883.21 | AM25: 0.290428 | AN25: =IF(AM25<0.05,"VL",IF(AM25<0.16,"L","M")) -> M
A26: Patch Monitoring | B26: Boundary | C26: RA | D26: 007-1-2 | E26: =LEFT(D26,5) -> 007-1 | F26: 41752 | G26: Philip Gyug | H26: Patch CPB | I26: 0.55138889 | J26: 1 | K26: Walk | L26: 5 | M26: 1 | N26: 3 | O26: N | P26: NULL | R26: 0 | AD26: =LOOKUP($D26,'Design Component Spatial Info'!$C$231:$C$575,'Design Component Spatial Info'!E$231:E$575) -> 11 | AE26: =LOOKUP($D26,'Design Component Spatial Info'!$C$231:$C$575,'Design Component Spatial Info'!M$231:M$575) -> 364381.41 | AF26: =LOOKUP($D26,'Design Component Spatial Info'!$C$231:$C$575,'Design Component Spatial Info'!N$231:N$575) -> 5436997.6 | AG26: =IF(V26="",0,SIN(RADIANS(VALUE(V26)))*VALUE(W26)+AE26) -> 0 | AH26: =IF(V26="",0,COS(RADIANS(VALUE(V26)))*VALUE(W26)+AF26) -> 0 | AI26: =LOOKUP($D26,'Design Component Spatial Info'!$C$231:$C$575,'Design Component Spatial Info'!O$231:O$575) -> 1521668 | AJ26: =LOOKUP($D26,'Design Component Spatial Info'!$C$231:$C$575,'Design Component Spatial Info'!P$231:P$575) -> 476850 | AM26: 0.260074 | AN26: =IF(AM26<0.05,"VL",IF(AM26<0.16,"L","M")) -> M
A27: Patch Monitoring | B27: Boundary | C27: RA | D27: 007-1-4 | E27: =LEFT(D27,5) -> 007-1 | F27: 41752 | G27: Les Gyug | H27: Patch CPB | I27: 0.54097222 | J27: 1 | K27: Walk | L27: 5 | M27: 1 | N27: 3 | O27: N | P27: B-WISA | Q27: 0 | R27: 1 | S27: U | T27: DC | U27: DR | V27: 330 | W27: 75 | X27: AD | Y27: TE | AA27: WB540 | AB27: POSSIBLE PAIR | AD27: =LOOKUP($D27,'Design Component Spatial Info'!$C$231:$C$575,'Design Component Spatial Info'!E$231:E$575) -> 11 | AE27: =LOOKUP($D27,'Design Component Spatial Info'!$C$231:$C$575,'Design Component Spatial Info'!M$231:M$575) -> 365931 | AF27: =LOOKUP($D27,'Design Component Spatial Info'!$C$231:$C$575,'Design Component Spatial Info'!N$231:N$575) -> 5436975 | AG27: =IF(V27="",0,SIN(RADIANS(VALUE(V27)))*VALUE(W27)+AE27) -> 365893.5 | AH27: =IF(V27="",0,COS(RADIANS(VALUE(V27)))*VALUE(W27)+AF27) -> 5437040 | AI27: =LOOKUP($D27,'Design Component Spatial Info'!$C$231:$C$575,'Design Component Spatial Info'!O$231:O$575) -> 1523210.4 | AJ27: =LOOKUP($D27,'Design Component Spatial Info'!$C$231:$C$575,'Design Component Spatial Info'!P$231:P$575) -> 477021.61 | AK27: 1523165 | AL27: 477081.29 | AM27: 0.403481 | AN27: =IF(AM27<0.05,"VL",IF(AM27<0.16,"L","M")) -> M
A28: Patch Monitoring | B28: Boundary | C28: RA | D28: 007-1-4 | E28: =LEFT(D28,5) -> 007-1 | F28: 41752 | G28: Les Gyug | H28: Patch CPB | I28: 0.54097222 | J28: 2 | K28: Walk | L28: 5 | M28: 1 | N28: 3 | O28: N | P28: B-WISA | Q28: 85 | R28: 1 | S28: U | T28: D | U28: DR | V28: 165 | W28: 100 | X28: AD | Y28: TE | AA28: WB541 | AB28: POSSIBLE PAIR | AD28: =LOOKUP($D28,'Design Component Spatial Info'!$C$231:$C$575,'Design Component Spatial Info'!E$231:E$575) -> 11 | AE28: =LOOKUP($D28,'Design Component Spatial Info'!$C$231:$C$575,'Design Component Spatial Info'!M$231:M$575) -> 365931 | AF28: =LOOKUP($D28,'Design Component Spatial Info'!$C$231:$C$575,'Design Component Spatial Info'!N$231:N$575) -> 5436975 | AG28: =IF(V28="",0,SIN(RADIANS(VALUE(V28)))*VALUE(W28)+AE28) -> 365956.88 | AH28: =IF(V28="",0,COS(RADIANS(VALUE(V28)))*VALUE(W28)+AF28) -> 5436878.4 | AI28: =LOOKUP($D28,'Design Component Spatial Info'!$C$231:$C$575,'Design Component Spatial Info'!O$231:O$575) -> 1523210.4 | AJ28: =LOOKUP($D28,'Design Component Spatial Info'!$C$231:$C$575,'Design Component Spatial Info'!P$231:P$575) -> 477021.61 | AK28: 1523248.1 | AL28: 476929.11 | AM28: 0.403481 | AN28: =IF(AM28<0.05,"VL",IF(AM28<0.16,"L","M")) -> M
A29: Patch Monitoring | B29: Boundary | C29: RA | D29: 008-1-1 | E29: =LEFT(D29,5) -> 008-1 | F29: 41752 | G29: Philip Gyug | H29: Patch CPB | I29: 0.64791667 | J29: 1 | K29: Walk | L29: 5 | M29: 3 | N29: 3 | O29: N | P29: NULL | R29: 0 | AD29: =LOOKUP($D29,'Design Component Spatial Info'!$C$231:$C$575,'Design Component Spatial Info'!E$231:E$575) -> 11 | AE29: =LOOKUP($D29,'Design Component Spatial Info'!$C$231:$C$575,'Design Component Spatial Info'!M$231:M$575) -> 367059.26 | AF29: =LOOKUP($D29,'Design Component Spatial Info'!$C$231:$C$575,'Design Component Spatial Info'!N$231:N$575) -> 5439080.7 | AG29: =IF(V29="",0,SIN(RADIANS(VALUE(V29)))*VALUE(W29)+AE29) -> 0 | AH29: =IF(V29="",0,COS(RADIANS(VALUE(V29)))*VALUE(W29)+AF29) -> 0 | AI29: =LOOKUP($D29,'Design Component Spatial Info'!$C$231:$C$575,'Design Component Spatial Info'!O$231:O$575) -> 1524068 | AJ29: =LOOKUP($D29,'Design Component Spatial Info'!$C$231:$C$575,'Design Component Spatial Info'!P$231:P$575) -> 479250 | AM29: 0.262285 | AN29: =IF(AM29<0.05,"VL",IF(AM29<0.16,"L","M")) -> M
A30: Patch Monitoring | B30: Boundary | C30: RA | D30: 008-1-2 | E30: =LEFT(D30,5) -> 008-1 | F30: 41752 | G30: Les Gyug | H30: Patch CPB | I30: 0.64444444 | J30: 1 | K30: Walk | L30: 8 | M30: 2 | N30: 2 | O30: N | P30: B-WISA | Q30: 20 | R30: 1 | S30: M | T30: VC | U30: VI | V30: 206 | W30: 150 | X30: AD | Y30: TE | AA30: WB542 | AD30: =LOOKUP($D30,'Design Component Spatial Info'!$C$231:$C$575,'Design Component Spatial Info'!E$231:E$575) -> 11 | AE30: =LOOKUP($D30,'Design Component Spatial Info'!$C$231:$C$575,'Design Component Spatial Info'!M$231:M$575) -> 367159.25 | AF30: =LOOKUP($D30,'Design Component Spatial Info'!$C$231:$C$575,'Design Component Spatial Info'!N$231:N$575) -> 5439875.2 | AG30: =IF(V30="",0,SIN(RADIANS(VALUE(V30)))*VALUE(W30)+AE30) -> 367093.5 | AH30: =IF(V30="",0,COS(RADIANS(VALUE(V30)))*VALUE(W30)+AF30) -> 5439740.4 | AI30: =LOOKUP($D30,'Design Component Spatial Info'!$C$231:$C$575,'Design Component Spatial Info'!O$231:O$575) -> 1524068 | AJ30: =LOOKUP($D30,'Design Component Spatial Info'!$C$231:$C$575,'Design Component Spatial Info'!P$231:P$575) -> 480050 | AK30: 1524019.5 | AL30: 479908.14 | AM30: 0.388378 | AN30: =IF(AM30<0.05,"VL",IF(AM30<0.16,"L","M")) -> M
A31: Patch Monitoring | B31: Boundary | C31: RA | D31: 008-1-3 | E31: =LEFT(D31,5) -> 008-1 | F31: 41752 | G31: Philip Gyug | H31: Patch CPB | I31: 0.69583333 | J31: 1 | K31: Walk | L31: 5 | M31: 1 | N31: 3 | O31: N | P31: B-WISA | Q31: 15 | R31: 1 | S31: U | T31: D | U31: DR | V31: 150 | W31: 150 | X31: AD | Y31: TE | AA31: WB543 | AD31: =LOOKUP($D31,'Design Component Spatial Info'!$C$231:$C$575,'Design Component Spatial Info'!E$231:E$575) -> 11 | AE31: =LOOKUP($D31,'Design Component Spatial Info'!$C$231:$C$575,'Design Component Spatial Info'!M$231:M$575) -> 367851.9 | AF31: =LOOKUP($D31,'Design Component Spatial Info'!$C$231:$C$575,'Design Component Spatial Info'!N$231:N$575) -> 5438980.6 | AG31: =IF(V31="",0,SIN(RADIANS(VALUE(V31)))*VALUE(W31)+AE31) -> 367926.9 | AH31: =IF(V31="",0,COS(RADIANS(VALUE(V31)))*VALUE(W31)+AF31) -> 5438850.7 | AI31: =LOOKUP($D31,'Design Component Spatial Info'!$C$231:$C$575,'Design Component Spatial Info'!O$231:O$575) -> 1524868 | AJ31: =LOOKUP($D31,'Design Component Spatial Info'!$C$231:$C$575,'Design Component Spatial Info'!P$231:P$575) -> 479250 | AK31: 1524958.8 | AL31: 479130.64 | AM31: 0.176291 | AN31: =IF(AM31<0.05,"VL",IF(AM31<0.16,"L","M")) -> M
A32: Patch Monitoring | B32: Boundary | C32: RA | D32: 008-1-4 | E32: =LEFT(D32,5) -> 008-1 | F32: 41752 | G32: Les Gyug | H32: Patch CPB | I32: 0.70416667 | J32: 1 | K32: Walk | L32: 5 | M32: 2 | N32: 2 | O32: N | P32: B-WISA | Q32: 124 | R32: 1 | S32: U | T32: C | U32: CA | V32: 168 | W32: 300 | X32: AD | Y32: TE | AA32: WB544 | AD32: =LOOKUP($D32,'Design Component Spatial Info'!$C$231:$C$575,'Design Component Spatial Info'!E$231:E$575) -> 11 | AE32: =LOOKUP($D32,'Design Component Spatial Info'!$C$231:$C$575,'Design Component Spatial Info'!M$231:M$575) -> 367951.9 | AF32: =LOOKUP($D32,'Design Component Spatial Info'!$C$231:$C$575,'Design Component Spatial Info'!N$231:N$575) -> 5439775.1 | AG32: =IF(V32="",0,SIN(RADIANS(VALUE(V32)))*VALUE(W32)+AE32) -> 368014.28 | AH32: =IF(V32="",0,COS(RADIANS(VALUE(V32)))*VALUE(W32)+AF32) -> 5439481.7 | AI32: =LOOKUP($D32,'Design Component Spatial Info'!$C$231:$C$575,'Design Component Spatial Info'!O$231:O$575) -> 1524868 | AJ32: =LOOKUP($D32,'Design Component Spatial Info'!$C$231:$C$575,'Design Component Spatial Info'!P$231:P$575) -> 480050 | AK32: 1524966.7 | AL32: 479766.96 | AM32: 0.162482 | AN32: =IF(AM32<0.05,"VL",IF(AM32<0.16,"L","M")) -> M
A33: Patch Monitoring | B33: Boundary | C33: RA | D33: 009-1-1 | E33: =LEFT(D33,5) -> 009-1 | F33: 41753 | G33: Les Gyug | H33: Patch CPB | I33: 0.41527778 | J33: 1 | K33: Walk | L33: 1 | M33: 0 | N33: 4 | O33: M | P33: NULL | R33: 0 | V33: 50 | W33: 425 | AD33: =LOOKUP($D33,'Design Component Spatial Info'!$C$231:$C$575,'Design Component Spatial Info'!E$231:E$575) -> 11 | AE33: =LOOKUP($D33,'Design Component Spatial Info'!$C$231:$C$575,'Design Component Spatial Info'!M$231:M$575) -> 370029.77 | AF33: =LOOKUP($D33,'Design Component Spatial Info'!$C$231:$C$575,'Design Component Spatial Info'!N$231:N$575) -> 5437091.1 | AG33: =IF(V33="",0,SIN(RADIANS(VALUE(V33)))*VALUE(W33)+AE33) -> 370355.34 | AH33: =IF(V33="",0,COS(RADIANS(VALUE(V33)))*VALUE(W33)+AF33) -> 5437364.3 | AI33: =LOOKUP($D33,'Design Component Spatial Info'!$C$231:$C$575,'Design Component Spatial Info'!O$231:O$575) -> 1527268 | AJ33: =LOOKUP($D33,'Design Component Spatial Info'!$C$231:$C$575,'Design Component Spatial Info'!P$231:P$575) -> 477650 | AM33: 0.198449 | AN33: =IF(AM33<0.05,"VL",IF(AM33<0.16,"L","M")) -> M
A34: Patch Monitoring | B34: Boundary | C34: RA | D34: 009-1-2 | E34: =LEFT(D34,5) -> 009-1 | F34: 41753 | G34: Les Gyug | H34: Patch CPB | I34: 0.43472222 | J34: 1 | K34: Walk | L34: 2 | M34: 0 | N34: 4 | O34: N | P34: NULL | R34: 0 | AD34: =LOOKUP($D34,'Design Component Spatial Info'!$C$231:$C$575,'Design Component Spatial Info'!E$231:E$575) -> 11 | AE34: =LOOKUP($D34,'Design Component Spatial Info'!$C$231:$C$575,'Design Component Spatial Info'!M$231:M$575) -> 370129.79 | AF34: =LOOKUP($D34,'Design Component Spatial Info'!$C$231:$C$575,'Design Component Spatial Info'!N$231:N$575) -> 5437885.6 | AG34: =IF(V34="",0,SIN(RADIANS(VALUE(V34)))*VALUE(W34)+AE34) -> 0 | AH34: =IF(V34="",0,COS(RADIANS(VALUE(V34)))*VALUE(W34)+AF34) -> 0 | AI34: =LOOKUP($D34,'Design Component Spatial Info'!$C$231:$C$575,'Design Component Spatial Info'!O$231:O$575) -> 1527268 | AJ34: =LOOKUP($D34,'Design Component Spatial Info'!$C$231:$C$575,'Design Component Spatial Info'!P$231:P$575) -> 478450 | AM34: 0.195571 | AN34: =IF(AM34<0.05,"VL",IF(AM34<0.16,"L","M")) -> M
A35: Patch Monitoring | B35: Boundary | C35: RA | D35: 009-1-3 | E35: =LEFT(D35,5) -> 009-1 | F35: 41753 | G35: Philip Gyug | H35: Patch CPB | I35: 0.42361111 | J35: 1 | K35: Walk | L35: 5 | M35: 0 | N35: 4 | O35: N | P35: B-WISA | Q35: 30 | R35: 1 | S35: U | T35: VDC | U35: VI | V35: 254 | W35: 100 | X35: AD | Y35: TE | AA35: WB545 | AD35: =LOOKUP($D35,'Design Component Spatial Info'!$C$231:$C$575,'Design Component Spatial Info'!E$231:E$575) -> 11 | AE35: =LOOKUP($D35,'Design Component Spatial Info'!$C$231:$C$575,'Design Component Spatial Info'!M$231:M$575) -> 370822.39 | AF35: =LOOKUP($D35,'Design Component Spatial Info'!$C$231:$C$575,'Design Component Spatial Info'!N$231:N$575) -> 5436991 | AG35: =IF(V35="",0,SIN(RADIANS(VALUE(V35)))*VALUE(W35)+AE35) -> 370726.26 | AH35: =IF(V35="",0,COS(RADIANS(VALUE(V35)))*VALUE(W35)+AF35) -> 5436963.4 | AI35: =LOOKUP($D35,'Design Component Spatial Info'!$C$231:$C$575,'Design Component Spatial Info'!O$231:O$575) -> 1528068 | AJ35: =LOOKUP($D35,'Design Component Spatial Info'!$C$231:$C$575,'Design Component Spatial Info'!P$231:P$575) -> 477650 | AK35: 1527975.9 | AL35: 477610.64 | AM35: 0.121749 | AN35: =IF(AM35<0.05,"VL",IF(AM35<0.16,"L","M")) -> L
A36: Patch Monitoring | B36: Boundary | C36: RA | D36: 009-1-3 | E36: =LEFT(D36,5) -> 009-1 | F36: 41753 | G36: Philip Gyug | H36: Patch CPB | I36: 0.42361111 | J36: 2 | K36: Walk | L36: 5 | M36: 0 | N36: 4 | O36: N | P36: B-WISA | Q36: 30 | R36: 1 | S36: U | T36: VC | U36: VI | V36: 254 | W36: 30 | X36: AD | Y36: TE | AA36: WB546 | AD36: =LOOKUP($D36,'Design Component Spatial Info'!$C$231:$C$575,'Design Component Spatial Info'!E$231:E$575) -> 11 | AE36: =LOOKUP($D36,'Design Component Spatial Info'!$C$231:$C$575,'Design Component Spatial Info'!M$231:M$575) -> 370822.39 | AF36: =LOOKUP($D36,'Design Component Spatial Info'!$C$231:$C$575,'Design Component Spatial Info'!N$231:N$575) -> 5436991 | AG36: =IF(V36="",0,SIN(RADIANS(VALUE(V36)))*VALUE(W36)+AE36) -> 370793.55 | AH36: =IF(V36="",0,COS(RADIANS(VALUE(V36)))*VALUE(W36)+AF36) -> 5436982.7 | AI36: =LOOKUP($D36,'Design Component Spatial Info'!$C$231:$C$575,'Design Component Spatial Info'!O$231:O$575) -> 1528068 | AJ36: =LOOKUP($D36,'Design Component Spatial Info'!$C$231:$C$575,'Design Component Spatial Info'!P$231:P$575) -> 477650 | AK36: 1528040.4 | AL36: 477638.19 | AM36: 0.121749 | AN36: =IF(AM36<0.05,"VL",IF(AM36<0.16,"L","M")) -> L
A37: Patch Monitoring | B37: Boundary | C37: RA | D37: 009-1-4 | E37: =LEFT(D37,5) -> 009-1 | F37: 41753 | G37: Les Gyug | H37: Patch CPB | I37: 0.39097222 | J37: 1 | K37: Road | L37: 4 | M37: 0 | N37: 4 | O37: N | P37: NULL | R37: 0 | AD37: =LOOKUP($D37,'Design Component Spatial Info'!$C$231:$C$575,'Design Component Spatial Info'!E$231:E$575) -> 11 | AE37: =LOOKUP($D37,'Design Component Spatial Info'!$C$231:$C$575,'Design Component Spatial Info'!M$231:M$575) -> 370922.41 | AF37: =LOOKUP($D37,'Design Component Spatial Info'!$C$231:$C$575,'Design Component Spatial Info'!N$231:N$575) -> 5437785.5 | AG37: =IF(V37="",0,SIN(RADIANS(VALUE(V37)))*VALUE(W37)+AE37) -> 0 | AH37: =IF(V37="",0,COS(RADIANS(VALUE(V37)))*VALUE(W37)+AF37) -> 0 | AI37: =LOOKUP($D37,'Design Component Spatial Info'!$C$231:$C$575,'Design Component Spatial Info'!O$231:O$575) -> 1528068 | AJ37: =LOOKUP($D37,'Design Component Spatial Info'!$C$231:$C$575,'Design Component Spatial Info'!P$231:P$575) -> 478450 | AM37: 0.224344 | AN37: =IF(AM37<0.05,"VL",IF(AM37<0.16,"L","M")) -> M
A38: Patch Monitoring | B38: Boundary | C38: RA | D38: 010-1-1 | E38: =LEFT(D38,5) -> 010-1 | F38: 41752 | G38: Les Gyug | H38: Patch CPB | I38: 0.575 | J38: 1 | K38: Walk | L38: 6 | M38: 0 | N38: 3 | O38: N | P38: B-WISA | Q38: 96 | R38: 1 | S38: U | T38: D | U38: DR | V38: 335 | W38: 250 | X38: AD | Y38: TE | AA38: WB547 | AD38: =LOOKUP($D38,'Design Component Spatial Info'!$C$231:$C$575,'Design Component Spatial Info'!E$231:E$575) -> 11 | AE38: =LOOKUP($D38,'Design Component Spatial Info'!$C$231:$C$575,'Design Component Spatial Info'!M$231:M$575) -> 363888.65 | AF38: =LOOKUP($D38,'Design Component Spatial Info'!$C$231:$C$575,'Design Component Spatial Info'!N$231:N$575) -> 5439481.2 | AG38: =IF(V38="",0,SIN(RADIANS(VALUE(V38)))*VALUE(W38)+AE38) -> 363782.99 | AH38: =IF(V38="",0,COS(RADIANS(VALUE(V38)))*VALUE(W38)+AF38) -> 5439707.8 | AI38: =LOOKUP($D38,'Design Component Spatial Info'!$C$231:$C$575,'Design Component Spatial Info'!O$231:O$575) -> 1520868 | AJ38: =LOOKUP($D38,'Design Component Spatial Info'!$C$231:$C$575,'Design Component Spatial Info'!P$231:P$575) -> 479250 | AK38: 1520734.7 | AL38: 479461.35 | AM38: 0.20134 | AN38: =IF(AM38<0.05,"VL",IF(AM38<0.16,"L","M")) -> M
A39: Patch Monitoring | B39: Boundary | C39: RA | D39: 010-1-1 | E39: =LEFT(D39,5) -> 010-1 | F39: 41752 | G39: Les Gyug | H39: Patch CPB | I39: 0.575 | J39: 2 | K39: Walk | L39: 6 | M39: 0 | N39: 3 | O39: N | P39: B-WISA | Q39: 116 | R39: 1 | S39: U | T39: C | U39: CA | V39: 52 | W39: 175 | X39: AD | Y39: TE | AA39: WB548 | AD39: =LOOKUP($D39,'Design Component Spatial Info'!$C$231:$C$575,'Design Component Spatial Info'!E$231:E$575) -> 11 | AE39: =LOOKUP($D39,'Design Component Spatial Info'!$C$231:$C$575,'Design Component Spatial Info'!M$231:M$575) -> 363888.65 | AF39: =LOOKUP($D39,'Design Component Spatial Info'!$C$231:$C$575,'Design Component Spatial Info'!N$231:N$575) -> 5439481.2 | AG39: =IF(V39="",0,SIN(RADIANS(VALUE(V39)))*VALUE(W39)+AE39) -> 364026.55 | AH39: =IF(V39="",0,COS(RADIANS(VALUE(V39)))*VALUE(W39)+AF39) -> 5439589 | AI39: =LOOKUP($D39,'Design Component Spatial Info'!$C$231:$C$575,'Design Component Spatial Info'!O$231:O$575) -> 1520868 | AJ39: =LOOKUP($D39,'Design Component Spatial Info'!$C$231:$C$575,'Design Component Spatial Info'!P$231:P$575) -> 479250 | AK39: 1520991.5 | AL39: 479374.05 | AM39: 0.20134 | AN39: =IF(AM39<0.05,"VL",IF(AM39<0.16,"L","M")) -> M
A40: Patch Monitoring | B40: Boundary | C40: RA | D40: 010-1-2 | E40: =LEFT(D40,5) -> 010-1 | F40: 41752 | G40: Les Gyug | H40: Patch CPB | I40: 0.59166667 | J40: 1 | K40: Walk | L40: 6 | M40: 0 | N40: 3 | O40: LS | P40: NULL | R40: 0 | AD40: =LOOKUP($D40,'Design Component Spatial Info'!$C$231:$C$575,'Design Component Spatial Info'!E$231:E$575) -> 11 | AE40: =LOOKUP($D40,'Design Component Spatial Info'!$C$231:$C$575,'Design Component Spatial Info'!M$231:M$575) -> 363988.61 | AF40: =LOOKUP($D40,'Design Component Spatial Info'!$C$231:$C$575,'Design Component Spatial Info'!N$231:N$575) -> 5440275.7 | AG40: =IF(V40="",0,SIN(RADIANS(VALUE(V40)))*VALUE(W40)+AE40) -> 0 | AH40: =IF(V40="",0,COS(RADIANS(VALUE(V40)))*VALUE(W40)+AF40) -> 0 | AI40: =LOOKUP($D40,'Design Component Spatial Info'!$C$231:$C$575,'Design Component Spatial Info'!O$231:O$575) -> 1520868 | AJ40: =LOOKUP($D40,'Design Component Spatial Info'!$C$231:$C$575,'Design Component Spatial Info'!P$231:P$575) -> 480050 | AM40: 0.594866 | AN40: =IF(AM40<0.05,"VL",IF(AM40<0.16,"L","M")) -> M
A41: Patch Monitoring | B41: Boundary | C41: RA | D41: 010-1-3 | E41: =LEFT(D41,5) -> 010-1 | F41: 41752 | G41: Philip Gyug | H41: Patch CPB | I41: 0.58055556 | J41: 1 | K41: Walk | L41: 5 | M41: 0 | N41: 3 | O41: N | P41: NULL | R41: 0 | AD41: =LOOKUP($D41,'Design Component Spatial Info'!$C$231:$C$575,'Design Component Spatial Info'!E$231:E$575) -> 11 | AE41: =LOOKUP($D41,'Design Component Spatial Info'!$C$231:$C$575,'Design Component Spatial Info'!M$231:M$575) -> 364681.31 | AF41: =LOOKUP($D41,'Design Component Spatial Info'!$C$231:$C$575,'Design Component Spatial Info'!N$231:N$575) -> 5439381.1 | AG41: =IF(V41="",0,SIN(RADIANS(VALUE(V41)))*VALUE(W41)+AE41) -> 0 | AH41: =IF(V41="",0,COS(RADIANS(VALUE(V41)))*VALUE(W41)+AF41) -> 0 | AI41: =LOOKUP($D41,'Design Component Spatial Info'!$C$231:$C$575,'Design Component Spatial Info'!O$231:O$575) -> 1521668 | AJ41: =LOOKUP($D41,'Design Component Spatial Info'!$C$231:$C$575,'Design Component Spatial Info'!P$231:P$575) -> 479250 | AM41: 0.290606 | AN41: =IF(AM41<0.05,"VL",IF(AM41<0.16,"L","M")) -> M
A42: Patch Monitoring | B42: Boundary | C42: RA | D42: 010-1-4 | E42: =LEFT(D42,5) -> 010-1 | F42: 41752 | G42: Philip Gyug | H42: Patch CPB | I42: 0.60069444 | J42: 1 | K42: Walk | L42: 5 | M42: 0 | N42: 3 | O42: N | P42: NULL | R42: 0 | AD42: =LOOKUP($D42,'Design Component Spatial Info'!$C$231:$C$575,'Design Component Spatial Info'!E$231:E$575) -> 11 | AE42: =LOOKUP($D42,'Design Component Spatial Info'!$C$231:$C$575,'Design Component Spatial Info'!M$231:M$575) -> 364781.28 | AF42: =LOOKUP($D42,'Design Component Spatial Info'!$C$231:$C$575,'Design Component Spatial Info'!N$231:N$575) -> 5440175.6 | AG42: =IF(V42="",0,SIN(RADIANS(VALUE(V42)))*VALUE(W42)+AE42) -> 0 | AH42: =IF(V42="",0,COS(RADIANS(VALUE(V42)))*VALUE(W42)+AF42) -> 0 | AI42: =LOOKUP($D42,'Design Component Spatial Info'!$C$231:$C$575,'Design Component Spatial Info'!O$231:O$575) -> 1521668 | AJ42: =LOOKUP($D42,'Design Component Spatial Info'!$C$231:$C$575,'Design Component Spatial Info'!P$231:P$575) -> 480050 | AM42: 0.263075 | AN42: =IF(AM42<0.05,"VL",IF(AM42<0.16,"L","M")) -> M
A43: Patch Monitoring | B43: Boundary | C43: RA | D43: 011-1-1 | E43: =LEFT(D43,5) -> 011-1 | F43: 41755 | G43: Les Gyug | H43: Patch CPB | I43: 0.38263889 | J43: 1 | K43: Walk | L43: 2 | M43: 0 | N43: 4 | O43: D | P43: B-WISA | Q43: 0 | R43: 1 | S43: U | T43: C | U43: CA | V43: 275 | W43: 150 | X43: AD | Y43: TE | AA43: WB549 | AD43: =LOOKUP($D43,'Design Component Spatial Info'!$C$231:$C$575,'Design Component Spatial Info'!E$231:E$575) -> 11 | AE43: =LOOKUP($D43,'Design Component Spatial Info'!$C$231:$C$575,'Design Component Spatial Info'!M$231:M$575) -> 352791.01 | AF43: =LOOKUP($D43,'Design Component Spatial Info'!$C$231:$C$575,'Design Component Spatial Info'!N$231:N$575) -> 5440881.9 | AG43: =IF(V43="",0,SIN(RADIANS(VALUE(V43)))*VALUE(W43)+AE43) -> 352641.58 | AH43: =IF(V43="",0,COS(RADIANS(VALUE(V43)))*VALUE(W43)+AF43) -> 5440895 | AI43: =LOOKUP($D43,'Design Component Spatial Info'!$C$231:$C$575,'Design Component Spatial Info'!O$231:O$575) -> 1509668 | AJ43: =LOOKUP($D43,'Design Component Spatial Info'!$C$231:$C$575,'Design Component Spatial Info'!P$231:P$575) -> 479250 | AK43: 1509517.9 | AL43: 479244.28 | AM43: 0.106108 | AN43: =IF(AM43<0.05,"VL",IF(AM43<0.16,"L","M")) -> L
A44: Patch Monitoring | B44: Boundary | C44: RA | D44: 011-1-2 | E44: =LEFT(D44,5) -> 011-1 | F44: 41755 | G44: Les Gyug | H44: Patch CPB | I44: 0.37152778 | J44: 1 | K44: Walk | L44: 2 | M44: 0 | N44: 4 | O44: LS | P44: NULL | R44: 0 | AD44: =LOOKUP($D44,'Design Component Spatial Info'!$C$231:$C$575,'Design Component Spatial Info'!E$231:E$575) -> 11 | AE44: =LOOKUP($D44,'Design Component Spatial Info'!$C$231:$C$575,'Design Component Spatial Info'!M$231:M$575) -> 352890.88 | AF44: =LOOKUP($D44,'Design Component Spatial Info'!$C$231:$C$575,'Design Component Spatial Info'!N$231:N$575) -> 5441676.5 | AG44: =IF(V44="",0,SIN(RADIANS(VALUE(V44)))*VALUE(W44)+AE44) -> 0 | AH44: =IF(V44="",0,COS(RADIANS(VALUE(V44)))*VALUE(W44)+AF44) -> 0 | AI44: =LOOKUP($D44,'Design Component Spatial Info'!$C$231:$C$575,'Design Component Spatial Info'!O$231:O$575) -> 1509668 | AJ44: =LOOKUP($D44,'Design Component Spatial Info'!$C$231:$C$575,'Design Component Spatial Info'!P$231:P$575) -> 480050 | AM44: 0.069972 | AN44: =IF(AM44<0.05,"VL",IF(AM44<0.16,"L","M")) -> L
A45: Patch Monitoring | B45: Boundary | C45: RA | D45: 011-1-3 | E45: =LEFT(D45,5) -> 011-1 | F45: 41755 | G45: Philip Gyug | H45: Patch CPB | I45: 0.43819444 | J45: 1 | K45: Walk | L45: 3 | M45: 1 | N45: 4 | O45: LS | P45: NULL | R45: 0 | AD45: =LOOKUP($D45,'Design Component Spatial Info'!$C$231:$C$575,'Design Component Spatial Info'!E$231:E$575) -> 11 | AE45: =LOOKUP($D45,'Design Component Spatial Info'!$C$231:$C$575,'Design Component Spatial Info'!M$231:M$575) -> 352990.75 | AF45: =LOOKUP($D45,'Design Component Spatial Info'!$C$231:$C$575,'Design Component Spatial Info'!N$231:N$575) -> 5442471 | AG45: =IF(V45="",0,SIN(RADIANS(VALUE(V45)))*VALUE(W45)+AE45) -> 0 | AH45: =IF(V45="",0,COS(RADIANS(VALUE(V45)))*VALUE(W45)+AF45) -> 0 | AI45: =LOOKUP($D45,'Design Component Spatial Info'!$C$231:$C$575,'Design Component Spatial Info'!O$231:O$575) -> 1509668 | AJ45: =LOOKUP($D45,'Design Component Spatial Info'!$C$231:$C$575,'Design Component Spatial Info'!P$231:P$575) -> 480850 | AM45: 0.122158 | AN45: =IF(AM45<0.05,"VL",IF(AM45<0.16,"L","M")) -> L
A46: Patch Monitoring | B46: Boundary | C46: RA | D46: 011-1-4 | E46: =LEFT(D46,5) -> 011-1 | F46: 41755 | G46: Les Gyug | H46: Patch CPB | I46: 0.38888889 | J46: 1 | K46: Walk | L46: 3 | M46: 1 | N46: 4 | O46: M | P46: NULL | R46: 0 | AD46: =LOOKUP($D46,'Design Component Spatial Info'!$C$231:$C$575,'Design Component Spatial Info'!E$231:E$575) -> 11 | AE46: =LOOKUP($D46,'Design Component Spatial Info'!$C$231:$C$575,'Design Component Spatial Info'!M$231:M$575) -> 353090.62 | AF46: =LOOKUP($D46,'Design Component Spatial Info'!$C$231:$C$575,'Design Component Spatial Info'!N$231:N$575) -> 5443265.5 | AG46: =IF(V46="",0,SIN(RADIANS(VALUE(V46)))*VALUE(W46)+AE46) -> 0 | AH46: =IF(V46="",0,COS(RADIANS(VALUE(V46)))*VALUE(W46)+AF46) -> 0 | AI46: =LOOKUP($D46,'Design Component Spatial Info'!$C$231:$C$575,'Design Component Spatial Info'!O$231:O$575) -> 1509668 | AJ46: =LOOKUP($D46,'Design Component Spatial Info'!$C$231:$C$575,'Design Component Spatial Info'!P$231:P$575) -> 481650 | AM46: 0.154517 | AN46: =IF(AM46<0.05,"VL",IF(AM46<0.16,"L","M")) -> L
A47: Patch Monitoring | B47: Boundary | C47: RA | D47: 012-1-1 | E47: =LEFT(D47,5) -> 012-1 | F47: 41752 | G47: Les Gyug | H47: Patch CPB | I47: 0.41458333 | J47: 1 | K47: Road | L47: 2 | M47: 0 | N47: 4 | O47: LS | P47: NULL | R47: 0 | AD47: =LOOKUP($D47,'Design Component Spatial Info'!$C$231:$C$575,'Design Component Spatial Info'!E$231:E$575) -> 11 | AE47: =LOOKUP($D47,'Design Component Spatial Info'!$C$231:$C$575,'Design Component Spatial Info'!M$231:M$575) -> 360929 | AF47: =LOOKUP($D47,'Design Component Spatial Info'!$C$231:$C$575,'Design Component Spatial Info'!N$231:N$575) -> 5441399 | AG47: =IF(V47="",0,SIN(RADIANS(VALUE(V47)))*VALUE(W47)+AE47) -> 0 | AH47: =IF(V47="",0,COS(RADIANS(VALUE(V47)))*VALUE(W47)+AF47) -> 0 | AI47: =LOOKUP($D47,'Design Component Spatial Info'!$C$231:$C$575,'Design Component Spatial Info'!O$231:O$575) -> 1517688 | AJ47: =LOOKUP($D47,'Design Component Spatial Info'!$C$231:$C$575,'Design Component Spatial Info'!P$231:P$575) -> 480780.43 | AM47: 0.115261 | AN47: =IF(AM47<0.05,"VL",IF(AM47<0.16,"L","M")) -> L
A48: Patch Monitoring | B48: Boundary | C48: RA | D48: 012-1-2 | E48: =LEFT(D48,5) -> 012-1 | F48: 41752 | G48: Les Gyug | H48: Patch CPB | I48: 0.42847222 | J48: 1 | K48: Walk | L48: 2 | M48: 0 | N48: 3 | O48: N | P48: NULL | R48: 0 | AD48: =LOOKUP($D48,'Design Component Spatial Info'!$C$231:$C$575,'Design Component Spatial Info'!E$231:E$575) -> 11 | AE48: =LOOKUP($D48,'Design Component Spatial Info'!$C$231:$C$575,'Design Component Spatial Info'!M$231:M$575) -> 361017.8 | AF48: =LOOKUP($D48,'Design Component Spatial Info'!$C$231:$C$575,'Design Component Spatial Info'!N$231:N$575) -> 5442265.1 | AG48: =IF(V48="",0,SIN(RADIANS(VALUE(V48)))*VALUE(W48)+AE48) -> 0 | AH48: =IF(V48="",0,COS(RADIANS(VALUE(V48)))*VALUE(W48)+AF48) -> 0 | AI48: =LOOKUP($D48,'Design Component Spatial Info'!$C$231:$C$575,'Design Component Spatial Info'!O$231:O$575) -> 1517668 | AJ48: =LOOKUP($D48,'Design Component Spatial Info'!$C$231:$C$575,'Design Component Spatial Info'!P$231:P$575) -> 481650 | AM48: 0.198293 | AN48: =IF(AM48<0.05,"VL",IF(AM48<0.16,"L","M")) -> M
A49: Patch Monitoring | B49: Boundary | C49: RA | D49: 012-1-3 | E49: =LEFT(D49,5) -> 012-1 | F49: 41752 | G49: Philip Gyug | H49: Patch CPB | I49: 0.425 | J49: 1 | K49: Walk | L49: 2 | M49: 0 | N49: 4 | O49: N | P49: B-WISA | Q49: 195 | R49: 1 | S49: U | T49: D | U49: DR | V49: 266 | W49: 150 | X49: AD | Y49: TE | AA49: WB550 | AD49: =LOOKUP($D49,'Design Component Spatial Info'!$C$231:$C$575,'Design Component Spatial Info'!E$231:E$575) -> 11 | AE49: =LOOKUP($D49,'Design Component Spatial Info'!$C$231:$C$575,'Design Component Spatial Info'!M$231:M$575) -> 361710.54 | AF49: =LOOKUP($D49,'Design Component Spatial Info'!$C$231:$C$575,'Design Component Spatial Info'!N$231:N$575) -> 5441370.5 | AG49: =IF(V49="",0,SIN(RADIANS(VALUE(V49)))*VALUE(W49)+AE49) -> 361560.9 | AH49: =IF(V49="",0,COS(RADIANS(VALUE(V49)))*VALUE(W49)+AF49) -> 5441360.1 | AI49: =LOOKUP($D49,'Design Component Spatial Info'!$C$231:$C$575,'Design Component Spatial Info'!O$231:O$575) -> 1518468 | AJ49: =LOOKUP($D49,'Design Component Spatial Info'!$C$231:$C$575,'Design Component Spatial Info'!P$231:P$575) -> 480850 | AK49: 1518320.7 | AL49: 480820.9 | AM49: 0.121693 | AN49: =IF(AM49<0.05,"VL",IF(AM49<0.16,"L","M")) -> L
A50: Patch Monitoring | B50: Boundary | C50: RA | D50: 012-1-4 | E50: =LEFT(D50,5) -> 012-1 | F50: 41752 | G50: Les Gyug | H50: Patch CPB | I50: 0.40486111 | J50: 1 | K50: Walk | L50: 2 | M50: 0 | N50: 4 | O50: LS | P50: NULL | R50: 0 | AD50: =LOOKUP($D50,'Design Component Spatial Info'!$C$231:$C$575,'Design Component Spatial Info'!E$231:E$575) -> 11 | AE50: =LOOKUP($D50,'Design Component Spatial Info'!$C$231:$C$575,'Design Component Spatial Info'!M$231:M$575) -> 361810.49 | AF50: =LOOKUP($D50,'Design Component Spatial Info'!$C$231:$C$575,'Design Component Spatial Info'!N$231:N$575) -> 5442165 | AG50: =IF(V50="",0,SIN(RADIANS(VALUE(V50)))*VALUE(W50)+AE50) -> 0 | AH50: =IF(V50="",0,COS(RADIANS(VALUE(V50)))*VALUE(W50)+AF50) -> 0 | AI50: =LOOKUP($D50,'Design Component Spatial Info'!$C$231:$C$575,'Design Component Spatial Info'!O$231:O$575) -> 1518468 | AJ50: =LOOKUP($D50,'Design Component Spatial Info'!$C$231:$C$575,'Design Component Spatial Info'!P$231:P$575) -> 481650 | AM50: 0.302906 | AN50: =IF(AM50<0.05,"VL",IF(AM50<0.16,"L","M")) -> M
A51: Patch Monitoring | B51: Boundary | C51: RA | D51: 013-1-1 | E51: =LEFT(D51,5) -> 013-1 | F51: 41752 | G51: Les Gyug | H51: Patch CPB | I51: 0.34722222 | J51: 1 | K51: Walk | L51: 0 | M51: 0 | N51: 4 | O51: HS | P51: B-WISA | Q51: 60 | R51: 1 | S51: U | T51: DC | U51: DR | V51: 155 | W51: 150 | X51: AD | Y51: TE | AA51: WB551 | AD51: =LOOKUP($D51,'Design Component Spatial Info'!$C$231:$C$575,'Design Component Spatial Info'!E$231:E$575) -> 11 | AE51: =LOOKUP($D51,'Design Component Spatial Info'!$C$231:$C$575,'Design Component Spatial Info'!M$231:M$575) -> 360717.97 | AF51: =LOOKUP($D51,'Design Component Spatial Info'!$C$231:$C$575,'Design Component Spatial Info'!N$231:N$575) -> 5439881.6 | AG51: =IF(V51="",0,SIN(RADIANS(VALUE(V51)))*VALUE(W51)+AE51) -> 360781.37 | AH51: =IF(V51="",0,COS(RADIANS(VALUE(V51)))*VALUE(W51)+AF51) -> 5439745.6 | AI51: =LOOKUP($D51,'Design Component Spatial Info'!$C$231:$C$575,'Design Component Spatial Info'!O$231:O$575) -> 1517668 | AJ51: =LOOKUP($D51,'Design Component Spatial Info'!$C$231:$C$575,'Design Component Spatial Info'!P$231:P$575) -> 479250 | AK51: 1517748 | AL51: 479123.19 | AM51: 0.261848 | AN51: =IF(AM51<0.05,"VL",IF(AM51<0.16,"L","M")) -> M
A52: Patch Monitoring | B52: Boundary | C52: RA | D52: 013-1-2 | E52: =LEFT(D52,5) -> 013-1 | F52: 41752 | G52: Les Gyug | H52: Patch CPB | I52: 0.35694444 | J52: 1 | K52: Walk | L52: 0 | M52: 0 | N52: 4 | O52: LS | P52: NULL | R52: 0 | AD52: =LOOKUP($D52,'Design Component Spatial Info'!$C$231:$C$575,'Design Component Spatial Info'!E$231:E$575) -> 11 | AE52: =LOOKUP($D52,'Design Component Spatial Info'!$C$231:$C$575,'Design Component Spatial Info'!M$231:M$575) -> 360817.91 | AF52: =LOOKUP($D52,'Design Component Spatial Info'!$C$231:$C$575,'Design Component Spatial Info'!N$231:N$575) -> 5440676.1 | AG52: =IF(V52="",0,SIN(RADIANS(VALUE(V52)))*VALUE(W52)+AE52) -> 0 | AH52: =IF(V52="",0,COS(RADIANS(VALUE(V52)))*VALUE(W52)+AF52) -> 0 | AI52: =LOOKUP($D52,'Design Component Spatial Info'!$C$231:$C$575,'Design Component Spatial Info'!O$231:O$575) -> 1517668 | AJ52: =LOOKUP($D52,'Design Component Spatial Info'!$C$231:$C$575,'Design Component Spatial Info'!P$231:P$575) -> 480050 | AM52: 0.204993 | AN52: =IF(AM52<0.05,"VL",IF(AM52<0.16,"L","M")) -> M
A53: Patch Monitoring | B53: Boundary | C53: RA | D53: 013-1-3 | E53: =LEFT(D53,5) -> 013-1 | F53: 41752 | G53: Les Gyug | H53: Patch CPB | I53: 0.3625 | J53: 1 | K53: Walk | L53: 1 | M53: 0 | N53: 4 | O53: HS | P53: B-WISA | Q53: 180 | R53: 1 | S53: U | T53: D | U53: DR | V53: 190 | W53: 200 | X53: AD | Y53: TE | AA53: WB552 | AD53: =LOOKUP($D53,'Design Component Spatial Info'!$C$231:$C$575,'Design Component Spatial Info'!E$231:E$575) -> 11 | AE53: =LOOKUP($D53,'Design Component Spatial Info'!$C$231:$C$575,'Design Component Spatial Info'!M$231:M$575) -> 361510.65 | AF53: =LOOKUP($D53,'Design Component Spatial Info'!$C$231:$C$575,'Design Component Spatial Info'!N$231:N$575) -> 5439781.5 | AG53: =IF(V53="",0,SIN(RADIANS(VALUE(V53)))*VALUE(W53)+AE53) -> 361475.92 | AH53: =IF(V53="",0,COS(RADIANS(VALUE(V53)))*VALUE(W53)+AF53) -> 5439584.6 | AI53: =LOOKUP($D53,'Design Component Spatial Info'!$C$231:$C$575,'Design Component Spatial Info'!O$231:O$575) -> 1518468 | AJ53: =LOOKUP($D53,'Design Component Spatial Info'!$C$231:$C$575,'Design Component Spatial Info'!P$231:P$575) -> 479250 | AK53: 1518458.1 | AL53: 479050.43 | AM53: 0.147377 | AN53: =IF(AM53<0.05,"VL",IF(AM53<0.16,"L","M")) -> L
A54: Patch Monitoring | B54: Boundary | C54: RA | D54: 013-1-4 | E54: =LEFT(D54,5) -> 013-1 | F54: 41752 | G54: Philip Gyug | H54: Patch CPB | I54: 0.45138889 | J54: 1 | K54: Walk | L54: 5 | M54: 0 | N54: 4 | O54: N | P54: NULL | R54: 0 | AD54: =LOOKUP($D54,'Design Component Spatial Info'!$C$231:$C$575,'Design Component Spatial Info'!E$231:E$575) -> 11 | AE54: =LOOKUP($D54,'Design Component Spatial Info'!$C$231:$C$575,'Design Component Spatial Info'!M$231:M$575) -> 361610.59 | AF54: =LOOKUP($D54,'Design Component Spatial Info'!$C$231:$C$575,'Design Component Spatial Info'!N$231:N$575) -> 5440576 | AG54: =IF(V54="",0,SIN(RADIANS(VALUE(V54)))*VALUE(W54)+AE54) -> 0 | AH54: =IF(V54="",0,COS(RADIANS(VALUE(V54)))*VALUE(W54)+AF54) -> 0 | AI54: =LOOKUP($D54,'Design Component Spatial Info'!$C$231:$C$575,'Design Component Spatial Info'!O$231:O$575) -> 1518468 | AJ54: =LOOKUP($D54,'Design Component Spatial Info'!$C$231:$C$575,'Design Component Spatial Info'!P$231:P$575) -> 480050 | AM54: 0.154443 | AN54: =IF(AM54<0.05,"VL",IF(AM54<0.16,"L","M")) -> L
A55: Patch Monitoring | B55: Boundary | C55: RA | D55: 018-1-1 | E55: =LEFT(D55,5) -> 018-1 | F55: 41740 | G55: Les Gyug | H55: Patch CPB | I55: 0.29375 | J55: 1 | K55: Road | L55: 4 | M55: 1 | N55: 2 | O55: N | P55: B-WISA | Q55: 2 | R55: 2 | S55: P | T55: VC | U55: VI | V55: 185 | W55: 60 | X55: AD | Y55: TE | AA55: WB553 | AD55: =LOOKUP($D55,'Design Component Spatial Info'!$C$231:$C$575,'Design Component Spatial Info'!E$231:E$575) -> 11 | AE55: =LOOKUP($D55,'Design Component Spatial Info'!$C$231:$C$575,'Design Component Spatial Info'!M$231:M$575) -> 348968 | AF55: =LOOKUP($D55,'Design Component Spatial Info'!$C$231:$C$575,'Design Component Spatial Info'!N$231:N$575) -> 5435808 | AG55: =IF(V55="",0,SIN(RADIANS(VALUE(V55)))*VALUE(W55)+AE55) -> 348962.77 | AH55: =IF(V55="",0,COS(RADIANS(VALUE(V55)))*VALUE(W55)+AF55) -> 5435748.2 | AI55: =LOOKUP($D55,'Design Component Spatial Info'!$C$231:$C$575,'Design Component Spatial Info'!O$231:O$575) -> 1506503.3 | AJ55: =LOOKUP($D55,'Design Component Spatial Info'!$C$231:$C$575,'Design Component Spatial Info'!P$231:P$575) -> 473743.23 | AK55: 1506505.6 | AL55: 473683.34 | AM55: 0.050796 | AN55: =IF(AM55<0.05,"VL",IF(AM55<0.16,"L","M")) -> L
A56: Patch Monitoring | B56: Boundary | C56: RA | D56: 018-1-1 | E56: =LEFT(D56,5) -> 018-1 | F56: 41740 | G56: Les Gyug | H56: Patch CPB | I56: 0.29375 | J56: 2 | K56: Road | L56: 4 | M56: 1 | N56: 2 | O56: N | P56: B-WISA | Q56: 205 | R56: 1 | S56: U | T56: D | U56: DR | V56: 110 | W56: 100 | X56: AD | Y56: TE | AA56: WB554 | AD56: =LOOKUP($D56,'Design Component Spatial Info'!$C$231:$C$575,'Design Component Spatial Info'!E$231:E$575) -> 11 | AE56: =LOOKUP($D56,'Design Component Spatial Info'!$C$231:$C$575,'Design Component Spatial Info'!M$231:M$575) -> 348968 | AF56: =LOOKUP($D56,'Design Component Spatial Info'!$C$231:$C$575,'Design Component Spatial Info'!N$231:N$575) -> 5435808 | AG56: =IF(V56="",0,SIN(RADIANS(VALUE(V56)))*VALUE(W56)+AE56) -> 349061.97 | AH56: =IF(V56="",0,COS(RADIANS(VALUE(V56)))*VALUE(W56)+AF56) -> 5435773.8 | AI56: =LOOKUP($D56,'Design Component Spatial Info'!$C$231:$C$575,'Design Component Spatial Info'!O$231:O$575) -> 1506503.3 | AJ56: =LOOKUP($D56,'Design Component Spatial Info'!$C$231:$C$575,'Design Component Spatial Info'!P$231:P$575) -> 473743.23 | AK56: 1506601 | AL56: 473721.08 | AM56: 0.050796 | AN56: =IF(AM56<0.05,"VL",IF(AM56<0.16,"L","M")) -> L
A57: Patch Monitoring | B57: Boundary | C57: RA | D57: 018-1-2 | E57: =LEFT(D57,5) -> 018-1 | F57: 41740 | G57: Les Gyug | H57: Patch CPB | I57: 0.28472222 | J57: 1 | K57: Walk | L57: 3 | M57: 1 | N57: 2 | O57: N | P57: NULL | R57: 0 | AD57: =LOOKUP($D57,'Design Component Spatial Info'!$C$231:$C$575,'Design Component Spatial Info'!E$231:E$575) -> 11 | AE57: =LOOKUP($D57,'Design Component Spatial Info'!$C$231:$C$575,'Design Component Spatial Info'!M$231:M$575) -> 349614.22 | AF57: =LOOKUP($D57,'Design Component Spatial Info'!$C$231:$C$575,'Design Component Spatial Info'!N$231:N$575) -> 5434825.2 | AG57: =IF(V57="",0,SIN(RADIANS(VALUE(V57)))*VALUE(W57)+AE57) -> 0 | AH57: =IF(V57="",0,COS(RADIANS(VALUE(V57)))*VALUE(W57)+AF57) -> 0 | AI57: =LOOKUP($D57,'Design Component Spatial Info'!$C$231:$C$575,'Design Component Spatial Info'!O$231:O$575) -> 1507268 | AJ57: =LOOKUP($D57,'Design Component Spatial Info'!$C$231:$C$575,'Design Component Spatial Info'!P$231:P$575) -> 472850 | AM57: 0.114568 | AN57: =IF(AM57<0.05,"VL",IF(AM57<0.16,"L","M")) -> L
A58: Patch Monitoring | B58: Boundary | C58: RA | D58: 018-1-3 | E58: =LEFT(D58,5) -> 018-1 | F58: 41740 | G58: Les Gyug | H58: Patch CPB | I58: 0.30347222 | J58: 1 | K58: Walk | L58: 4 | M58: 0 | N58: 2 | O58: N | P58: B-WISA | Q58: 157 | R58: 1 | S58: U | T58: DC | U58: DR | V58: 110 | W58: 80 | X58: AD | Y58: TE | AA58: WB555 | AD58: =LOOKUP($D58,'Design Component Spatial Info'!$C$231:$C$575,'Design Component Spatial Info'!E$231:E$575) -> 11 | AE58: =LOOKUP($D58,'Design Component Spatial Info'!$C$231:$C$575,'Design Component Spatial Info'!M$231:M$575) -> 349714.04 | AF58: =LOOKUP($D58,'Design Component Spatial Info'!$C$231:$C$575,'Design Component Spatial Info'!N$231:N$575) -> 5435619.9 | AG58: =IF(V58="",0,SIN(RADIANS(VALUE(V58)))*VALUE(W58)+AE58) -> 349789.21 | AH58: =IF(V58="",0,COS(RADIANS(VALUE(V58)))*VALUE(W58)+AF58) -> 5435592.5 | AI58: =LOOKUP($D58,'Design Component Spatial Info'!$C$231:$C$575,'Design Component Spatial Info'!O$231:O$575) -> 1507268 | AJ58: =LOOKUP($D58,'Design Component Spatial Info'!$C$231:$C$575,'Design Component Spatial Info'!P$231:P$575) -> 473650 | AK58: 1507346.1 | AL58: 473632.28 | AM58: 0.107775 | AN58: =IF(AM58<0.05,"VL",IF(AM58<0.16,"L","M")) -> L
A59: Patch Monitoring | B59: Boundary | C59: RA | D59: 018-1-3 | E59: =LEFT(D59,5) -> 018-1 | F59: 41740 | G59: Les Gyug | H59: Patch CPB | I59: 0.30347222 | J59: 2 | K59: Walk | L59: 4 | M59: 0 | N59: 2 | O59: N | P59: B-WISA | Q59: 228 | R59: 1 | S59: U | T59: C | U59: CA | V59: 24 | W59: 200 | X59: AD | Y59: TE | AA59: WB556 | AD59: =LOOKUP($D59,'Design Component Spatial Info'!$C$231:$C$575,'Design Component Spatial Info'!E$231:E$575) -> 11 | AE59: =LOOKUP($D59,'Design Component Spatial Info'!$C$231:$C$575,'Design Component Spatial Info'!M$231:M$575) -> 349714.04 | AF59: =LOOKUP($D59,'Design Component Spatial Info'!$C$231:$C$575,'Design Component Spatial Info'!N$231:N$575) -> 5435619.9 | AG59: =IF(V59="",0,SIN(RADIANS(VALUE(V59)))*VALUE(W59)+AE59) -> 349795.39 | AH59: =IF(V59="",0,COS(RADIANS(VALUE(V59)))*VALUE(W59)+AF59) -> 5435802.6 | AI59: =LOOKUP($D59,'Design Component Spatial Info'!$C$231:$C$575,'Design Component Spatial Info'!O$231:O$575) -> 1507268 | AJ59: =LOOKUP($D59,'Design Component Spatial Info'!$C$231:$C$575,'Design Component Spatial Info'!P$231:P$575) -> 473650 | AK59: 1507326 | AL59: 473841.25 | AM59: 0.107775 | AN59: =IF(AM59<0.05,"VL",IF(AM59<0.16,"L","M")) -> L
A60: Patch Monitoring | B60: Boundary | C60: RA | D60: 018-1-4 | E60: =LEFT(D60,5) -> 018-1 | F60: 41740 | G60: Les Gyug | H60: Patch CPB | I60: 0.27569444 | J60: 1 | K60: Road | L60: 4 | M60: 0 | N60: 2 | O60: N | P60: NULL | R60: 0 | AD60: =LOOKUP($D60,'Design Component Spatial Info'!$C$231:$C$575,'Design Component Spatial Info'!E$231:E$575) -> 11 | AE60: =LOOKUP($D60,'Design Component Spatial Info'!$C$231:$C$575,'Design Component Spatial Info'!M$231:M$575) -> 350406.89 | AF60: =LOOKUP($D60,'Design Component Spatial Info'!$C$231:$C$575,'Design Component Spatial Info'!N$231:N$575) -> 5434725.3 | AG60: =IF(V60="",0,SIN(RADIANS(VALUE(V60)))*VALUE(W60)+AE60) -> 0 | AH60: =IF(V60="",0,COS(RADIANS(VALUE(V60)))*VALUE(W60)+AF60) -> 0 | AI60: =LOOKUP($D60,'Design Component Spatial Info'!$C$231:$C$575,'Design Component Spatial Info'!O$231:O$575) -> 1508068 | AJ60: =LOOKUP($D60,'Design Component Spatial Info'!$C$231:$C$575,'Design Component Spatial Info'!P$231:P$575) -> 472850 | AM60: 0.101053 | AN60: =IF(AM60<0.05,"VL",IF(AM60<0.16,"L","M")) -> L
A61: Patch Monitoring | B61: Boundary | C61: RA | D61: 019-1-1 | E61: =LEFT(D61,5) -> 019-1 | F61: 41740 | G61: Les Gyug | H61: Patch CPB | I61: 0.32361111 | J61: 1 | K61: Walk | L61: 6 | M61: 1 | N61: 2 | O61: N | P61: B-WISA | Q61: 0 | R61: 1 | S61: M | T61: C | U61: CA | V61: 75 | W61: 50 | X61: AD | Y61: TE | AA61: WB557 | AD61: =LOOKUP($D61,'Design Component Spatial Info'!$C$231:$C$575,'Design Component Spatial Info'!E$231:E$575) -> 11 | AE61: =LOOKUP($D61,'Design Component Spatial Info'!$C$231:$C$575,'Design Component Spatial Info'!M$231:M$575) -> 349220.8 | AF61: =LOOKUP($D61,'Design Component Spatial Info'!$C$231:$C$575,'Design Component Spatial Info'!N$231:N$575) -> 5438103.6 | AG61: =IF(V61="",0,SIN(RADIANS(VALUE(V61)))*VALUE(W61)+AE61) -> 349269.1 | AH61: =IF(V61="",0,COS(RADIANS(VALUE(V61)))*VALUE(W61)+AF61) -> 5438116.5 | AI61: =LOOKUP($D61,'Design Component Spatial Info'!$C$231:$C$575,'Design Component Spatial Info'!O$231:O$575) -> 1506468 | AJ61: =LOOKUP($D61,'Design Component Spatial Info'!$C$231:$C$575,'Design Component Spatial Info'!P$231:P$575) -> 476050 | AK61: 1506514.4 | AL61: 476068.86 | AM61: 0.159817 | AN61: =IF(AM61<0.05,"VL",IF(AM61<0.16,"L","M")) -> L
A62: Patch Monitoring | B62: Boundary | C62: RA | D62: 019-1-1 | E62: =LEFT(D62,5) -> 019-1 | F62: 41740 | G62: Les Gyug | H62: Patch CPB | I62: 0.32361111 | J62: 2 | K62: Walk | L62: 6 | M62: 1 | N62: 2 | O62: N | P62: B-WISA | Q62: 171 | R62: 1 | S62: U | T62: C | U62: CA | V62: 4 | W62: 150 | X62: AD | Y62: TE | AA62: WB558 | AD62: =LOOKUP($D62,'Design Component Spatial Info'!$C$231:$C$575,'Design Component Spatial Info'!E$231:E$575) -> 11 | AE62: =LOOKUP($D62,'Design Component Spatial Info'!$C$231:$C$575,'Design Component Spatial Info'!M$231:M$575) -> 349220.8 | AF62: =LOOKUP($D62,'Design Component Spatial Info'!$C$231:$C$575,'Design Component Spatial Info'!N$231:N$575) -> 5438103.6 | AG62: =IF(V62="",0,SIN(RADIANS(VALUE(V62)))*VALUE(W62)+AE62) -> 349231.27 | AH62: =IF(V62="",0,COS(RADIANS(VALUE(V62)))*VALUE(W62)+AF62) -> 5438253.2 | AI62: =LOOKUP($D62,'Design Component Spatial Info'!$C$231:$C$575,'Design Component Spatial Info'!O$231:O$575) -> 1506468 | AJ62: =LOOKUP($D62,'Design Component Spatial Info'!$C$231:$C$575,'Design Component Spatial Info'!P$231:P$575) -> 476050 | AK62: 1506459.7 | AL62: 476199.61 | AM62: 0.159817 | AN62: =IF(AM62<0.05,"VL",IF(AM62<0.16,"L","M")) -> L
A63: Patch Monitoring | B63: Boundary | C63: RA | D63: 019-1-2 | E63: =LEFT(D63,5) -> 019-1 | F63: 41740 | G63: Les Gyug | H63: Patch CPB | I63: 0.33472222 | J63: 1 | K63: Walk | L63: 6 | M63: 1 | N63: 2 | O63: N | P63: B-WISA | Q63: 230 | R63: 1 | S63: U | T63: C | U63: CA | V63: 120 | W63: 200 | X63: AD | Y63: TE | AA63: WB559 | AD63: =LOOKUP($D63,'Design Component Spatial Info'!$C$231:$C$575,'Design Component Spatial Info'!E$231:E$575) -> 11 | AE63: =LOOKUP($D63,'Design Component Spatial Info'!$C$231:$C$575,'Design Component Spatial Info'!M$231:M$575) -> 349320.63 | AF63: =LOOKUP($D63,'Design Component Spatial Info'!$C$231:$C$575,'Design Component Spatial Info'!N$231:N$575) -> 5438898.2 | AG63: =IF(V63="",0,SIN(RADIANS(VALUE(V63)))*VALUE(W63)+AE63) -> 349493.83 | AH63: =IF(V63="",0,COS(RADIANS(VALUE(V63)))*VALUE(W63)+AF63) -> 5438798.2 | AI63: =LOOKUP($D63,'Design Component Spatial Info'!$C$231:$C$575,'Design Component Spatial Info'!O$231:O$575) -> 1506468 | AJ63: =LOOKUP($D63,'Design Component Spatial Info'!$C$231:$C$575,'Design Component Spatial Info'!P$231:P$575) -> 476850 | AK63: 1506652.6 | AL63: 476772.53 | AM63: 0.146446 | AN63: =IF(AM63<0.05,"VL",IF(AM63<0.16,"L","M")) -> L
A64: Patch Monitoring | B64: Boundary | C64: RA | D64: 019-1-3 | E64: =LEFT(D64,5) -> 019-1 | F64: 41740 | G64: Les Gyug | H64: Patch CPB | I64: 0.3625 | J64: 1 | K64: Walk | L64: 6 | M64: 2 | N64: 2 | O64: N | P64: NULL | R64: 0 | AD64: =LOOKUP($D64,'Design Component Spatial Info'!$C$231:$C$575,'Design Component Spatial Info'!E$231:E$575) -> 11 | AE64: =LOOKUP($D64,'Design Component Spatial Info'!$C$231:$C$575,'Design Component Spatial Info'!M$231:M$575) -> 349976 | AF64: =LOOKUP($D64,'Design Component Spatial Info'!$C$231:$C$575,'Design Component Spatial Info'!N$231:N$575) -> 5438001 | AG64: =IF(V64="",0,SIN(RADIANS(VALUE(V64)))*VALUE(W64)+AE64) -> 0 | AH64: =IF(V64="",0,COS(RADIANS(VALUE(V64)))*VALUE(W64)+AF64) -> 0 | AI64: =LOOKUP($D64,'Design Component Spatial Info'!$C$231:$C$575,'Design Component Spatial Info'!O$231:O$575) -> 1507231.1 | AJ64: =LOOKUP($D64,'Design Component Spatial Info'!$C$231:$C$575,'Design Component Spatial Info'!P$231:P$575) -> 476042.7 | AM64: 0.178251 | AN64: =IF(AM64<0.05,"VL",IF(AM64<0.16,"L","M")) -> M
A65: Patch Monitoring | B65: Boundary | C65: RA | D65: 019-1-4 | E65: =LEFT(D65,5) -> 019-1 | F65: 41740 | G65: Les Gyug | H65: Patch CPB | I65: 0.34513889 | J65: 1 | K65: Walk | L65: 6 | M65: 1 | N65: 2 | O65: N | P65: B-WISA | Q65: 221 | R65: 1 | S65: U | T65: D | U65: DR | V65: 258 | W65: 300 | X65: AD | Y65: TE | AA65: WB560 | AD65: =LOOKUP($D65,'Design Component Spatial Info'!$C$231:$C$575,'Design Component Spatial Info'!E$231:E$575) -> 11 | AE65: =LOOKUP($D65,'Design Component Spatial Info'!$C$231:$C$575,'Design Component Spatial Info'!M$231:M$575) -> 350113.34 | AF65: =LOOKUP($D65,'Design Component Spatial Info'!$C$231:$C$575,'Design Component Spatial Info'!N$231:N$575) -> 5438798.2 | AG65: =IF(V65="",0,SIN(RADIANS(VALUE(V65)))*VALUE(W65)+AE65) -> 349819.89 | AH65: =IF(V65="",0,COS(RADIANS(VALUE(V65)))*VALUE(W65)+AF65) -> 5438735.8 | AI65: =LOOKUP($D65,'Design Component Spatial Info'!$C$231:$C$575,'Design Component Spatial Info'!O$231:O$575) -> 1507268 | AJ65: =LOOKUP($D65,'Design Component Spatial Info'!$C$231:$C$575,'Design Component Spatial Info'!P$231:P$575) -> 476850 | AK65: 1506984.3 | AL65: 476751.5 | AM65: 0.271298 | AN65: =IF(AM65<0.05,"VL",IF(AM65<0.16,"L","M")) -> M
A66: Patch Monitoring | B66: Okanagan | C66: RA | D66: 019-1-4 | E66: =LEFT(D66,5) -> 019-1 | F66: 41740 | G66: Les Gyug | H66: Patch CPB | I66: 0.34513889 | J66: 2 | K66: Walk | L66: 6 | M66: 1 | N66: 2 | O66: N | P66: B-WISA | Q66: 92 | R66: 1 | S66: U | T66: D | U66: DR | V66: 140 | W66: 200 | X66: AD | Y66: TE | AA66: WK378 | AD66: =LOOKUP($D66,'Design Component Spatial Info'!$C$231:$C$575,'Design Component Spatial Info'!E$231:E$575) -> 11 | AE66: =LOOKUP($D66,'Design Component Spatial Info'!$C$231:$C$575,'Design Component Spatial Info'!M$231:M$575) -> 350113.34 | AF66: =LOOKUP($D66,'Design Component Spatial Info'!$C$231:$C$575,'Design Component Spatial Info'!N$231:N$575) -> 5438798.2 | AG66: =IF(V66="",0,SIN(RADIANS(VALUE(V66)))*VALUE(W66)+AE66) -> 350241.89 | AH66: =IF(V66="",0,COS(RADIANS(VALUE(V66)))*VALUE(W66)+AF66) -> 5438645 | AI66: =LOOKUP($D66,'Design Component Spatial Info'!$C$231:$C$575,'Design Component Spatial Info'!O$231:O$575) -> 1507268 | AJ66: =LOOKUP($D66,'Design Component Spatial Info'!$C$231:$C$575,'Design Component Spatial Info'!P$231:P$575) -> 476850 | AK66: 1507414.8 | AL66: 476714.22 | AM66: 0.271298 | AN66: =IF(AM66<0.05,"VL",IF(AM66<0.16,"L","M")) -> M
A67: Patch Monitoring | B67: Boundary | C67: RA | D67: 019-1-4 | E67: =LEFT(D67,5) -> 019-1 | F67: 41740 | G67: Les Gyug | H67: Patch CPB | I67: 0.34513889 | J67: 3 | K67: Walk | L67: 6 | M67: 1 | N67: 2 | O67: N | P67: B-WISA | Q67: 110 | R67: 1 | S67: U | T67: C | U67: CA | V67: 36 | W67: 125 | X67: AD | Y67: TE | AA67: WB561 | AD67: =LOOKUP($D67,'Design Component Spatial Info'!$C$231:$C$575,'Design Component Spatial Info'!E$231:E$575) -> 11 | AE67: =LOOKUP($D67,'Design Component Spatial Info'!$C$231:$C$575,'Design Component Spatial Info'!M$231:M$575) -> 350113.34 | AF67: =LOOKUP($D67,'Design Component Spatial Info'!$C$231:$C$575,'Design Component Spatial Info'!N$231:N$575) -> 5438798.2 | AG67: =IF(V67="",0,SIN(RADIANS(VALUE(V67)))*VALUE(W67)+AE67) -> 350186.81 | AH67: =IF(V67="",0,COS(RADIANS(VALUE(V67)))*VALUE(W67)+AF67) -> 5438899.3 | AI67: =LOOKUP($D67,'Design Component Spatial Info'!$C$231:$C$575,'Design Component Spatial Info'!O$231:O$575) -> 1507268 | AJ67: =LOOKUP($D67,'Design Component Spatial Info'!$C$231:$C$575,'Design Component Spatial Info'!P$231:P$575) -> 476850 | AK67: 1507328.4 | AL67: 476959.41 | AM67: 0.271298 | AN67: =IF(AM67<0.05,"VL",IF(AM67<0.16,"L","M")) -> M
A68: Patch Monitoring | B68: Boundary | C68: RA | D68: 020-1-1 | E68: =LEFT(D68,5) -> 020-1 | F68: 41740 | G68: Les Gyug | H68: Patch CPB | I68: 0.42430556 | J68: 1 | K68: Walk | L68: 8 | M68: 3 | N68: 3 | O68: N | P68: NULL | R68: 0 | AD68: =LOOKUP($D68,'Design Component Spatial Info'!$C$231:$C$575,'Design Component Spatial Info'!E$231:E$575) -> 11 | AE68: =LOOKUP($D68,'Design Component Spatial Info'!$C$231:$C$575,'Design Component Spatial Info'!M$231:M$575) -> 351005.88 | AF68: =LOOKUP($D68,'Design Component Spatial Info'!$C$231:$C$575,'Design Component Spatial Info'!N$231:N$575) -> 5439492.8 | AG68: =IF(V68="",0,SIN(RADIANS(VALUE(V68)))*VALUE(W68)+AE68) -> 0 | AH68: =IF(V68="",0,COS(RADIANS(VALUE(V68)))*VALUE(W68)+AF68) -> 0 | AI68: =LOOKUP($D68,'Design Component Spatial Info'!$C$231:$C$575,'Design Component Spatial Info'!O$231:O$575) -> 1508068 | AJ68: =LOOKUP($D68,'Design Component Spatial Info'!$C$231:$C$575,'Design Component Spatial Info'!P$231:P$575) -> 477650 | AM68: 0.383766 | AN68: =IF(AM68<0.05,"VL",IF(AM68<0.16,"L","M")) -> M
A69: Patch Monitoring | B69: Boundary | C69: RA | D69: 020-1-2 | E69: =LEFT(D69,5) -> 020-1 | F69: 41740 | G69: Les Gyug | H69: Patch CPB | I69: 0.44097222 | J69: 1 | K69: Walk | L69: 10 | M69: 2 | N69: 2 | O69: N | P69: NULL | R69: 0 | AD69: =LOOKUP($D69,'Design Component Spatial Info'!$C$231:$C$575,'Design Component Spatial Info'!E$231:E$575) -> 11 | AE69: =LOOKUP($D69,'Design Component Spatial Info'!$C$231:$C$575,'Design Component Spatial Info'!M$231:M$575) -> 351105.72 | AF69: =LOOKUP($D69,'Design Component Spatial Info'!$C$231:$C$575,'Design Component Spatial Info'!N$231:N$575) -> 5440287.4 | AG69: =IF(V69="",0,SIN(RADIANS(VALUE(V69)))*VALUE(W69)+AE69) -> 0 | AH69: =IF(V69="",0,COS(RADIANS(VALUE(V69)))*VALUE(W69)+AF69) -> 0 | AI69: =LOOKUP($D69,'Design Component Spatial Info'!$C$231:$C$575,'Design Component Spatial Info'!O$231:O$575) -> 1508068 | AJ69: =LOOKUP($D69,'Design Component Spatial Info'!$C$231:$C$575,'Design Component Spatial Info'!P$231:P$575) -> 478450 | AM69: 0.331227 | AN69: =IF(AM69<0.05,"VL",IF(AM69<0.16,"L","M")) -> M
A70: Patch Monitoring | B70: Boundary | C70: RA | D70: 020-1-3 | E70: =LEFT(D70,5) -> 020-1 | F70: 41740 | G70: Les Gyug | H70: Patch CPB | I70: 0.40694444 | J70: 1 | K70: Walk | L70: 8 | M70: 1 | N70: 3 | O70: N | P70: B-WISA | Q70: 230 | R70: 1 | S70: U | T70: DC | U70: DR | V70: 75 | W70: 250 | X70: AD | Y70: TE | AA70: WB562 | AD70: =LOOKUP($D70,'Design Component Spatial Info'!$C$231:$C$575,'Design Component Spatial Info'!E$231:E$575) -> 11 | AE70: =LOOKUP($D70,'Design Component Spatial Info'!$C$231:$C$575,'Design Component Spatial Info'!M$231:M$575) -> 351798.59 | AF70: =LOOKUP($D70,'Design Component Spatial Info'!$C$231:$C$575,'Design Component Spatial Info'!N$231:N$575) -> 5439392.8 | AG70: =IF(V70="",0,SIN(RADIANS(VALUE(V70)))*VALUE(W70)+AE70) -> 352040.07 | AH70: =IF(V70="",0,COS(RADIANS(VALUE(V70)))*VALUE(W70)+AF70) -> 5439457.5 | AI70: =LOOKUP($D70,'Design Component Spatial Info'!$C$231:$C$575,'Design Component Spatial Info'!O$231:O$575) -> 1508868 | AJ70: =LOOKUP($D70,'Design Component Spatial Info'!$C$231:$C$575,'Design Component Spatial Info'!P$231:P$575) -> 477650 | AK70: 1509099.8 | AL70: 477744.32 | AM70: 0.364485 | AN70: =IF(AM70<0.05,"VL",IF(AM70<0.16,"L","M")) -> M
A71: Patch Monitoring | B71: Boundary | C71: RA | D71: 020-1-4 | E71: =LEFT(D71,5) -> 020-1 | F71: 41740 | G71: Les Gyug | H71: Patch CPB | I71: 0.39166667 | J71: 1 | K71: Walk | L71: 8 | M71: 2 | N71: 3 | O71: N | P71: NULL | R71: 0 | AD71: =LOOKUP($D71,'Design Component Spatial Info'!$C$231:$C$575,'Design Component Spatial Info'!E$231:E$575) -> 11 | AE71: =LOOKUP($D71,'Design Component Spatial Info'!$C$231:$C$575,'Design Component Spatial Info'!M$231:M$575) -> 351948 | AF71: =LOOKUP($D71,'Design Component Spatial Info'!$C$231:$C$575,'Design Component Spatial Info'!N$231:N$575) -> 5440185 | AG71: =IF(V71="",0,SIN(RADIANS(VALUE(V71)))*VALUE(W71)+AE71) -> 0 | AH71: =IF(V71="",0,COS(RADIANS(VALUE(V71)))*VALUE(W71)+AF71) -> 0 | AI71: =LOOKUP($D71,'Design Component Spatial Info'!$C$231:$C$575,'Design Component Spatial Info'!O$231:O$575) -> 1508917.5 | AJ71: =LOOKUP($D71,'Design Component Spatial Info'!$C$231:$C$575,'Design Component Spatial Info'!P$231:P$575) -> 478453.84 | AM71: 0.253286 | AN71: =IF(AM71<0.05,"VL",IF(AM71<0.16,"L","M")) -> M
A72: Patch Monitoring | B72: Boundary | C72: RA | D72: 021-1-1 | E72: =LEFT(D72,5) -> 021-1 | F72: 41755 | G72: Les Gyug | H72: Patch CPB | I72: 0.41111111 | J72: 1 | K72: Walk | L72: 3 | M72: 0 | N72: 4 | O72: D | P72: NULL | R72: 0 | AD72: =LOOKUP($D72,'Design Component Spatial Info'!$C$231:$C$575,'Design Component Spatial Info'!E$231:E$575) -> 11 | AE72: =LOOKUP($D72,'Design Component Spatial Info'!$C$231:$C$575,'Design Component Spatial Info'!M$231:M$575) -> 351405.28 | AF72: =LOOKUP($D72,'Design Component Spatial Info'!$C$231:$C$575,'Design Component Spatial Info'!N$231:N$575) -> 5442671 | AG72: =IF(V72="",0,SIN(RADIANS(VALUE(V72)))*VALUE(W72)+AE72) -> 0 | AH72: =IF(V72="",0,COS(RADIANS(VALUE(V72)))*VALUE(W72)+AF72) -> 0 | AI72: =LOOKUP($D72,'Design Component Spatial Info'!$C$231:$C$575,'Design Component Spatial Info'!O$231:O$575) -> 1508068 | AJ72: =LOOKUP($D72,'Design Component Spatial Info'!$C$231:$C$575,'Design Component Spatial Info'!P$231:P$575) -> 480850 | AM72: 0.329083 | AN72: =IF(AM72<0.05,"VL",IF(AM72<0.16,"L","M")) -> M
A73: Patch Monitoring | B73: Boundary | C73: RA | D73: 021-1-2 | E73: =LEFT(D73,5) -> 021-1 | F73: 41755 | G73: Les Gyug | H73: Patch CPB | I73: 0.42638889 | J73: 1 | K73: Walk | L73: 3 | M73: 0 | N73: 4 | O73: D | P73: NULL | R73: 0 | AD73: =LOOKUP($D73,'Design Component Spatial Info'!$C$231:$C$575,'Design Component Spatial Info'!E$231:E$575) -> 11 | AE73: =LOOKUP($D73,'Design Component Spatial Info'!$C$231:$C$575,'Design Component Spatial Info'!M$231:M$575) -> 351505.14 | AF73: =LOOKUP($D73,'Design Component Spatial Info'!$C$231:$C$575,'Design Component Spatial Info'!N$231:N$575) -> 5443465.5 | AG73: =IF(V73="",0,SIN(RADIANS(VALUE(V73)))*VALUE(W73)+AE73) -> 0 | AH73: =IF(V73="",0,COS(RADIANS(VALUE(V73)))*VALUE(W73)+AF73) -> 0 | AI73: =LOOKUP($D73,'Design Component Spatial Info'!$C$231:$C$575,'Design Component Spatial Info'!O$231:O$575) -> 1508068 | AJ73: =LOOKUP($D73,'Design Component Spatial Info'!$C$231:$C$575,'Design Component Spatial Info'!P$231:P$575) -> 481650 | AM73: 0.18385 | AN73: =IF(AM73<0.05,"VL",IF(AM73<0.16,"L","M")) -> M
A74: Patch Monitoring | B74: Boundary | C74: RA | D74: 021-1-3 | E74: =LEFT(D74,5) -> 021-1 | F74: 41755 | G74: Philip Gyug | H74: Patch CPB | I74: 0.36458333 | J74: 1 | K74: Walk | L74: 3 | M74: 0 | N74: 4 | O74: N | P74: NULL | R74: 0 | AD74: =LOOKUP($D74,'Design Component Spatial Info'!$C$231:$C$575,'Design Component Spatial Info'!E$231:E$575) -> 11 | AE74: =LOOKUP($D74,'Design Component Spatial Info'!$C$231:$C$575,'Design Component Spatial Info'!M$231:M$575) -> 352198.02 | AF74: =LOOKUP($D74,'Design Component Spatial Info'!$C$231:$C$575,'Design Component Spatial Info'!N$231:N$575) -> 5442571 | AG74: =IF(V74="",0,SIN(RADIANS(VALUE(V74)))*VALUE(W74)+AE74) -> 0 | AH74: =IF(V74="",0,COS(RADIANS(VALUE(V74)))*VALUE(W74)+AF74) -> 0 | AI74: =LOOKUP($D74,'Design Component Spatial Info'!$C$231:$C$575,'Design Component Spatial Info'!O$231:O$575) -> 1508868 | AJ74: =LOOKUP($D74,'Design Component Spatial Info'!$C$231:$C$575,'Design Component Spatial Info'!P$231:P$575) -> 480850 | AM74: 0.491269 | AN74: =IF(AM74<0.05,"VL",IF(AM74<0.16,"L","M")) -> M
A75: Patch Monitoring | B75: Boundary | C75: RA | D75: 021-1-4 | E75: =LEFT(D75,5) -> 021-1 | F75: 41755 | G75: Philip Gyug | H75: Patch CPB | I75: 0.40902778 | J75: 1 | K75: Walk | L75: 3 | M75: 0 | N75: 4 | O75: N | P75: NULL | R75: 0 | AD75: =LOOKUP($D75,'Design Component Spatial Info'!$C$231:$C$575,'Design Component Spatial Info'!E$231:E$575) -> 11 | AE75: =LOOKUP($D75,'Design Component Spatial Info'!$C$231:$C$575,'Design Component Spatial Info'!M$231:M$575) -> 352297.88 | AF75: =LOOKUP($D75,'Design Component Spatial Info'!$C$231:$C$575,'Design Component Spatial Info'!N$231:N$575) -> 5443365.5 | AG75: =IF(V75="",0,SIN(RADIANS(VALUE(V75)))*VALUE(W75)+AE75) -> 0 | AH75: =IF(V75="",0,COS(RADIANS(VALUE(V75)))*VALUE(W75)+AF75) -> 0 | AI75: =LOOKUP($D75,'Design Component Spatial Info'!$C$231:$C$575,'Design Component Spatial Info'!O$231:O$575) -> 1508868 | AJ75: =LOOKUP($D75,'Design Component Spatial Info'!$C$231:$C$575,'Design Component Spatial Info'!P$231:P$575) -> 481650 | AM75: 0.298392 | AN75: =IF(AM75<0.05,"VL",IF(AM75<0.16,"L","M")) -> M
A76: Patch Monitoring | B76: Boundary | C76: RA | D76: 022-1-1 | E76: =LEFT(D76,5) -> 022-1 | F76: 41765 | G76: Les Gyug | H76: Patch CPB | I76: 0.47986111 | J76: 1 | K76: Walk | L76: 8 | M76: 1 | N76: 3 | O76: N | P76: B-WISA | Q76: 58 | R76: 1 | S76: U | T76: C | U76: CA | V76: 172 | W76: 150 | X76: AD | Y76: TE | AA76: WB563 | AD76: =LOOKUP($D76,'Design Component Spatial Info'!$C$231:$C$575,'Design Component Spatial Info'!E$231:E$575) -> 11 | AE76: =LOOKUP($D76,'Design Component Spatial Info'!$C$231:$C$575,'Design Component Spatial Info'!M$231:M$575) -> 348633.64 | AF76: =LOOKUP($D76,'Design Component Spatial Info'!$C$231:$C$575,'Design Component Spatial Info'!N$231:N$575) -> 5446248.9 | AG76: =IF(V76="",0,SIN(RADIANS(VALUE(V76)))*VALUE(W76)+AE76) -> 348654.51 | AH76: =IF(V76="",0,COS(RADIANS(VALUE(V76)))*VALUE(W76)+AF76) -> 5446100.4 | AI76: =LOOKUP($D76,'Design Component Spatial Info'!$C$231:$C$575,'Design Component Spatial Info'!O$231:O$575) -> 1504868 | AJ76: =LOOKUP($D76,'Design Component Spatial Info'!$C$231:$C$575,'Design Component Spatial Info'!P$231:P$575) -> 484050 | AK76: 1504907.3 | AL76: 483905.38 | AM76: 0.266248 | AN76: =IF(AM76<0.05,"VL",IF(AM76<0.16,"L","M")) -> M
A77: Patch Monitoring | B77: Boundary | C77: RA | D77: 022-1-2 | E77: =LEFT(D77,5) -> 022-1 | F77: 41765 | G77: Les Gyug | H77: Patch CPB | I77: 0.49583333 | J77: 1 | K77: Walk | L77: 8 | M77: 1 | N77: 3 | O77: N | P77: NULL | R77: 0 | AD77: =LOOKUP($D77,'Design Component Spatial Info'!$C$231:$C$575,'Design Component Spatial Info'!E$231:E$575) -> 11 | AE77: =LOOKUP($D77,'Design Component Spatial Info'!$C$231:$C$575,'Design Component Spatial Info'!M$231:M$575) -> 348733.48 | AF77: =LOOKUP($D77,'Design Component Spatial Info'!$C$231:$C$575,'Design Component Spatial Info'!N$231:N$575) -> 5447043.4 | AG77: =IF(V77="",0,SIN(RADIANS(VALUE(V77)))*VALUE(W77)+AE77) -> 0 | AH77: =IF(V77="",0,COS(RADIANS(VALUE(V77)))*VALUE(W77)+AF77) -> 0 | AI77: =LOOKUP($D77,'Design Component Spatial Info'!$C$231:$C$575,'Design Component Spatial Info'!O$231:O$575) -> 1504868 | AJ77: =LOOKUP($D77,'Design Component Spatial Info'!$C$231:$C$575,'Design Component Spatial Info'!P$231:P$575) -> 484850 | AM77: 0.156742 | AN77: =IF(AM77<0.05,"VL",IF(AM77<0.16,"L","M")) -> L
A78: Patch Monitoring | B78: Boundary | C78: RA | D78: 022-1-3 | E78: =LEFT(D78,5) -> 022-1 | F78: 41765 | G78: Les Gyug | H78: Patch CPB | I78: 0.46319444 | J78: 1 | K78: Walk | L78: 8 | M78: 1 | N78: 3 | O78: N | P78: NULL | R78: 0 | AD78: =LOOKUP($D78,'Design Component Spatial Info'!$C$231:$C$575,'Design Component Spatial Info'!E$231:E$575) -> 11 | AE78: =LOOKUP($D78,'Design Component Spatial Info'!$C$231:$C$575,'Design Component Spatial Info'!M$231:M$575) -> 349426.42 | AF78: =LOOKUP($D78,'Design Component Spatial Info'!$C$231:$C$575,'Design Component Spatial Info'!N$231:N$575) -> 5446149 | AG78: =IF(V78="",0,SIN(RADIANS(VALUE(V78)))*VALUE(W78)+AE78) -> 0 | AH78: =IF(V78="",0,COS(RADIANS(VALUE(V78)))*VALUE(W78)+AF78) -> 0 | AI78: =LOOKUP($D78,'Design Component Spatial Info'!$C$231:$C$575,'Design Component Spatial Info'!O$231:O$575) -> 1505668 | AJ78: =LOOKUP($D78,'Design Component Spatial Info'!$C$231:$C$575,'Design Component Spatial Info'!P$231:P$575) -> 484050 | AM78: 0.12347 | AN78: =IF(AM78<0.05,"VL",IF(AM78<0.16,"L","M")) -> L
A79: Patch Monitoring | B79: Boundary | C79: RA | D79: 022-1-4 | E79: =LEFT(D79,5) -> 022-1 | F79: 41765 | G79: Les Gyug | H79: Patch CPB | I79: 0.44791667 | J79: 1 | K79: Walk | L79: 8 | M79: 1 | N79: 3 | O79: N | P79: NULL | R79: 0 | AD79: =LOOKUP($D79,'Design Component Spatial Info'!$C$231:$C$575,'Design Component Spatial Info'!E$231:E$575) -> 11 | AE79: =LOOKUP($D79,'Design Component Spatial Info'!$C$231:$C$575,'Design Component Spatial Info'!M$231:M$575) -> 349526.27 | AF79: =LOOKUP($D79,'Design Component Spatial Info'!$C$231:$C$575,'Design Component Spatial Info'!N$231:N$575) -> 5446943.5 | AG79: =IF(V79="",0,SIN(RADIANS(VALUE(V79)))*VALUE(W79)+AE79) -> 0 | AH79: =IF(V79="",0,COS(RADIANS(VALUE(V79)))*VALUE(W79)+AF79) -> 0 | AI79: =LOOKUP($D79,'Design Component Spatial Info'!$C$231:$C$575,'Design Component Spatial Info'!O$231:O$575) -> 1505668 | AJ79: =LOOKUP($D79,'Design Component Spatial Info'!$C$231:$C$575,'Design Component Spatial Info'!P$231:P$575) -> 484850 | AM79: 0.093808 | AN79: =IF(AM79<0.05,"VL",IF(AM79<0.16,"L","M")) -> L
A80: Patch Monitoring | B80: Boundary | C80: RA | D80: 023-1-1 | E80: =LEFT(D80,5) -> 023-1 | F80: 41755 | G80: Philip Gyug | H80: Patch CPB | I80: 0.65277778 | J80: 1 | K80: Walk | L80: 4 | M80: 1 | N80: 4 | O80: N | P80: B-WISA | Q80: 120 | R80: 1 | S80: U | T80: DC | U80: DR | V80: 110 | W80: 150 | X80: AD | Y80: TE | AA80: WB564 | AD80: =LOOKUP($D80,'Design Component Spatial Info'!$C$231:$C$575,'Design Component Spatial Info'!E$231:E$575) -> 11 | AE80: =LOOKUP($D80,'Design Component Spatial Info'!$C$231:$C$575,'Design Component Spatial Info'!M$231:M$575) -> 344664.07 | AF80: =LOOKUP($D80,'Design Component Spatial Info'!$C$231:$C$575,'Design Component Spatial Info'!N$231:N$575) -> 5440292.4 | AG80: =IF(V80="",0,SIN(RADIANS(VALUE(V80)))*VALUE(W80)+AE80) -> 344805.03 | AH80: =IF(V80="",0,COS(RADIANS(VALUE(V80)))*VALUE(W80)+AF80) -> 5440241.1 | AI80: =LOOKUP($D80,'Design Component Spatial Info'!$C$231:$C$575,'Design Component Spatial Info'!O$231:O$575) -> 1501668 | AJ80: =LOOKUP($D80,'Design Component Spatial Info'!$C$231:$C$575,'Design Component Spatial Info'!P$231:P$575) -> 477650 | AK80: 1501814.4 | AL80: 477616.76 | AM80: 0.220324 | AN80: =IF(AM80<0.05,"VL",IF(AM80<0.16,"L","M")) -> M
A81: Patch Monitoring | B81: Boundary | C81: RA | D81: 023-1-2 | E81: =LEFT(D81,5) -> 023-1 | F81: 41755 | G81: Philip Gyug | H81: Patch CPB | I81: 0.66666667 | J81: 1 | K81: Walk | L81: 4 | M81: 2 | N81: 3 | O81: N | P81: B-WISA | Q81: 75 | R81: 1 | S81: U | T81: DC | U81: DR | V81: 164 | W81: 150 | X81: AD | Y81: TE | AA81: WB565 | AD81: =LOOKUP($D81,'Design Component Spatial Info'!$C$231:$C$575,'Design Component Spatial Info'!E$231:E$575) -> 11 | AE81: =LOOKUP($D81,'Design Component Spatial Info'!$C$231:$C$575,'Design Component Spatial Info'!M$231:M$575) -> 344763.86 | AF81: =LOOKUP($D81,'Design Component Spatial Info'!$C$231:$C$575,'Design Component Spatial Info'!N$231:N$575) -> 5441086.9 | AG81: =IF(V81="",0,SIN(RADIANS(VALUE(V81)))*VALUE(W81)+AE81) -> 344805.21 | AH81: =IF(V81="",0,COS(RADIANS(VALUE(V81)))*VALUE(W81)+AF81) -> 5440942.7 | AI81: =LOOKUP($D81,'Design Component Spatial Info'!$C$231:$C$575,'Design Component Spatial Info'!O$231:O$575) -> 1501668 | AJ81: =LOOKUP($D81,'Design Component Spatial Info'!$C$231:$C$575,'Design Component Spatial Info'!P$231:P$575) -> 478450 | AK81: 1501727.1 | AL81: 478312.25 | AM81: 0.052736 | AN81: =IF(AM81<0.05,"VL",IF(AM81<0.16,"L","M")) -> L
A82: Patch Monitoring | B82: Boundary | C82: RA | D82: 023-1-3 | E82: =LEFT(D82,5) -> 023-1 | F82: 41755 | G82: Philip Gyug | H82: Patch CPB | I82: 0.50347222 | J82: 1 | K82: Walk | L82: 6 | M82: 0 | N82: 4 | O82: D | P82: B-WISA | Q82: 120 | R82: 1 | S82: U | T82: C | U82: CA | V82: 194 | W82: 150 | X82: AD | Y82: TE | AA82: WB566 | AD82: =LOOKUP($D82,'Design Component Spatial Info'!$C$231:$C$575,'Design Component Spatial Info'!E$231:E$575) -> 11 | AE82: =LOOKUP($D82,'Design Component Spatial Info'!$C$231:$C$575,'Design Component Spatial Info'!M$231:M$575) -> 345456.81 | AF82: =LOOKUP($D82,'Design Component Spatial Info'!$C$231:$C$575,'Design Component Spatial Info'!N$231:N$575) -> 5440192.4 | AG82: =IF(V82="",0,SIN(RADIANS(VALUE(V82)))*VALUE(W82)+AE82) -> 345420.53 | AH82: =IF(V82="",0,COS(RADIANS(VALUE(V82)))*VALUE(W82)+AF82) -> 5440046.9 | AI82: =LOOKUP($D82,'Design Component Spatial Info'!$C$231:$C$575,'Design Component Spatial Info'!O$231:O$575) -> 1502468 | AJ82: =LOOKUP($D82,'Design Component Spatial Info'!$C$231:$C$575,'Design Component Spatial Info'!P$231:P$575) -> 477650 | AK82: 1502450.1 | AL82: 477501.21 | AM82: 0.15835 | AN82: =IF(AM82<0.05,"VL",IF(AM82<0.16,"L","M")) -> L
A83: Patch Monitoring | B83: Boundary | C83: RA | D83: 023-1-4 | E83: =LEFT(D83,5) -> 023-1 | F83: 41755 | G83: Les Gyug | H83: Patch CPB | I83: 0.50694444 | J83: 1 | K83: Walk | L83: 3 | M83: 1 | N83: 4 | O83: D | P83: NULL | R83: 0 | AD83: =LOOKUP($D83,'Design Component Spatial Info'!$C$231:$C$575,'Design Component Spatial Info'!E$231:E$575) -> 11 | AE83: =LOOKUP($D83,'Design Component Spatial Info'!$C$231:$C$575,'Design Component Spatial Info'!M$231:M$575) -> 345677 | AF83: =LOOKUP($D83,'Design Component Spatial Info'!$C$231:$C$575,'Design Component Spatial Info'!N$231:N$575) -> 5440964 | AG83: =IF(V83="",0,SIN(RADIANS(VALUE(V83)))*VALUE(W83)+AE83) -> 0 | AH83: =IF(V83="",0,COS(RADIANS(VALUE(V83)))*VALUE(W83)+AF83) -> 0 | AI83: =LOOKUP($D83,'Design Component Spatial Info'!$C$231:$C$575,'Design Component Spatial Info'!O$231:O$575) -> 1502590.5 | AJ83: =LOOKUP($D83,'Design Component Spatial Info'!$C$231:$C$575,'Design Component Spatial Info'!P$231:P$575) -> 478442.23 | AM83: 0.134513 | AN83: =IF(AM83<0.05,"VL",IF(AM83<0.16,"L","M")) -> L
A84: Patch Monitoring | B84: Boundary | C84: RA | D84: 024-1-1 | E84: =LEFT(D84,5) -> 024-1 | F84: 41755 | G84: Les Gyug | H84: Patch CPB | I84: 0.66319444 | J84: 1 | K84: Walk | L84: 4 | M84: 3 | N84: 2 | O84: N | P84: NULL | R84: 0 | AD84: =LOOKUP($D84,'Design Component Spatial Info'!$C$231:$C$575,'Design Component Spatial Info'!E$231:E$575) -> 11 | AE84: =LOOKUP($D84,'Design Component Spatial Info'!$C$231:$C$575,'Design Component Spatial Info'!M$231:M$575) -> 343078.58 | AF84: =LOOKUP($D84,'Design Component Spatial Info'!$C$231:$C$575,'Design Component Spatial Info'!N$231:N$575) -> 5440492.2 | AG84: =IF(V84="",0,SIN(RADIANS(VALUE(V84)))*VALUE(W84)+AE84) -> 0 | AH84: =IF(V84="",0,COS(RADIANS(VALUE(V84)))*VALUE(W84)+AF84) -> 0 | AI84: =LOOKUP($D84,'Design Component Spatial Info'!$C$231:$C$575,'Design Component Spatial Info'!O$231:O$575) -> 1500068 | AJ84: =LOOKUP($D84,'Design Component Spatial Info'!$C$231:$C$575,'Design Component Spatial Info'!P$231:P$575) -> 477650 | AM84: 0.116516 | AN84: =IF(AM84<0.05,"VL",IF(AM84<0.16,"L","M")) -> L
A85: Patch Monitoring | B85: Boundary | C85: RA | D85: 024-1-2 | E85: =LEFT(D85,5) -> 024-1 | F85: 41755 | G85: Les Gyug | H85: Patch CPB | I85: 0.69305556 | J85: 1 | K85: Walk | L85: 4 | M85: 2 | N85: 3 | O85: N | P85: NULL | R85: 0 | AD85: =LOOKUP($D85,'Design Component Spatial Info'!$C$231:$C$575,'Design Component Spatial Info'!E$231:E$575) -> 11 | AE85: =LOOKUP($D85,'Design Component Spatial Info'!$C$231:$C$575,'Design Component Spatial Info'!M$231:M$575) -> 343118 | AF85: =LOOKUP($D85,'Design Component Spatial Info'!$C$231:$C$575,'Design Component Spatial Info'!N$231:N$575) -> 5441288 | AG85: =IF(V85="",0,SIN(RADIANS(VALUE(V85)))*VALUE(W85)+AE85) -> 0 | AH85: =IF(V85="",0,COS(RADIANS(VALUE(V85)))*VALUE(W85)+AF85) -> 0 | AI85: =LOOKUP($D85,'Design Component Spatial Info'!$C$231:$C$575,'Design Component Spatial Info'!O$231:O$575) -> 1500007.9 | AJ85: =LOOKUP($D85,'Design Component Spatial Info'!$C$231:$C$575,'Design Component Spatial Info'!P$231:P$575) -> 478443.71 | AM85: 0.015614 | AN85: =IF(AM85<0.05,"VL",IF(AM85<0.16,"L","M")) -> VL
A86: Patch Monitoring | B86: Boundary | C86: RA | D86: 024-1-3 | E86: =LEFT(D86,5) -> 024-1 | F86: 41755 | G86: Les Gyug | H86: Patch CPB | I86: 0.67777778 | J86: 1 | K86: Walk | L86: 4 | M86: 1 | N86: 2 | O86: N | P86: B-WISA | Q86: 58 | R86: 1 | S86: U | T86: C | U86: CA | V86: 203 | W86: 150 | X86: AD | Y86: TE | AA86: WB567 | AD86: =LOOKUP($D86,'Design Component Spatial Info'!$C$231:$C$575,'Design Component Spatial Info'!E$231:E$575) -> 11 | AE86: =LOOKUP($D86,'Design Component Spatial Info'!$C$231:$C$575,'Design Component Spatial Info'!M$231:M$575) -> 343871.33 | AF86: =LOOKUP($D86,'Design Component Spatial Info'!$C$231:$C$575,'Design Component Spatial Info'!N$231:N$575) -> 5440392.3 | AG86: =IF(V86="",0,SIN(RADIANS(VALUE(V86)))*VALUE(W86)+AE86) -> 343812.72 | AH86: =IF(V86="",0,COS(RADIANS(VALUE(V86)))*VALUE(W86)+AF86) -> 5440254.2 | AI86: =LOOKUP($D86,'Design Component Spatial Info'!$C$231:$C$575,'Design Component Spatial Info'!O$231:O$575) -> 1500868 | AJ86: =LOOKUP($D86,'Design Component Spatial Info'!$C$231:$C$575,'Design Component Spatial Info'!P$231:P$575) -> 477650 | AK86: 1500827 | AL86: 477505.83 | AM86: 0.224965 | AN86: =IF(AM86<0.05,"VL",IF(AM86<0.16,"L","M")) -> M
A87: Patch Monitoring | B87: Boundary | C87: RA | D87: 024-1-3 | E87: =LEFT(D87,5) -> 024-1 | F87: 41755 | G87: Les Gyug | H87: Patch CPB | I87: 0.67777778 | J87: 2 | K87: Walk | L87: 4 | M87: 1 | N87: 2 | O87: N | P87: B-WISA | Q87: 68 | R87: 1 | S87: U | T87: C | U87: CA | V87: 267 | W87: 150 | X87: AD | Y87: TE | AA87: WB568 | AD87: =LOOKUP($D87,'Design Component Spatial Info'!$C$231:$C$575,'Design Component Spatial Info'!E$231:E$575) -> 11 | AE87: =LOOKUP($D87,'Design Component Spatial Info'!$C$231:$C$575,'Design Component Spatial Info'!M$231:M$575) -> 343871.33 | AF87: =LOOKUP($D87,'Design Component Spatial Info'!$C$231:$C$575,'Design Component Spatial Info'!N$231:N$575) -> 5440392.3 | AG87: =IF(V87="",0,SIN(RADIANS(VALUE(V87)))*VALUE(W87)+AE87) -> 343721.54 | AH87: =IF(V87="",0,COS(RADIANS(VALUE(V87)))*VALUE(W87)+AF87) -> 5440384.4 | AI87: =LOOKUP($D87,'Design Component Spatial Info'!$C$231:$C$575,'Design Component Spatial Info'!O$231:O$575) -> 1500868 | AJ87: =LOOKUP($D87,'Design Component Spatial Info'!$C$231:$C$575,'Design Component Spatial Info'!P$231:P$575) -> 477650 | AK87: 1500720.2 | AL87: 477623.51 | AM87: 0.224965 | AN87: =IF(AM87<0.05,"VL",IF(AM87<0.16,"L","M")) -> M
A88: Patch Monitoring | B88: Boundary | C88: RA | D88: 024-1-4 | E88: =LEFT(D88,5) -> 024-1 | F88: 41755 | G88: Philip Gyug | H88: Patch CPB | I88: 0.6875 | J88: 1 | K88: Walk | L88: 5 | M88: 2 | N88: 3 | O88: N | P88: NULL | R88: 0 | AD88: =LOOKUP($D88,'Design Component Spatial Info'!$C$231:$C$575,'Design Component Spatial Info'!E$231:E$575) -> 11 | AE88: =LOOKUP($D88,'Design Component Spatial Info'!$C$231:$C$575,'Design Component Spatial Info'!M$231:M$575) -> 343971.11 | AF88: =LOOKUP($D88,'Design Component Spatial Info'!$C$231:$C$575,'Design Component Spatial Info'!N$231:N$575) -> 5441186.8 | AG88: =IF(V88="",0,SIN(RADIANS(VALUE(V88)))*VALUE(W88)+AE88) -> 0 | AH88: =IF(V88="",0,COS(RADIANS(VALUE(V88)))*VALUE(W88)+AF88) -> 0 | AI88: =LOOKUP($D88,'Design Component Spatial Info'!$C$231:$C$575,'Design Component Spatial Info'!O$231:O$575) -> 1500868 | AJ88: =LOOKUP($D88,'Design Component Spatial Info'!$C$231:$C$575,'Design Component Spatial Info'!P$231:P$575) -> 478450 | AM88: 0.03 | AN88: =IF(AM88<0.05,"VL",IF(AM88<0.16,"L","M")) -> VL
A89: Patch Monitoring | B89: Boundary | C89: RA | D89: 025-1-1 | E89: =LEFT(D89,5) -> 025-1 | F89: 41739 | G89: Les Gyug | H89: Patch CPB | I89: 0.49722222 | J89: 1 | K89: Walk | L89: 12 | M89: 3 | N89: 2 | O89: N | P89: NULL | R89: 0 | AD89: =LOOKUP($D89,'Design Component Spatial Info'!$C$231:$C$575,'Design Component Spatial Info'!E$231:E$575) -> 11 | AE89: =LOOKUP($D89,'Design Component Spatial Info'!$C$231:$C$575,'Design Component Spatial Info'!M$231:M$575) -> 339907.55 | AF89: =LOOKUP($D89,'Design Component Spatial Info'!$C$231:$C$575,'Design Component Spatial Info'!N$231:N$575) -> 5440891.7 | AG89: =IF(V89="",0,SIN(RADIANS(VALUE(V89)))*VALUE(W89)+AE89) -> 0 | AH89: =IF(V89="",0,COS(RADIANS(VALUE(V89)))*VALUE(W89)+AF89) -> 0 | AI89: =LOOKUP($D89,'Design Component Spatial Info'!$C$231:$C$575,'Design Component Spatial Info'!O$231:O$575) -> 1496868 | AJ89: =LOOKUP($D89,'Design Component Spatial Info'!$C$231:$C$575,'Design Component Spatial Info'!P$231:P$575) -> 477650 | AM89: 0.084824 | AN89: =IF(AM89<0.05,"VL",IF(AM89<0.16,"L","M")) -> L
A90: Patch Monitoring | B90: Boundary | C90: RA | D90: 025-1-2 | E90: =LEFT(D90,5) -> 025-1 | F90: 41739 | G90: Les Gyug | H90: Patch CPB | I90: 0.51805556 | J90: 1 | K90: Walk | L90: 14 | M90: 2 | N90: 2 | O90: N | P90: NULL | R90: 0 | AD90: =LOOKUP($D90,'Design Component Spatial Info'!$C$231:$C$575,'Design Component Spatial Info'!E$231:E$575) -> 11 | AE90: =LOOKUP($D90,'Design Component Spatial Info'!$C$231:$C$575,'Design Component Spatial Info'!M$231:M$575) -> 340700.31 | AF90: =LOOKUP($D90,'Design Component Spatial Info'!$C$231:$C$575,'Design Component Spatial Info'!N$231:N$575) -> 5440791.8 | AG90: =IF(V90="",0,SIN(RADIANS(VALUE(V90)))*VALUE(W90)+AE90) -> 0 | AH90: =IF(V90="",0,COS(RADIANS(VALUE(V90)))*VALUE(W90)+AF90) -> 0 | AI90: =LOOKUP($D90,'Design Component Spatial Info'!$C$231:$C$575,'Design Component Spatial Info'!O$231:O$575) -> 1497668 | AJ90: =LOOKUP($D90,'Design Component Spatial Info'!$C$231:$C$575,'Design Component Spatial Info'!P$231:P$575) -> 477650 | AM90: 0.168449 | AN90: =IF(AM90<0.05,"VL",IF(AM90<0.16,"L","M")) -> M
A91: Patch Monitoring | B91: Boundary | C91: RA | D91: 025-1-3 | E91: =LEFT(D91,5) -> 025-1 | F91: 41739 | G91: Les Gyug | H91: Patch CPB | I91: 0.47291667 | J91: 1 | K91: Walk | L91: 10 | M91: 2 | N91: 2 | O91: N | P91: NULL | R91: 0 | AD91: =LOOKUP($D91,'Design Component Spatial Info'!$C$231:$C$575,'Design Component Spatial Info'!E$231:E$575) -> 11 | AE91: =LOOKUP($D91,'Design Component Spatial Info'!$C$231:$C$575,'Design Component Spatial Info'!M$231:M$575) -> 340800.06 | AF91: =LOOKUP($D91,'Design Component Spatial Info'!$C$231:$C$575,'Design Component Spatial Info'!N$231:N$575) -> 5441586.4 | AG91: =IF(V91="",0,SIN(RADIANS(VALUE(V91)))*VALUE(W91)+AE91) -> 0 | AH91: =IF(V91="",0,COS(RADIANS(VALUE(V91)))*VALUE(W91)+AF91) -> 0 | AI91: =LOOKUP($D91,'Design Component Spatial Info'!$C$231:$C$575,'Design Component Spatial Info'!O$231:O$575) -> 1497668 | AJ91: =LOOKUP($D91,'Design Component Spatial Info'!$C$231:$C$575,'Design Component Spatial Info'!P$231:P$575) -> 478450 | AM91: 0.095742 | AN91: =IF(AM91<0.05,"VL",IF(AM91<0.16,"L","M")) -> L
A92: Patch Monitoring | B92: Boundary | C92: RA | D92: 026-1-1 | E92: =LEFT(D92,5) -> 026-1 | F92: 41755 | G92: Les Gyug | H92: Patch CPB | I92: 0.58263889 | J92: 1 | K92: Walk | L92: 6 | M92: 2 | N92: 3 | O92: N | P92: B-WISA | Q92: 0 | R92: 1 | S92: U | T92: C | U92: CA | V92: 186 | W92: 200 | X92: AD | Y92: TE | AA92: WB569 | AD92: =LOOKUP($D92,'Design Component Spatial Info'!$C$231:$C$575,'Design Component Spatial Info'!E$231:E$575) -> 11 | AE92: =LOOKUP($D92,'Design Component Spatial Info'!$C$231:$C$575,'Design Component Spatial Info'!M$231:M$575) -> 340894.6 | AF92: =LOOKUP($D92,'Design Component Spatial Info'!$C$231:$C$575,'Design Component Spatial Info'!N$231:N$575) -> 5435924.2 | AG92: =IF(V92="",0,SIN(RADIANS(VALUE(V92)))*VALUE(W92)+AE92) -> 340873.69 | AH92: =IF(V92="",0,COS(RADIANS(VALUE(V92)))*VALUE(W92)+AF92) -> 5435725.3 | AI92: =LOOKUP($D92,'Design Component Spatial Info'!$C$231:$C$575,'Design Component Spatial Info'!O$231:O$575) -> 1498468 | AJ92: =LOOKUP($D92,'Design Component Spatial Info'!$C$231:$C$575,'Design Component Spatial Info'!P$231:P$575) -> 472850 | AK92: 1498472 | AL92: 472650.26 | AM92: 0.130423 | AN92: =IF(AM92<0.05,"VL",IF(AM92<0.16,"L","M")) -> L
A93: Patch Monitoring | B93: Boundary | C93: RA | D93: 026-1-2 | E93: =LEFT(D93,5) -> 026-1 | F93: 41755 | G93: Les Gyug | H93: Patch CPB | I93: 0.60416667 | J93: 1 | K93: Walk | L93: 5 | M93: 0 | N93: 4 | O93: N | P93: NULL | R93: 0 | AD93: =LOOKUP($D93,'Design Component Spatial Info'!$C$231:$C$575,'Design Component Spatial Info'!E$231:E$575) -> 11 | AE93: =LOOKUP($D93,'Design Component Spatial Info'!$C$231:$C$575,'Design Component Spatial Info'!M$231:M$575) -> 340994.34 | AF93: =LOOKUP($D93,'Design Component Spatial Info'!$C$231:$C$575,'Design Component Spatial Info'!N$231:N$575) -> 5436718.9 | AG93: =IF(V93="",0,SIN(RADIANS(VALUE(V93)))*VALUE(W93)+AE93) -> 0 | AH93: =IF(V93="",0,COS(RADIANS(VALUE(V93)))*VALUE(W93)+AF93) -> 0 | AI93: =LOOKUP($D93,'Design Component Spatial Info'!$C$231:$C$575,'Design Component Spatial Info'!O$231:O$575) -> 1498468 | AJ93: =LOOKUP($D93,'Design Component Spatial Info'!$C$231:$C$575,'Design Component Spatial Info'!P$231:P$575) -> 473650 | AM93: 0.154048 | AN93: =IF(AM93<0.05,"VL",IF(AM93<0.16,"L","M")) -> L
A94: Patch Monitoring | B94: Boundary | C94: RA | D94: 026-1-3 | E94: =LEFT(D94,5) -> 026-1 | F94: 41755 | G94: Les Gyug | H94: Patch CPB | I94: 0.56875 | J94: 1 | K94: Walk | L94: 6 | M94: 0 | N94: 3 | O94: N | P94: B-WISA | Q94: 40 | R94: 1 | S94: U | T94: DC | U94: DR | V94: 35 | W94: 300 | X94: AD | Y94: TE | AA94: WB570 | AD94: =LOOKUP($D94,'Design Component Spatial Info'!$C$231:$C$575,'Design Component Spatial Info'!E$231:E$575) -> 11 | AE94: =LOOKUP($D94,'Design Component Spatial Info'!$C$231:$C$575,'Design Component Spatial Info'!M$231:M$575) -> 341687.31 | AF94: =LOOKUP($D94,'Design Component Spatial Info'!$C$231:$C$575,'Design Component Spatial Info'!N$231:N$575) -> 5435824.4 | AG94: =IF(V94="",0,SIN(RADIANS(VALUE(V94)))*VALUE(W94)+AE94) -> 341859.39 | AH94: =IF(V94="",0,COS(RADIANS(VALUE(V94)))*VALUE(W94)+AF94) -> 5436070.1 | AI94: =LOOKUP($D94,'Design Component Spatial Info'!$C$231:$C$575,'Design Component Spatial Info'!O$231:O$575) -> 1499268 | AJ94: =LOOKUP($D94,'Design Component Spatial Info'!$C$231:$C$575,'Design Component Spatial Info'!P$231:P$575) -> 472850 | AK94: 1499408.3 | AL94: 473115.04 | AM94: 0.253678 | AN94: =IF(AM94<0.05,"VL",IF(AM94<0.16,"L","M")) -> M
A95: Patch Monitoring | B95: Boundary | C95: RA | D95: 026-1-3 | E95: =LEFT(D95,5) -> 026-1 | F95: 41755 | G95: Les Gyug | H95: Patch CPB | I95: 0.56875 | J95: 2 | K95: Walk | L95: 6 | M95: 0 | N95: 3 | O95: N | P95: B-WISA | Q95: 50 | R95: 1 | S95: U | T95: C | U95: CA | V95: 302 | W95: 425 | X95: AD | Y95: TE | AA95: WB571 | AD95: =LOOKUP($D95,'Design Component Spatial Info'!$C$231:$C$575,'Design Component Spatial Info'!E$231:E$575) -> 11 | AE95: =LOOKUP($D95,'Design Component Spatial Info'!$C$231:$C$575,'Design Component Spatial Info'!M$231:M$575) -> 341687.31 | AF95: =LOOKUP($D95,'Design Component Spatial Info'!$C$231:$C$575,'Design Component Spatial Info'!N$231:N$575) -> 5435824.4 | AG95: =IF(V95="",0,SIN(RADIANS(VALUE(V95)))*VALUE(W95)+AE95) -> 341326.89 | AH95: =IF(V95="",0,COS(RADIANS(VALUE(V95)))*VALUE(W95)+AF95) -> 5436049.6 | AI95: =LOOKUP($D95,'Design Component Spatial Info'!$C$231:$C$575,'Design Component Spatial Info'!O$231:O$575) -> 1499268 | AJ95: =LOOKUP($D95,'Design Component Spatial Info'!$C$231:$C$575,'Design Component Spatial Info'!P$231:P$575) -> 472850 | AK95: 1498881.8 | AL95: 473028.2 | AM95: 0.253678 | AN95: =IF(AM95<0.05,"VL",IF(AM95<0.16,"L","M")) -> M
A96: Patch Monitoring | B96: Boundary | C96: RA | D96: 026-1-4 | E96: =LEFT(D96,5) -> 026-1 | F96: 41755 | G96: Les Gyug | H96: Patch CPB | I96: 0.55486111 | J96: 1 | K96: Walk | L96: 4 | M96: 1 | N96: 4 | O96: N | P96: NULL | R96: 0 | AD96: =LOOKUP($D96,'Design Component Spatial Info'!$C$231:$C$575,'Design Component Spatial Info'!E$231:E$575) -> 11 | AE96: =LOOKUP($D96,'Design Component Spatial Info'!$C$231:$C$575,'Design Component Spatial Info'!M$231:M$575) -> 341787.06 | AF96: =LOOKUP($D96,'Design Component Spatial Info'!$C$231:$C$575,'Design Component Spatial Info'!N$231:N$575) -> 5436619 | AG96: =IF(V96="",0,SIN(RADIANS(VALUE(V96)))*VALUE(W96)+AE96) -> 0 | AH96: =IF(V96="",0,COS(RADIANS(VALUE(V96)))*VALUE(W96)+AF96) -> 0 | AI96: =LOOKUP($D96,'Design Component Spatial Info'!$C$231:$C$575,'Design Component Spatial Info'!O$231:O$575) -> 1499268 | AJ96: =LOOKUP($D96,'Design Component Spatial Info'!$C$231:$C$575,'Design Component Spatial Info'!P$231:P$575) -> 473650 | AM96: 0.127842 | AN96: =IF(AM96<0.05,"VL",IF(AM96<0.16,"L","M")) -> L
A97: Patch Monitoring | B97: Boundary | C97: RA | D97: 027-1-1 | E97: =LEFT(D97,5) -> 027-1 | F97: 41755 | G97: Philip Gyug | H97: Patch CPB | I97: 0.58472222 | J97: 1 | K97: Walk | L97: 5 | M97: 1 | N97: 3 | O97: N | P97: NULL | R97: 0 | AD97: =LOOKUP($D97,'Design Component Spatial Info'!$C$231:$C$575,'Design Component Spatial Info'!E$231:E$575) -> 11 | AE97: =LOOKUP($D97,'Design Component Spatial Info'!$C$231:$C$575,'Design Component Spatial Info'!M$231:M$575) -> 339309.16 | AF97: =LOOKUP($D97,'Design Component Spatial Info'!$C$231:$C$575,'Design Component Spatial Info'!N$231:N$575) -> 5436124 | AG97: =IF(V97="",0,SIN(RADIANS(VALUE(V97)))*VALUE(W97)+AE97) -> 0 | AH97: =IF(V97="",0,COS(RADIANS(VALUE(V97)))*VALUE(W97)+AF97) -> 0 | AI97: =LOOKUP($D97,'Design Component Spatial Info'!$C$231:$C$575,'Design Component Spatial Info'!O$231:O$575) -> 1496868 | AJ97: =LOOKUP($D97,'Design Component Spatial Info'!$C$231:$C$575,'Design Component Spatial Info'!P$231:P$575) -> 472850 | AM97: 0.116361 | AN97: =IF(AM97<0.05,"VL",IF(AM97<0.16,"L","M")) -> L
A98: Patch Monitoring | B98: Boundary | C98: RA | D98: 027-1-2 | E98: =LEFT(D98,5) -> 027-1 | F98: 41755 | G98: Philip Gyug | H98: Patch CPB | I98: 0.61458333 | J98: 1 | K98: Walk | L98: 5 | M98: 3 | N98: 4 | O98: N | P98: NULL | R98: 0 | AD98: =LOOKUP($D98,'Design Component Spatial Info'!$C$231:$C$575,'Design Component Spatial Info'!E$231:E$575) -> 11 | AE98: =LOOKUP($D98,'Design Component Spatial Info'!$C$231:$C$575,'Design Component Spatial Info'!M$231:M$575) -> 339408.88 | AF98: =LOOKUP($D98,'Design Component Spatial Info'!$C$231:$C$575,'Design Component Spatial Info'!N$231:N$575) -> 5436918.6 | AG98: =IF(V98="",0,SIN(RADIANS(VALUE(V98)))*VALUE(W98)+AE98) -> 0 | AH98: =IF(V98="",0,COS(RADIANS(VALUE(V98)))*VALUE(W98)+AF98) -> 0 | AI98: =LOOKUP($D98,'Design Component Spatial Info'!$C$231:$C$575,'Design Component Spatial Info'!O$231:O$575) -> 1496868 | AJ98: =LOOKUP($D98,'Design Component Spatial Info'!$C$231:$C$575,'Design Component Spatial Info'!P$231:P$575) -> 473650 | AM98: 0.291608 | AN98: =IF(AM98<0.05,"VL",IF(AM98<0.16,"L","M")) -> M
A99: Patch Monitoring | B99: Boundary | C99: RA | D99: 027-1-3 | E99: =LEFT(D99,5) -> 027-1 | F99: 41755 | G99: Philip Gyug | H99: Patch CPB | I99: 0.55555556 | J99: 1 | K99: Walk | L99: 5 | M99: 1 | N99: 4 | O99: N | P99: B-WISA | Q99: 90 | R99: 1 | S99: U | T99: DC | U99: DR | V99: 92 | W99: 50 | X99: AD | Y99: TE | AA99: WB572 | AD99: =LOOKUP($D99,'Design Component Spatial Info'!$C$231:$C$575,'Design Component Spatial Info'!E$231:E$575) -> 11 | AE99: =LOOKUP($D99,'Design Component Spatial Info'!$C$231:$C$575,'Design Component Spatial Info'!M$231:M$575) -> 340101.88 | AF99: =LOOKUP($D99,'Design Component Spatial Info'!$C$231:$C$575,'Design Component Spatial Info'!N$231:N$575) -> 5436024.1 | AG99: =IF(V99="",0,SIN(RADIANS(VALUE(V99)))*VALUE(W99)+AE99) -> 340151.85 | AH99: =IF(V99="",0,COS(RADIANS(VALUE(V99)))*VALUE(W99)+AF99) -> 5436022.4 | AI99: =LOOKUP($D99,'Design Component Spatial Info'!$C$231:$C$575,'Design Component Spatial Info'!O$231:O$575) -> 1497668 | AJ99: =LOOKUP($D99,'Design Component Spatial Info'!$C$231:$C$575,'Design Component Spatial Info'!P$231:P$575) -> 472850 | AK99: 1497717.9 | AL99: 472854.51 | AM99: 0.195063 | AN99: =IF(AM99<0.05,"VL",IF(AM99<0.16,"L","M")) -> M
A100: Patch Monitoring | B100: Boundary | C100: RA | D100: 027-1-4 | E100: =LEFT(D100,5) -> 027-1 | F100: 41755 | G100: Les Gyug | H100: Patch CPB | I100: 0.61388889 | J100: 1 | K100: Walk | L100: 4 | M100: 3 | N100: 4 | O100: N | P100: NULL | R100: 0 | AD100: =LOOKUP($D100,'Design Component Spatial Info'!$C$231:$C$575,'Design Component Spatial Info'!E$231:E$575) -> 11 | AE100: =LOOKUP($D100,'Design Component Spatial Info'!$C$231:$C$575,'Design Component Spatial Info'!M$231:M$575) -> 340201.61 | AF100: =LOOKUP($D100,'Design Component Spatial Info'!$C$231:$C$575,'Design Component Spatial Info'!N$231:N$575) -> 5436818.7 | AG100: =IF(V100="",0,SIN(RADIANS(VALUE(V100)))*VALUE(W100)+AE100) -> 0 | AH100: =IF(V100="",0,COS(RADIANS(VALUE(V100)))*VALUE(W100)+AF100) -> 0 | AI100: =LOOKUP($D100,'Design Component Spatial Info'!$C$231:$C$575,'Design Component Spatial Info'!O$231:O$575) -> 1497668 | AJ100: =LOOKUP($D100,'Design Component Spatial Info'!$C$231:$C$575,'Design Component Spatial Info'!P$231:P$575) -> 473650 | AM100: 0.109196 | AN100: =IF(AM100<0.05,"VL",IF(AM100<0.16,"L","M")) -> L
...

Sheet RM CPB-DataEntry
A1: Survey Name | B1: Study Area Name | C1: Survey Intensity | D1: CPB Station | E1: Patch | F1: Date | G1: Surveyors | H1: Type CPB | I1: Time Start | J1: Continuation Line | K1: Type of Access | L1: Air Temp (C) | M1: Wind Speed | N1: Cloud Cover | O1: Current Precipitation | P1: Species | Q1: Detection Time (seconds) | R1: Count | S1: Sex | T1: WISA V/D/C | U1: Detect Type | V1: Detect Dir (deg) | W1: Detect Dist (m) | X1: Life Stage | Y1: Activity | Z1: WISA ID | AA1: Final Assigned WISA Site ID | AB1: Comments | AC1: Other Species | AD1: CPB UTM Zone | AE1: CPB UTM E | AF1: CPB UTM N | AG1: WISA UTM E | AH1: WISA UTM N | AI1: CPB Albers E | AJ1: CPB Albers N | AK1: WISA Albers E | AL1: WISA Albers N | AM1: Hab Suit
A2: Road Monitoring | B2: West-Merritt | C2: RA | D2: RM-M109 | E2: 089-4 | F2: 41729 | G2: Les Gyug | H2: Road Monit.-First | I2: 0.51458333 | J2: 1 | K2: Road | L2: 7 | M2: 1 | N2: 4 | O2: N | P2: NULL | R2: 0 | AD2: =LOOKUP($D2,'Design Component Spatial Info'!$C$2:$C$230,'Design Component Spatial Info'!E$2:E$230) -> 10 | AE2: =LOOKUP($D2,'Design Component Spatial Info'!$C$2:$C$230,'Design Component Spatial Info'!F$2:F$230) -> 643519 | AF2: =LOOKUP($D2,'Design Component Spatial Info'!$C$2:$C$230,'Design Component Spatial Info'!G$2:G$230) -> 5554818 | AG2: =IF(V2="",0,SIN(RADIANS(VALUE(V2)))*VALUE(W2)+AE2) -> 0 | AH2: =IF(V2="",0,COS(RADIANS(VALUE(V2)))*VALUE(W2)+AF2) -> 0 | AI2: =LOOKUP($D2,'Design Component Spatial Info'!$C$2:$C$230,'Design Component Spatial Info'!I$2:I$230) -> 1357744.3 | AJ2: =LOOKUP($D2,'Design Component Spatial Info'!$C$2:$C$230,'Design Component Spatial Info'!J$2:J$230) -> 580706.54
A3: Road Monitoring | B3: West-Merritt | C3: RA | D3: RM-M110 | E3: 089-1 | F3: 41729 | G3: Les Gyug | H3: Road Monit.-First | I3: 0.51944444 | J3: 1 | K3: Road | L3: 7 | M3: 2 | N3: 4 | O3: N | P3: NULL | R3: 0 | AD3: =LOOKUP($D3,'Design Component Spatial Info'!$C$2:$C$230,'Design Component Spatial Info'!E$2:E$230) -> 10 | AE3: =LOOKUP($D3,'Design Component Spatial Info'!$C$2:$C$230,'Design Component Spatial Info'!F$2:F$230) -> 642731 | AF3: =LOOKUP($D3,'Design Component Spatial Info'!$C$2:$C$230,'Design Component Spatial Info'!G$2:G$230) -> 5554758 | AG3: =IF(V3="",0,SIN(RADIANS(VALUE(V3)))*VALUE(W3)+AE3) -> 0 | AH3: =IF(V3="",0,COS(RADIANS(VALUE(V3)))*VALUE(W3)+AF3) -> 0 | AI3: =LOOKUP($D3,'Design Component Spatial Info'!$C$2:$C$230,'Design Component Spatial Info'!I$2:I$230) -> 1356960.3 | AJ3: =LOOKUP($D3,'Design Component Spatial Info'!$C$2:$C$230,'Design Component Spatial Info'!J$2:J$230) -> 580612.57
A4: Road Monitoring | B4: West-Merritt | C4: RA | D4: RM-M111 | E4: 089-1 | F4: 41729 | G4: Les Gyug | H4: Road Monit.-First | I4: 0.525 | J4: 1 | K4: Road | L4: 7 | M4: 2 | N4: 4 | O4: N | P4: B-WISA | Q4: 64 | R4: 1 | S4: U | T4: DC | U4: DR | V4: 136 | W4: 176 | X4: AD | Y4: TE | AA4: WM674 | AD4: =LOOKUP($D4,'Design Component Spatial Info'!$C$2:$C$230,'Design Component Spatial Info'!E$2:E$230) -> 10 | AE4: =LOOKUP($D4,'Design Component Spatial Info'!$C$2:$C$230,'Design Component Spatial Info'!F$2:F$230) -> 641960 | AF4: =LOOKUP($D4,'Design Component Spatial Info'!$C$2:$C$230,'Design Component Spatial Info'!G$2:G$230) -> 5554803 | AG4: =IF(V4="",0,SIN(RADIANS(VALUE(V4)))*VALUE(W4)+AE4) -> 642082.26 | AH4: =IF(V4="",0,COS(RADIANS(VALUE(V4)))*VALUE(W4)+AF4) -> 5554676.4 | AI4: =LOOKUP($D4,'Design Component Spatial Info'!$C$2:$C$230,'Design Component Spatial Info'!I$2:I$230) -> 1356188.1 | AJ4: =LOOKUP($D4,'Design Component Spatial Info'!$C$2:$C$230,'Design Component Spatial Info'!J$2:J$230) -> 580623.61 | AK4: 1356315 | AL4: 580502
A5: Road Monitoring | B5: West-Merritt | C5: RA | D5: RM-M112 | F5: 41729 | G5: Les Gyug | H5: Road Monit.-First | I5: 0.53194444 | J5: 1 | K5: Road | L5: 7 | M5: 2 | N5: 4 | O5: N | P5: NULL | R5: 0 | AD5: =LOOKUP($D5,'Design Component Spatial Info'!$C$2:$C$230,'Design Component Spatial Info'!E$2:E$230) -> 10 | AE5: =LOOKUP($D5,'Design Component Spatial Info'!$C$2:$C$230,'Design Component Spatial Info'!F$2:F$230) -> 641288 | AF5: =LOOKUP($D5,'Design Component Spatial Info'!$C$2:$C$230,'Design Component Spatial Info'!G$2:G$230) -> 5555213 | AG5: =IF(V5="",0,SIN(RADIANS(VALUE(V5)))*VALUE(W5)+AE5) -> 0 | AH5: =IF(V5="",0,COS(RADIANS(VALUE(V5)))*VALUE(W5)+AF5) -> 0 | AI5: =LOOKUP($D5,'Design Component Spatial Info'!$C$2:$C$230,'Design Component Spatial Info'!I$2:I$230) -> 1355498.2 | AJ5: =LOOKUP($D5,'Design Component Spatial Info'!$C$2:$C$230,'Design Component Spatial Info'!J$2:J$230) -> 581003.85
A6: Road Monitoring | B6: West-Merritt | C6: RA | D6: RM-M072 | F6: 41729 | G6: Les Gyug | H6: Road Monit.-First | I6: 0.55347222 | J6: 1 | K6: Road | L6: 7 | M6: 2 | N6: 3 | O6: N | P6: NULL | R6: 0 | AD6: =LOOKUP($D6,'Design Component Spatial Info'!$C$2:$C$230,'Design Component Spatial Info'!E$2:E$230) -> 10 | AE6: =LOOKUP($D6,'Design Component Spatial Info'!$C$2:$C$230,'Design Component Spatial Info'!F$2:F$230) -> 656896 | AF6: =LOOKUP($D6,'Design Component Spatial Info'!$C$2:$C$230,'Design Component Spatial Info'!G$2:G$230) -> 5547645 | AG6: =IF(V6="",0,SIN(RADIANS(VALUE(V6)))*VALUE(W6)+AE6) -> 0 | AH6: =IF(V6="",0,COS(RADIANS(VALUE(V6)))*VALUE(W6)+AF6) -> 0 | AI6: =LOOKUP($D6,'Design Component Spatial Info'!$C$2:$C$230,'Design Component Spatial Info'!I$2:I$230) -> 1371424.2 | AJ6: =LOOKUP($D6,'Design Component Spatial Info'!$C$2:$C$230,'Design Component Spatial Info'!J$2:J$230) -> 574125.8
A7: Road Monitoring | B7: West-Merritt | C7: RA | D7: RM-M073 | E7: 622 | F7: 41729 | G7: Les Gyug | H7: Road Monit.-First | I7: 0.55833333 | J7: 1 | K7: Road | L7: 7 | M7: 2 | N7: 3 | O7: N | P7: NULL | R7: 0 | AD7: =LOOKUP($D7,'Design Component Spatial Info'!$C$2:$C$230,'Design Component Spatial Info'!E$2:E$230) -> 10 | AE7: =LOOKUP($D7,'Design Component Spatial Info'!$C$2:$C$230,'Design Component Spatial Info'!F$2:F$230) -> 656251 | AF7: =LOOKUP($D7,'Design Component Spatial Info'!$C$2:$C$230,'Design Component Spatial Info'!G$2:G$230) -> 5547177 | AG7: =IF(V7="",0,SIN(RADIANS(VALUE(V7)))*VALUE(W7)+AE7) -> 0 | AH7: =IF(V7="",0,COS(RADIANS(VALUE(V7)))*VALUE(W7)+AF7) -> 0 | AI7: =LOOKUP($D7,'Design Component Spatial Info'!$C$2:$C$230,'Design Component Spatial Info'!I$2:I$230) -> 1370800.5 | AJ7: =LOOKUP($D7,'Design Component Spatial Info'!$C$2:$C$230,'Design Component Spatial Info'!J$2:J$230) -> 573630.26
A8: Road Monitoring | B8: West-Merritt | C8: RA | D8: RM-M074 | E8: 591 | F8: 41729 | G8: Les Gyug | H8: Road Monit.-First | I8: 0.56527778 | J8: 1 | K8: Road | L8: 7 | M8: 2 | N8: 3 | O8: N | P8: NULL | R8: 0 | AD8: =LOOKUP($D8,'Design Component Spatial Info'!$C$2:$C$230,'Design Component Spatial Info'!E$2:E$230) -> 10 | AE8: =LOOKUP($D8,'Design Component Spatial Info'!$C$2:$C$230,'Design Component Spatial Info'!F$2:F$230) -> 651568 | AF8: =LOOKUP($D8,'Design Component Spatial Info'!$C$2:$C$230,'Design Component Spatial Info'!G$2:G$230) -> 5542032 | AG8: =IF(V8="",0,SIN(RADIANS(VALUE(V8)))*VALUE(W8)+AE8) -> 0 | AH8: =IF(V8="",0,COS(RADIANS(VALUE(V8)))*VALUE(W8)+AF8) -> 0 | AI8: =LOOKUP($D8,'Design Component Spatial Info'!$C$2:$C$230,'Design Component Spatial Info'!I$2:I$230) -> 1366347.5 | AJ8: =LOOKUP($D8,'Design Component Spatial Info'!$C$2:$C$230,'Design Component Spatial Info'!J$2:J$230) -> 568283.71
A9: Road Monitoring | B9: West-Merritt | C9: RA | D9: RM-M075 | E9: 591 | F9: 41729 | G9: Les Gyug | H9: Road Monit.-First | I9: 0.57013889 | J9: 1 | K9: Road | L9: 7 | M9: 2 | N9: 2 | O9: N | P9: NULL | R9: 0 | AD9: =LOOKUP($D9,'Design Component Spatial Info'!$C$2:$C$230,'Design Component Spatial Info'!E$2:E$230) -> 10 | AE9: =LOOKUP($D9,'Design Component Spatial Info'!$C$2:$C$230,'Design Component Spatial Info'!F$2:F$230) -> 650683 | AF9: =LOOKUP($D9,'Design Component Spatial Info'!$C$2:$C$230,'Design Component Spatial Info'!G$2:G$230) -> 5540742 | AG9: =IF(V9="",0,SIN(RADIANS(VALUE(V9)))*VALUE(W9)+AE9) -> 0 | AH9: =IF(V9="",0,COS(RADIANS(VALUE(V9)))*VALUE(W9)+AF9) -> 0 | AI9: =LOOKUP($D9,'Design Component Spatial Info'!$C$2:$C$230,'Design Component Spatial Info'!I$2:I$230) -> 1365520.4 | AJ9: =LOOKUP($D9,'Design Component Spatial Info'!$C$2:$C$230,'Design Component Spatial Info'!J$2:J$230) -> 566955.92
A10: Road Monitoring | B10: West-Merritt | C10: RA | D10: RM-M076 | E10: 564 | F10: 41729 | G10: Les Gyug | H10: Road Monit.-First | I10: 0.57430556 | J10: 1 | K10: Road | L10: 7 | M10: 2 | N10: 2 | O10: N | P10: NULL | R10: 0 | AD10: =LOOKUP($D10,'Design Component Spatial Info'!$C$2:$C$230,'Design Component Spatial Info'!E$2:E$230) -> 10 | AE10: =LOOKUP($D10,'Design Component Spatial Info'!$C$2:$C$230,'Design Component Spatial Info'!F$2:F$230) -> 650211 | AF10: =LOOKUP($D10,'Design Component Spatial Info'!$C$2:$C$230,'Design Component Spatial Info'!G$2:G$230) -> 5540130 | AG10: =IF(V10="",0,SIN(RADIANS(VALUE(V10)))*VALUE(W10)+AE10) -> 0 | AH10: =IF(V10="",0,COS(RADIANS(VALUE(V10)))*VALUE(W10)+AF10) -> 0 | AI10: =LOOKUP($D10,'Design Component Spatial Info'!$C$2:$C$230,'Design Component Spatial Info'!I$2:I$230) -> 1365075.1 | AJ10: =LOOKUP($D10,'Design Component Spatial Info'!$C$2:$C$230,'Design Component Spatial Info'!J$2:J$230) -> 566323.45
A11: Road Monitoring | B11: West-Merritt | C11: RA | D11: RM-M077 | E11: 564 | F11: 41729 | G11: Les Gyug | H11: Road Monit.-First | I11: 0.57847222 | J11: 1 | K11: Road | L11: 7 | M11: 2 | N11: 2 | O11: N | P11: NULL | R11: 0 | AD11: =LOOKUP($D11,'Design Component Spatial Info'!$C$2:$C$230,'Design Component Spatial Info'!E$2:E$230) -> 10 | AE11: =LOOKUP($D11,'Design Component Spatial Info'!$C$2:$C$230,'Design Component Spatial Info'!F$2:F$230) -> 649656 | AF11: =LOOKUP($D11,'Design Component Spatial Info'!$C$2:$C$230,'Design Component Spatial Info'!G$2:G$230) -> 5539592 | AG11: =IF(V11="",0,SIN(RADIANS(VALUE(V11)))*VALUE(W11)+AE11) -> 0 | AH11: =IF(V11="",0,COS(RADIANS(VALUE(V11)))*VALUE(W11)+AF11) -> 0 | AI11: =LOOKUP($D11,'Design Component Spatial Info'!$C$2:$C$230,'Design Component Spatial Info'!I$2:I$230) -> 1364544.6 | AJ11: =LOOKUP($D11,'Design Component Spatial Info'!$C$2:$C$230,'Design Component Spatial Info'!J$2:J$230) -> 565762
A12: Road Monitoring | B12: West-Merritt | C12: RA | D12: RM-M078 | E12: 080-3 | F12: 41729 | G12: Les Gyug | H12: Road Monit.-First | I12: 0.58333333 | J12: 1 | K12: Road | L12: 9 | M12: 2 | N12: 2 | O12: N | P12: B-WISA | Q12: 45 | R12: 1 | S12: M | T12: VC | U12: VI | V12: 153 | W12: 313 | X12: AD | Y12: TE | AA12: WM675 | AD12: =LOOKUP($D12,'Design Component Spatial Info'!$C$2:$C$230,'Design Component Spatial Info'!E$2:E$230) -> 10 | AE12: =LOOKUP($D12,'Design Component Spatial Info'!$C$2:$C$230,'Design Component Spatial Info'!F$2:F$230) -> 648649.85 | AF12: =LOOKUP($D12,'Design Component Spatial Info'!$C$2:$C$230,'Design Component Spatial Info'!G$2:G$230) -> 5537847.2 | AG12: =IF(V12="",0,SIN(RADIANS(VALUE(V12)))*VALUE(W12)+AE12) -> 648791.95 | AH12: =IF(V12="",0,COS(RADIANS(VALUE(V12)))*VALUE(W12)+AF12) -> 5537568.3 | AI12: =LOOKUP($D12,'Design Component Spatial Info'!$C$2:$C$230,'Design Component Spatial Info'!I$2:I$230) -> 1369889.4 | AJ12: =LOOKUP($D12,'Design Component Spatial Info'!$C$2:$C$230,'Design Component Spatial Info'!J$2:J$230) -> 557421.19 | AK12: 1363770 | AL12: 563702
A13: Road Monitoring | B13: West-Merritt | C13: RA | D13: RM-M079 | E13: 080-4 | F13: 41729 | G13: Les Gyug | H13: Road Monit.-First | I13: 0.5875 | J13: 1 | K13: Road | L13: 9 | M13: 2 | N13: 2 | O13: N | P13: NULL | R13: 0 | AD13: =LOOKUP($D13,'Design Component Spatial Info'!$C$2:$C$230,'Design Component Spatial Info'!E$2:E$230) -> 10 | AE13: =LOOKUP($D13,'Design Component Spatial Info'!$C$2:$C$230,'Design Component Spatial Info'!F$2:F$230) -> 648546.31 | AF13: =LOOKUP($D13,'Design Component Spatial Info'!$C$2:$C$230,'Design Component Spatial Info'!G$2:G$230) -> 5537151.4 | AG13: =IF(V13="",0,SIN(RADIANS(VALUE(V13)))*VALUE(W13)+AE13) -> 0 | AH13: =IF(V13="",0,COS(RADIANS(VALUE(V13)))*VALUE(W13)+AF13) -> 0 | AI13: =LOOKUP($D13,'Design Component Spatial Info'!$C$2:$C$230,'Design Component Spatial Info'!I$2:I$230) -> 1371424.2 | AJ13: =LOOKUP($D13,'Design Component Spatial Info'!$C$2:$C$230,'Design Component Spatial Info'!J$2:J$230) -> 574125.8
A14: Road Monitoring | B14: West-Merritt | C14: RA | D14: RM-M080 | E14: 080-5 | F14: 41729 | G14: Les Gyug | H14: Road Monit.-First | I14: 0.59166667 | J14: 1 | K14: Road | L14: 9 | M14: 2 | N14: 2 | O14: N | P14: NULL | R14: 0 | AD14: =LOOKUP($D14,'Design Component Spatial Info'!$C$2:$C$230,'Design Component Spatial Info'!E$2:E$230) -> 10 | AE14: =LOOKUP($D14,'Design Component Spatial Info'!$C$2:$C$230,'Design Component Spatial Info'!F$2:F$230) -> 648956.64 | AF14: =LOOKUP($D14,'Design Component Spatial Info'!$C$2:$C$230,'Design Component Spatial Info'!G$2:G$230) -> 5536475 | AG14: =IF(V14="",0,SIN(RADIANS(VALUE(V14)))*VALUE(W14)+AE14) -> 0 | AH14: =IF(V14="",0,COS(RADIANS(VALUE(V14)))*VALUE(W14)+AF14) -> 0 | AI14: =LOOKUP($D14,'Design Component Spatial Info'!$C$2:$C$230,'Design Component Spatial Info'!I$2:I$230) -> 1370800.5 | AJ14: =LOOKUP($D14,'Design Component Spatial Info'!$C$2:$C$230,'Design Component Spatial Info'!J$2:J$230) -> 573630.26
A15: Road Monitoring | B15: West-Merritt | C15: RA | D15: RM-M081 | E15: 079-2 | F15: 41729 | G15: Les Gyug | H15: Road Monit.-First | I15: 0.59583333 | J15: 1 | K15: Road | L15: 9 | M15: 2 | N15: 2 | O15: N | P15: NULL | R15: 0 | AD15: =LOOKUP($D15,'Design Component Spatial Info'!$C$2:$C$230,'Design Component Spatial Info'!E$2:E$230) -> 10 | AE15: =LOOKUP($D15,'Design Component Spatial Info'!$C$2:$C$230,'Design Component Spatial Info'!F$2:F$230) -> 649355.15 | AF15: =LOOKUP($D15,'Design Component Spatial Info'!$C$2:$C$230,'Design Component Spatial Info'!G$2:G$230) -> 5535784 | AG15: =IF(V15="",0,SIN(RADIANS(VALUE(V15)))*VALUE(W15)+AE15) -> 0 | AH15: =IF(V15="",0,COS(RADIANS(VALUE(V15)))*VALUE(W15)+AF15) -> 0 | AI15: =LOOKUP($D15,'Design Component Spatial Info'!$C$2:$C$230,'Design Component Spatial Info'!I$2:I$230) -> 1366347.5 | AJ15: =LOOKUP($D15,'Design Component Spatial Info'!$C$2:$C$230,'Design Component Spatial Info'!J$2:J$230) -> 568283.71
A16: Road Monitoring | B16: West-Merritt | C16: RA | D16: RM-M082 | E16: 079-2 | F16: 41729 | G16: Les Gyug | H16: Road Monit.-First | I16: 0.6 | J16: 1 | K16: Road | L16: 9 | M16: 3 | N16: 2 | O16: N | P16: NULL | R16: 0 | AD16: =LOOKUP($D16,'Design Component Spatial Info'!$C$2:$C$230,'Design Component Spatial Info'!E$2:E$230) -> 10 | AE16: =LOOKUP($D16,'Design Component Spatial Info'!$C$2:$C$230,'Design Component Spatial Info'!F$2:F$230) -> 649653.27 | AF16: =LOOKUP($D16,'Design Component Spatial Info'!$C$2:$C$230,'Design Component Spatial Info'!G$2:G$230) -> 5535067.5 | AG16: =IF(V16="",0,SIN(RADIANS(VALUE(V16)))*VALUE(W16)+AE16) -> 0 | AH16: =IF(V16="",0,COS(RADIANS(VALUE(V16)))*VALUE(W16)+AF16) -> 0 | AI16: =LOOKUP($D16,'Design Component Spatial Info'!$C$2:$C$230,'Design Component Spatial Info'!I$2:I$230) -> 1365520.4 | AJ16: =LOOKUP($D16,'Design Component Spatial Info'!$C$2:$C$230,'Design Component Spatial Info'!J$2:J$230) -> 566955.92
A17: Road Monitoring | B17: West-Merritt | C17: RA | D17: RM-M083 | E17: 079-2 | F17: 41729 | G17: Les Gyug | H17: Road Monit.-First | I17: 0.60555556 | J17: 1 | K17: Road | L17: 9 | M17: 2 | N17: 2 | O17: N | P17: NULL | R17: 0 | AD17: =LOOKUP($D17,'Design Component Spatial Info'!$C$2:$C$230,'Design Component Spatial Info'!E$2:E$230) -> 10 | AE17: =LOOKUP($D17,'Design Component Spatial Info'!$C$2:$C$230,'Design Component Spatial Info'!F$2:F$230) -> 649717.19 | AF17: =LOOKUP($D17,'Design Component Spatial Info'!$C$2:$C$230,'Design Component Spatial Info'!G$2:G$230) -> 5534288.1 | AG17: =IF(V17="",0,SIN(RADIANS(VALUE(V17)))*VALUE(W17)+AE17) -> 0 | AH17: =IF(V17="",0,COS(RADIANS(VALUE(V17)))*VALUE(W17)+AF17) -> 0 | AI17: =LOOKUP($D17,'Design Component Spatial Info'!$C$2:$C$230,'Design Component Spatial Info'!I$2:I$230) -> 1365075.1 | AJ17: =LOOKUP($D17,'Design Component Spatial Info'!$C$2:$C$230,'Design Component Spatial Info'!J$2:J$230) -> 566323.45
A18: Road Monitoring | B18: West-Merritt | C18: RA | D18: RM-M071 | E18: 078-2 | F18: 41729 | G18: Les Gyug | H18: Road Monit.-First | I18: 0.61736111 | J18: 1 | K18: Road | L18: 9 | M18: 2 | N18: 2 | O18: N | P18: NULL | R18: 0 | AD18: =LOOKUP($D18,'Design Component Spatial Info'!$C$2:$C$230,'Design Component Spatial Info'!E$2:E$230) -> 10 | AE18: =LOOKUP($D18,'Design Component Spatial Info'!$C$2:$C$230,'Design Component Spatial Info'!F$2:F$230) -> 654628.19 | AF18: =LOOKUP($D18,'Design Component Spatial Info'!$C$2:$C$230,'Design Component Spatial Info'!G$2:G$230) -> 5531025.1 | AG18: =IF(V18="",0,SIN(RADIANS(VALUE(V18)))*VALUE(W18)+AE18) -> 0 | AH18: =IF(V18="",0,COS(RADIANS(VALUE(V18)))*VALUE(W18)+AF18) -> 0 | AI18: =LOOKUP($D18,'Design Component Spatial Info'!$C$2:$C$230,'Design Component Spatial Info'!I$2:I$230) -> 1374243 | AJ18: =LOOKUP($D18,'Design Component Spatial Info'!$C$2:$C$230,'Design Component Spatial Info'!J$2:J$230) -> 559216.14
A19: Road Monitoring | B19: West-Merritt | C19: RA | D19: RM-M117 | E19: 077-2 | F19: 41729 | G19: Les Gyug | H19: Road Monit.-First | I19: 0.62361111 | J19: 1 | K19: Road | L19: 10 | M19: 1 | N19: 2 | O19: N | P19: NULL | R19: 0 | AD19: =LOOKUP($D19,'Design Component Spatial Info'!$C$2:$C$230,'Design Component Spatial Info'!E$2:E$230) -> 10 | AE19: =LOOKUP($D19,'Design Component Spatial Info'!$C$2:$C$230,'Design Component Spatial Info'!F$2:F$230) -> 655423 | AF19: =LOOKUP($D19,'Design Component Spatial Info'!$C$2:$C$230,'Design Component Spatial Info'!G$2:G$230) -> 5531094 | AG19: =IF(V19="",0,SIN(RADIANS(VALUE(V19)))*VALUE(W19)+AE19) -> 0 | AH19: =IF(V19="",0,COS(RADIANS(VALUE(V19)))*VALUE(W19)+AF19) -> 0 | AI19: =LOOKUP($D19,'Design Component Spatial Info'!$C$2:$C$230,'Design Component Spatial Info'!I$2:I$230) -> 1370680 | AJ19: =LOOKUP($D19,'Design Component Spatial Info'!$C$2:$C$230,'Design Component Spatial Info'!J$2:J$230) -> 557525
A20: Road Monitoring | B20: West-Merritt | C20: RA | D20: RM-M116 | E20: 077-2 | F20: 41729 | G20: Les Gyug | H20: Road Monit.-First | I20: 0.62777778 | J20: 1 | K20: Road | L20: 10 | M20: 2 | N20: 2 | O20: N | P20: NULL | R20: 0 | AD20: =LOOKUP($D20,'Design Component Spatial Info'!$C$2:$C$230,'Design Component Spatial Info'!E$2:E$230) -> 10 | AE20: =LOOKUP($D20,'Design Component Spatial Info'!$C$2:$C$230,'Design Component Spatial Info'!F$2:F$230) -> 656228 | AF20: =LOOKUP($D20,'Design Component Spatial Info'!$C$2:$C$230,'Design Component Spatial Info'!G$2:G$230) -> 5531145 | AG20: =IF(V20="",0,SIN(RADIANS(VALUE(V20)))*VALUE(W20)+AE20) -> 0 | AH20: =IF(V20="",0,COS(RADIANS(VALUE(V20)))*VALUE(W20)+AF20) -> 0 | AI20: =LOOKUP($D20,'Design Component Spatial Info'!$C$2:$C$230,'Design Component Spatial Info'!I$2:I$230) -> 1371482.3 | AJ20: =LOOKUP($D20,'Design Component Spatial Info'!$C$2:$C$230,'Design Component Spatial Info'!J$2:J$230) -> 557611.16
A21: Road Monitoring | B21: West-Merritt | C21: RA | D21: RM-M115 | E21: 077-3 | F21: 41729 | G21: Les Gyug | H21: Road Monit.-First | I21: 0.63194444 | J21: 1 | K21: Road | L21: 10 | M21: 1 | N21: 2 | O21: N | P21: NULL | R21: 0 | AD21: =LOOKUP($D21,'Design Component Spatial Info'!$C$2:$C$230,'Design Component Spatial Info'!E$2:E$230) -> 10 | AE21: =LOOKUP($D21,'Design Component Spatial Info'!$C$2:$C$230,'Design Component Spatial Info'!F$2:F$230) -> 657132 | AF21: =LOOKUP($D21,'Design Component Spatial Info'!$C$2:$C$230,'Design Component Spatial Info'!G$2:G$230) -> 5531349 | AG21: =IF(V21="",0,SIN(RADIANS(VALUE(V21)))*VALUE(W21)+AE21) -> 0 | AH21: =IF(V21="",0,COS(RADIANS(VALUE(V21)))*VALUE(W21)+AF21) -> 0 | AI21: =LOOKUP($D21,'Design Component Spatial Info'!$C$2:$C$230,'Design Component Spatial Info'!I$2:I$230) -> 1372377 | AJ21: =LOOKUP($D21,'Design Component Spatial Info'!$C$2:$C$230,'Design Component Spatial Info'!J$2:J$230) -> 557855
A22: Road Monitoring | B22: West-Merritt | C22: RA | D22: RM-M114 | E22: 512 | F22: 41729 | G22: Les Gyug | H22: Road Monit.-First | I22: 0.63680556 | J22: 1 | K22: Road | L22: 10 | M22: 1 | N22: 2 | O22: N | P22: NULL | R22: 0 | AD22: =LOOKUP($D22,'Design Component Spatial Info'!$C$2:$C$230,'Design Component Spatial Info'!E$2:E$230) -> 10 | AE22: =LOOKUP($D22,'Design Component Spatial Info'!$C$2:$C$230,'Design Component Spatial Info'!F$2:F$230) -> 658083 | AF22: =LOOKUP($D22,'Design Component Spatial Info'!$C$2:$C$230,'Design Component Spatial Info'!G$2:G$230) -> 5531666 | AG22: =IF(V22="",0,SIN(RADIANS(VALUE(V22)))*VALUE(W22)+AE22) -> 0 | AH22: =IF(V22="",0,COS(RADIANS(VALUE(V22)))*VALUE(W22)+AF22) -> 0 | AI22: =LOOKUP($D22,'Design Component Spatial Info'!$C$2:$C$230,'Design Component Spatial Info'!I$2:I$230) -> 1373313.1 | AJ22: =LOOKUP($D22,'Design Component Spatial Info'!$C$2:$C$230,'Design Component Spatial Info'!J$2:J$230) -> 558213.84
A23: Road Monitoring | B23: West-Merritt | C23: RA | D23: RM-M113 | E23: 512 | F23: 41729 | G23: Les Gyug | H23: Road Monit.-First | I23: 0.64027778 | J23: 1 | K23: Road | L23: 10 | M23: 1 | N23: 2 | O23: N | P23: NULL | R23: 0 | AD23: =LOOKUP($D23,'Design Component Spatial Info'!$C$2:$C$230,'Design Component Spatial Info'!E$2:E$230) -> 10 | AE23: =LOOKUP($D23,'Design Component Spatial Info'!$C$2:$C$230,'Design Component Spatial Info'!F$2:F$230) -> 658786 | AF23: =LOOKUP($D23,'Design Component Spatial Info'!$C$2:$C$230,'Design Component Spatial Info'!G$2:G$230) -> 5531868 | AG23: =IF(V23="",0,SIN(RADIANS(VALUE(V23)))*VALUE(W23)+AE23) -> 0 | AH23: =IF(V23="",0,COS(RADIANS(VALUE(V23)))*VALUE(W23)+AF23) -> 0 | AI23: =LOOKUP($D23,'Design Component Spatial Info'!$C$2:$C$230,'Design Component Spatial Info'!I$2:I$230) -> 1374007 | AJ23: =LOOKUP($D23,'Design Component Spatial Info'!$C$2:$C$230,'Design Component Spatial Info'!J$2:J$230) -> 558447
A24: Road Monitoring | B24: West-Merritt | C24: RA | D24: RM-M070 | E24: 075-4 | F24: 41729 | G24: Les Gyug | H24: Road Monit.-First | I24: 0.64444444 | J24: 1 | K24: Road | L24: 10 | M24: 1 | N24: 2 | O24: N | P24: NULL | R24: 0 | AD24: =LOOKUP($D24,'Design Component Spatial Info'!$C$2:$C$230,'Design Component Spatial Info'!E$2:E$230) -> 10 | AE24: =LOOKUP($D24,'Design Component Spatial Info'!$C$2:$C$230,'Design Component Spatial Info'!F$2:F$230) -> 659055.66 | AF24: =LOOKUP($D24,'Design Component Spatial Info'!$C$2:$C$230,'Design Component Spatial Info'!G$2:G$230) -> 5532626.5 | AG24: =IF(V24="",0,SIN(RADIANS(VALUE(V24)))*VALUE(W24)+AE24) -> 0 | AH24: =IF(V24="",0,COS(RADIANS(VALUE(V24)))*VALUE(W24)+AF24) -> 0 | AI24: =LOOKUP($D24,'Design Component Spatial Info'!$C$2:$C$230,'Design Component Spatial Info'!I$2:I$230) -> 1374958.3 | AJ24: =LOOKUP($D24,'Design Component Spatial Info'!$C$2:$C$230,'Design Component Spatial Info'!J$2:J$230) -> 559116.73
A25: Road Monitoring | B25: Okanagan | C25: RA | D25: RM-K001 | F25: 41730 | G25: Les Gyug | H25: Road Monit.-First | I25: 0.26388889 | J25: 1 | K25: Road | L25: 2 | M25: 1 | N25: 1 | O25: N | P25: NULL | R25: 0 | AD25: =LOOKUP($D25,'Design Component Spatial Info'!$C$2:$C$230,'Design Component Spatial Info'!E$2:E$230) -> 11 | AE25: =LOOKUP($D25,'Design Component Spatial Info'!$C$2:$C$230,'Design Component Spatial Info'!F$2:F$230) -> 323399.83 | AF25: =LOOKUP($D25,'Design Component Spatial Info'!$C$2:$C$230,'Design Component Spatial Info'!G$2:G$230) -> 5447801.2 | AG25: =IF(V25="",0,SIN(RADIANS(VALUE(V25)))*VALUE(W25)+AE25) -> 0 | AH25: =IF(V25="",0,COS(RADIANS(VALUE(V25)))*VALUE(W25)+AF25) -> 0 | AI25: =LOOKUP($D25,'Design Component Spatial Info'!$C$2:$C$230,'Design Component Spatial Info'!I$2:I$230) -> 1479609 | AJ25: =LOOKUP($D25,'Design Component Spatial Info'!$C$2:$C$230,'Design Component Spatial Info'!J$2:J$230) -> 482439
A26: Road Monitoring | B26: Okanagan | C26: RA | D26: RM-K002 | F26: 41730 | G26: Les Gyug | H26: Road Monit.-First | I26: 0.26805556 | J26: 1 | K26: Road | L26: 2 | M26: 1 | N26: 1 | O26: N | P26: NULL | R26: 0 | AD26: =LOOKUP($D26,'Design Component Spatial Info'!$C$2:$C$230,'Design Component Spatial Info'!E$2:E$230) -> 11 | AE26: =LOOKUP($D26,'Design Component Spatial Info'!$C$2:$C$230,'Design Component Spatial Info'!F$2:F$230) -> 323839.04 | AF26: =LOOKUP($D26,'Design Component Spatial Info'!$C$2:$C$230,'Design Component Spatial Info'!G$2:G$230) -> 5447168.9 | AG26: =IF(V26="",0,SIN(RADIANS(VALUE(V26)))*VALUE(W26)+AE26) -> 0 | AH26: =IF(V26="",0,COS(RADIANS(VALUE(V26)))*VALUE(W26)+AF26) -> 0 | AI26: =LOOKUP($D26,'Design Component Spatial Info'!$C$2:$C$230,'Design Component Spatial Info'!I$2:I$230) -> 1480124 | AJ26: =LOOKUP($D26,'Design Component Spatial Info'!$C$2:$C$230,'Design Component Spatial Info'!J$2:J$230) -> 481867
A27: Road Monitoring | B27: Okanagan | C27: RA | D27: RM-K003 | E27: 037-3 | F27: 41730 | G27: Les Gyug | H27: Road Monit.-First | I27: 0.27291667 | J27: 1 | K27: Road | L27: 2 | M27: 1 | N27: 1 | O27: N | P27: B-WISA | Q27: 0 | R27: 1 | S27: M | T27: VDC | U27: VI | V27: 337 | W27: 150 | X27: AD | Y27: TE | AA27: WK359 | AD27: =LOOKUP($D27,'Design Component Spatial Info'!$C$2:$C$230,'Design Component Spatial Info'!E$2:E$230) -> 11 | AE27: =LOOKUP($D27,'Design Component Spatial Info'!$C$2:$C$230,'Design Component Spatial Info'!F$2:F$230) -> 324362.21 | AF27: =LOOKUP($D27,'Design Component Spatial Info'!$C$2:$C$230,'Design Component Spatial Info'!G$2:G$230) -> 5446684.4 | AG27: =IF(V27="",0,SIN(RADIANS(VALUE(V27)))*VALUE(W27)+AE27) -> 324303.6 | AH27: =IF(V27="",0,COS(RADIANS(VALUE(V27)))*VALUE(W27)+AF27) -> 5446822.5 | AI27: =LOOKUP($D27,'Design Component Spatial Info'!$C$2:$C$230,'Design Component Spatial Info'!I$2:I$230) -> 1480704 | AJ27: =LOOKUP($D27,'Design Component Spatial Info'!$C$2:$C$230,'Design Component Spatial Info'!J$2:J$230) -> 481452 | AK27: 1480629 | AL27: 481582
A28: Road Monitoring | B28: Okanagan | C28: RA | D28: RM-K004 | E28: 037-3 | F28: 41730 | G28: Les Gyug | H28: Road Monit.-First | I28: 0.27847222 | J28: 1 | K28: Road | L28: 0 | M28: 0 | N28: 1 | O28: N | P28: NULL | R28: 0 | AD28: =LOOKUP($D28,'Design Component Spatial Info'!$C$2:$C$230,'Design Component Spatial Info'!E$2:E$230) -> 11 | AE28: =LOOKUP($D28,'Design Component Spatial Info'!$C$2:$C$230,'Design Component Spatial Info'!F$2:F$230) -> 325097.12 | AF28: =LOOKUP($D28,'Design Component Spatial Info'!$C$2:$C$230,'Design Component Spatial Info'!G$2:G$230) -> 5446612.1 | AG28: =IF(V28="",0,SIN(RADIANS(VALUE(V28)))*VALUE(W28)+AE28) -> 0 | AH28: =IF(V28="",0,COS(RADIANS(VALUE(V28)))*VALUE(W28)+AF28) -> 0 | AI28: =LOOKUP($D28,'Design Component Spatial Info'!$C$2:$C$230,'Design Component Spatial Info'!I$2:I$230) -> 1481443 | AJ28: =LOOKUP($D28,'Design Component Spatial Info'!$C$2:$C$230,'Design Component Spatial Info'!J$2:J$230) -> 481472
A29: Road Monitoring | B29: Okanagan | C29: RA | D29: RM-K005 | E29: 037-4 | F29: 41730 | G29: Les Gyug | H29: Road Monit.-First | I29: 0.28333333 | J29: 1 | K29: Road | L29: 0 | M29: 0 | N29: 1 | O29: N | P29: B-WISA | Q29: 174 | R29: 1 | S29: U | T29: DC | U29: DR | V29: 255 | W29: 50 | X29: AD | Y29: TE | AA29: WK360 | AD29: =LOOKUP($D29,'Design Component Spatial Info'!$C$2:$C$230,'Design Component Spatial Info'!E$2:E$230) -> 11 | AE29: =LOOKUP($D29,'Design Component Spatial Info'!$C$2:$C$230,'Design Component Spatial Info'!F$2:F$230) -> 325796.4 | AF29: =LOOKUP($D29,'Design Component Spatial Info'!$C$2:$C$230,'Design Component Spatial Info'!G$2:G$230) -> 5446223.5 | AG29: =IF(V29="",0,SIN(RADIANS(VALUE(V29)))*VALUE(W29)+AE29) -> 325748.1 | AH29: =IF(V29="",0,COS(RADIANS(VALUE(V29)))*VALUE(W29)+AF29) -> 5446210.6 | AI29: =LOOKUP($D29,'Design Component Spatial Info'!$C$2:$C$230,'Design Component Spatial Info'!I$2:I$230) -> 1482186 | AJ29: =LOOKUP($D29,'Design Component Spatial Info'!$C$2:$C$230,'Design Component Spatial Info'!J$2:J$230) -> 481174 | AK29: 1482140 | AL29: 481155
A30: Road Monitoring | B30: Okanagan | C30: RA | D30: RM-K005 | E30: 037-4 | F30: 41730 | G30: Les Gyug | H30: Road Monit.-First | I30: 0.28333333 | J30: 2 | K30: Road | L30: 0 | M30: 0 | N30: 1 | O30: N | P30: B-WISA | Q30: 210 | R30: 1 | S30: U | T30: DC | U30: DR | V30: 190 | W30: 75 | X30: AD | Y30: TE | AA30: WK361 | AD30: =LOOKUP($D30,'Design Component Spatial Info'!$C$2:$C$230,'Design Component Spatial Info'!E$2:E$230) -> 11 | AE30: =LOOKUP($D30,'Design Component Spatial Info'!$C$2:$C$230,'Design Component Spatial Info'!F$2:F$230) -> 325796.4 | AF30: =LOOKUP($D30,'Design Component Spatial Info'!$C$2:$C$230,'Design Component Spatial Info'!G$2:G$230) -> 5446223.5 | AG30: =IF(V30="",0,SIN(RADIANS(VALUE(V30)))*VALUE(W30)+AE30) -> 325783.38 | AH30: =IF(V30="",0,COS(RADIANS(VALUE(V30)))*VALUE(W30)+AF30) -> 5446149.6 | AI30: =LOOKUP($D30,'Design Component Spatial Info'!$C$2:$C$230,'Design Component Spatial Info'!I$2:I$230) -> 1482186 | AJ30: =LOOKUP($D30,'Design Component Spatial Info'!$C$2:$C$230,'Design Component Spatial Info'!J$2:J$230) -> 481174 | AK30: 1482182 | AL30: 481099
A31: Road Monitoring | B31: Okanagan | C31: RA | D31: RM-K006 | E31: 037-4 | F31: 41730 | G31: Les Gyug | H31: Road Monit.-First | I31: 0.28888889 | J31: 1 | K31: Road | L31: -1 | M31: 0 | N31: 1 | O31: N | P31: B-WISA | Q31: 20 | R31: 1 | S31: U | T31: D | U31: DR | V31: 290 | W31: 200 | X31: AD | Y31: TE | AA31: WK362 | AD31: =LOOKUP($D31,'Design Component Spatial Info'!$C$2:$C$230,'Design Component Spatial Info'!E$2:E$230) -> 11 | AE31: =LOOKUP($D31,'Design Component Spatial Info'!$C$2:$C$230,'Design Component Spatial Info'!F$2:F$230) -> 326222.83 | AF31: =LOOKUP($D31,'Design Component Spatial Info'!$C$2:$C$230,'Design Component Spatial Info'!G$2:G$230) -> 5445609.9 | AG31: =IF(V31="",0,SIN(RADIANS(VALUE(V31)))*VALUE(W31)+AE31) -> 326034.89 | AH31: =IF(V31="",0,COS(RADIANS(VALUE(V31)))*VALUE(W31)+AF31) -> 5445678.3 | AI31: =LOOKUP($D31,'Design Component Spatial Info'!$C$2:$C$230,'Design Component Spatial Info'!I$2:I$230) -> 1482686 | AJ31: =LOOKUP($D31,'Design Component Spatial Info'!$C$2:$C$230,'Design Component Spatial Info'!J$2:J$230) -> 480619 | AK31: 1482491 | AL31: 480663
A32: Road Monitoring | B32: Okanagan | C32: RA | D32: RM-K007 | E32: 037-5 | F32: 41730 | G32: Les Gyug | H32: Road Monit.-First | I32: 0.29375 | J32: 1 | K32: Road | L32: -1 | M32: 0 | N32: 1 | O32: N | P32: B-WISA | Q32: 90 | R32: 1 | S32: M | T32: VDC | U32: VI | V32: 335 | W32: 174 | X32: AD | Y32: TE | AA32: WK363 | AD32: =LOOKUP($D32,'Design Component Spatial Info'!$C$2:$C$230,'Design Component Spatial Info'!E$2:E$230) -> 11 | AE32: =LOOKUP($D32,'Design Component Spatial Info'!$C$2:$C$230,'Design Component Spatial Info'!F$2:F$230) -> 326462.37 | AF32: =LOOKUP($D32,'Design Component Spatial Info'!$C$2:$C$230,'Design Component Spatial Info'!G$2:G$230) -> 5444927 | AG32: =IF(V32="",0,SIN(RADIANS(VALUE(V32)))*VALUE(W32)+AE32) -> 326388.84 | AH32: =IF(V32="",0,COS(RADIANS(VALUE(V32)))*VALUE(W32)+AF32) -> 5445084.7 | AI32: =LOOKUP($D32,'Design Component Spatial Info'!$C$2:$C$230,'Design Component Spatial Info'!I$2:I$230) -> 1483009 | AJ32: =LOOKUP($D32,'Design Component Spatial Info'!$C$2:$C$230,'Design Component Spatial Info'!J$2:J$230) -> 479972 | AK32: 1482916 | AL32: 480119
A33: Road Monitoring | B33: Okanagan | C33: RA | D33: RM-K008 | E33: 037-5 | F33: 41730 | G33: Les Gyug | H33: Road Monit.-First | I33: 0.29861111 | J33: 1 | K33: Road | L33: -1 | M33: 0 | N33: 1 | O33: N | P33: B-WISA | Q33: 80 | R33: 1 | S33: U | T33: D | U33: DR | V33: 140 | W33: 150 | X33: AD | Y33: TE | AA33: WK364 | AD33: =LOOKUP($D33,'Design Component Spatial Info'!$C$2:$C$230,'Design Component Spatial Info'!E$2:E$230) -> 11 | AE33: =LOOKUP($D33,'Design Component Spatial Info'!$C$2:$C$230,'Design Component Spatial Info'!F$2:F$230) -> 327034.61 | AF33: =LOOKUP($D33,'Design Component Spatial Info'!$C$2:$C$230,'Design Component Spatial Info'!G$2:G$230) -> 5444496.8 | AG33: =IF(V33="",0,SIN(RADIANS(VALUE(V33)))*VALUE(W33)+AE33) -> 327131.03 | AH33: =IF(V33="",0,COS(RADIANS(VALUE(V33)))*VALUE(W33)+AF33) -> 5444381.9 | AI33: =LOOKUP($D33,'Design Component Spatial Info'!$C$2:$C$230,'Design Component Spatial Info'!I$2:I$230) -> 1483631 | AJ33: =LOOKUP($D33,'Design Component Spatial Info'!$C$2:$C$230,'Design Component Spatial Info'!J$2:J$230) -> 479617 | AK33: 1483741 | AL33: 479515
A34: Road Monitoring | B34: Okanagan | C34: RA | D34: RM-K009 | E34: 037-1 | F34: 41730 | G34: Les Gyug | H34: Road Monit.-First | I34: 0.30416667 | J34: 1 | K34: Road | L34: -1 | M34: 0 | N34: 1 | O34: N | P34: B-WISA | Q34: 150 | R34: 1 | S34: U | T34: D | U34: DR | V34: 210 | W34: 300 | X34: AD | Y34: TE | AA34: WK365 | AD34: =LOOKUP($D34,'Design Component Spatial Info'!$C$2:$C$230,'Design Component Spatial Info'!E$2:E$230) -> 11 | AE34: =LOOKUP($D34,'Design Component Spatial Info'!$C$2:$C$230,'Design Component Spatial Info'!F$2:F$230) -> 327598.96 | AF34: =LOOKUP($D34,'Design Component Spatial Info'!$C$2:$C$230,'Design Component Spatial Info'!G$2:G$230) -> 5443955.7 | AG34: =IF(V34="",0,SIN(RADIANS(VALUE(V34)))*VALUE(W34)+AE34) -> 327448.96 | AH34: =IF(V34="",0,COS(RADIANS(VALUE(V34)))*VALUE(W34)+AF34) -> 5443695.9 | AI34: =LOOKUP($D34,'Design Component Spatial Info'!$C$2:$C$230,'Design Component Spatial Info'!I$2:I$230) -> 1484259 | AJ34: =LOOKUP($D34,'Design Component Spatial Info'!$C$2:$C$230,'Design Component Spatial Info'!J$2:J$230) -> 479151 | AK34: 1484142 | AL34: 478875
A35: Road Monitoring | B35: Okanagan | C35: RA | D35: RM-K009 | E35: 037-1 | F35: 41730 | G35: Les Gyug | H35: Road Monit.-First | I35: 0.30416667 | J35: 2 | K35: Road | L35: -1 | M35: 0 | N35: 1 | O35: N | P35: B-WISA | Q35: 0 | R35: 1 | S35: U | T35: DC | U35: DR | V35: 270 | W35: 150 | X35: AD | Y35: TE | AA35: WK366 | AD35: =LOOKUP($D35,'Design Component Spatial Info'!$C$2:$C$230,'Design Component Spatial Info'!E$2:E$230) -> 11 | AE35: =LOOKUP($D35,'Design Component Spatial Info'!$C$2:$C$230,'Design Component Spatial Info'!F$2:F$230) -> 327598.96 | AF35: =LOOKUP($D35,'Design Component Spatial Info'!$C$2:$C$230,'Design Component Spatial Info'!G$2:G$230) -> 5443955.7 | AG35: =IF(V35="",0,SIN(RADIANS(VALUE(V35)))*VALUE(W35)+AE35) -> 327448.96 | AH35: =IF(V35="",0,COS(RADIANS(VALUE(V35)))*VALUE(W35)+AF35) -> 5443955.7 | AI35: =LOOKUP($D35,'Design Component Spatial Info'!$C$2:$C$230,'Design Component Spatial Info'!I$2:I$230) -> 1484259 | AJ35: =LOOKUP($D35,'Design Component Spatial Info'!$C$2:$C$230,'Design Component Spatial Info'!J$2:J$230) -> 479151 | AK35: 1484110 | AL35: 479132
A36: Road Monitoring | B36: Okanagan | C36: RA | D36: RM-K010 | E36: 037-1 | F36: 41730 | G36: Les Gyug | H36: Road Monit.-First | I36: 0.30902778 | J36: 1 | K36: Road | L36: -1 | M36: 0 | N36: 1 | O36: N | P36: B-WISA | Q36: 30 | R36: 1 | S36: U | T36: D | U36: DR | V36: 50 | W36: 100 | X36: AD | Y36: TE | AA36: WK367 | AD36: =LOOKUP($D36,'Design Component Spatial Info'!$C$2:$C$230,'Design Component Spatial Info'!E$2:E$230) -> 11 | AE36: =LOOKUP($D36,'Design Component Spatial Info'!$C$2:$C$230,'Design Component Spatial Info'!F$2:F$230) -> 328348.97 | AF36: =LOOKUP($D36,'Design Component Spatial Info'!$C$2:$C$230,'Design Component Spatial Info'!G$2:G$230) -> 5443723.1 | AG36: =IF(V36="",0,SIN(RADIANS(VALUE(V36)))*VALUE(W36)+AE36) -> 328425.58 | AH36: =IF(V36="",0,COS(RADIANS(VALUE(V36)))*VALUE(W36)+AF36) -> 5443787.3 | AI36: =LOOKUP($D36,'Design Component Spatial Info'!$C$2:$C$230,'Design Component Spatial Info'!I$2:I$230) -> 1485033 | AJ36: =LOOKUP($D36,'Design Component Spatial Info'!$C$2:$C$230,'Design Component Spatial Info'!J$2:J$230) -> 479014 | AK36: 1485101 | AL36: 479087
A37: Road Monitoring | B37: Okanagan | C37: RA | D37: RM-K011 | E37: 036-1 | F37: 41730 | G37: Les Gyug | H37: Road Monit.-First | I37: 0.31388889 | J37: 1 | K37: Road | L37: -1 | M37: 1 | N37: 1 | O37: N | P37: NULL | R37: 0 | AD37: =LOOKUP($D37,'Design Component Spatial Info'!$C$2:$C$230,'Design Component Spatial Info'!E$2:E$230) -> 11 | AE37: =LOOKUP($D37,'Design Component Spatial Info'!$C$2:$C$230,'Design Component Spatial Info'!F$2:F$230) -> 328676.55 | AF37: =LOOKUP($D37,'Design Component Spatial Info'!$C$2:$C$230,'Design Component Spatial Info'!G$2:G$230) -> 5443188.5 | AG37: =IF(V37="",0,SIN(RADIANS(VALUE(V37)))*VALUE(W37)+AE37) -> 0 | AH37: =IF(V37="",0,COS(RADIANS(VALUE(V37)))*VALUE(W37)+AF37) -> 0 | AI37: =LOOKUP($D37,'Design Component Spatial Info'!$C$2:$C$230,'Design Component Spatial Info'!I$2:I$230) -> 1485425 | AJ37: =LOOKUP($D37,'Design Component Spatial Info'!$C$2:$C$230,'Design Component Spatial Info'!J$2:J$230) -> 478525
A38: Road Monitoring | B38: Okanagan | C38: RA | D38: RM-K012 | E38: 036-1 | F38: 41730 | G38: Les Gyug | H38: Road Monit.-First | I38: 0.31805556 | J38: 1 | K38: Road | L38: -1 | M38: 0 | N38: 1 | O38: N | P38: NULL | R38: 0 | AD38: =LOOKUP($D38,'Design Component Spatial Info'!$C$2:$C$230,'Design Component Spatial Info'!E$2:E$230) -> 11 | AE38: =LOOKUP($D38,'Design Component Spatial Info'!$C$2:$C$230,'Design Component Spatial Info'!F$2:F$230) -> 329223.14 | AF38: =LOOKUP($D38,'Design Component Spatial Info'!$C$2:$C$230,'Design Component Spatial Info'!G$2:G$230) -> 5442610.2 | AG38: =IF(V38="",0,SIN(RADIANS(VALUE(V38)))*VALUE(W38)+AE38) -> 0 | AH38: =IF(V38="",0,COS(RADIANS(VALUE(V38)))*VALUE(W38)+AF38) -> 0 | AI38: =LOOKUP($D38,'Design Component Spatial Info'!$C$2:$C$230,'Design Component Spatial Info'!I$2:I$230) -> 1486040 | AJ38: =LOOKUP($D38,'Design Component Spatial Info'!$C$2:$C$230,'Design Component Spatial Info'!J$2:J$230) -> 478020
A39: Road Monitoring | B39: Okanagan | C39: RA | D39: RM-K013 | E39: 036-1 | F39: 41730 | G39: Les Gyug | H39: Road Monit.-First | I39: 0.32291667 | J39: 1 | K39: Road | L39: -1 | M39: 0 | N39: 1 | O39: N | P39: NULL | R39: 0 | AD39: =LOOKUP($D39,'Design Component Spatial Info'!$C$2:$C$230,'Design Component Spatial Info'!E$2:E$230) -> 11 | AE39: =LOOKUP($D39,'Design Component Spatial Info'!$C$2:$C$230,'Design Component Spatial Info'!F$2:F$230) -> 329856.69 | AF39: =LOOKUP($D39,'Design Component Spatial Info'!$C$2:$C$230,'Design Component Spatial Info'!G$2:G$230) -> 5442211.6 | AG39: =IF(V39="",0,SIN(RADIANS(VALUE(V39)))*VALUE(W39)+AE39) -> 0 | AH39: =IF(V39="",0,COS(RADIANS(VALUE(V39)))*VALUE(W39)+AF39) -> 0 | AI39: =LOOKUP($D39,'Design Component Spatial Info'!$C$2:$C$230,'Design Component Spatial Info'!I$2:I$230) -> 1486719 | AJ39: =LOOKUP($D39,'Design Component Spatial Info'!$C$2:$C$230,'Design Component Spatial Info'!J$2:J$230) -> 477704
A40: Road Monitoring | B40: Okanagan | C40: RA | D40: RM-K014 | E40: 036-5 | F40: 41730 | G40: Les Gyug | H40: Road Monit.-First | I40: 0.32777778 | J40: 1 | K40: Road | L40: -1 | M40: 1 | N40: 1 | O40: N | P40: B-WISA | Q40: 187 | R40: 1 | S40: U | T40: D | U40: DR | V40: 355 | W40: 300 | X40: AD | Y40: TE | AA40: WK368 | AD40: =LOOKUP($D40,'Design Component Spatial Info'!$C$2:$C$230,'Design Component Spatial Info'!E$2:E$230) -> 11 | AE40: =LOOKUP($D40,'Design Component Spatial Info'!$C$2:$C$230,'Design Component Spatial Info'!F$2:F$230) -> 330576.39 | AF40: =LOOKUP($D40,'Design Component Spatial Info'!$C$2:$C$230,'Design Component Spatial Info'!G$2:G$230) -> 5441898.1 | AG40: =IF(V40="",0,SIN(RADIANS(VALUE(V40)))*VALUE(W40)+AE40) -> 330550.25 | AH40: =IF(V40="",0,COS(RADIANS(VALUE(V40)))*VALUE(W40)+AF40) -> 5442196.9 | AI40: =LOOKUP($D40,'Design Component Spatial Info'!$C$2:$C$230,'Design Component Spatial Info'!I$2:I$230) -> 1487473 | AJ40: =LOOKUP($D40,'Design Component Spatial Info'!$C$2:$C$230,'Design Component Spatial Info'!J$2:J$230) -> 477483 | AK40: 1487410 | AL40: 477776
A41: Road Monitoring | B41: Okanagan | C41: RA | D41: RM-K015 | E41: 036-5 | F41: 41730 | G41: Les Gyug | H41: Road Monit.-First | I41: 0.33333333 | J41: 1 | K41: Road | L41: -1 | M41: 1 | N41: 1 | O41: N | P41: NULL | R41: 0 | AD41: =LOOKUP($D41,'Design Component Spatial Info'!$C$2:$C$230,'Design Component Spatial Info'!E$2:E$230) -> 11 | AE41: =LOOKUP($D41,'Design Component Spatial Info'!$C$2:$C$230,'Design Component Spatial Info'!F$2:F$230) -> 331362.82 | AF41: =LOOKUP($D41,'Design Component Spatial Info'!$C$2:$C$230,'Design Component Spatial Info'!G$2:G$230) -> 5441883.8 | AG41: =IF(V41="",0,SIN(RADIANS(VALUE(V41)))*VALUE(W41)+AE41) -> 0 | AH41: =IF(V41="",0,COS(RADIANS(VALUE(V41)))*VALUE(W41)+AF41) -> 0 | AI41: =LOOKUP($D41,'Design Component Spatial Info'!$C$2:$C$230,'Design Component Spatial Info'!I$2:I$230) -> 1488256 | AJ41: =LOOKUP($D41,'Design Component Spatial Info'!$C$2:$C$230,'Design Component Spatial Info'!J$2:J$230) -> 477567
A42: Road Monitoring | B42: Okanagan | C42: RA | D42: RM-K016 | E42: 538 | F42: 41730 | G42: Les Gyug | H42: Road Monit.-First | I42: 0.3375 | J42: 1 | K42: Road | L42: -1 | M42: 1 | N42: 1 | O42: N | P42: B-WISA | Q42: 150 | R42: 1 | S42: U | T42: D | U42: DR | V42: 20 | W42: 85 | X42: AD | Y42: TE | AA42: WK369 | AD42: =LOOKUP($D42,'Design Component Spatial Info'!$C$2:$C$230,'Design Component Spatial Info'!E$2:E$230) -> 11 | AE42: =LOOKUP($D42,'Design Component Spatial Info'!$C$2:$C$230,'Design Component Spatial Info'!F$2:F$230) -> 332000.3 | AF42: =LOOKUP($D42,'Design Component Spatial Info'!$C$2:$C$230,'Design Component Spatial Info'!G$2:G$230) -> 5441645.2 | AG42: =IF(V42="",0,SIN(RADIANS(VALUE(V42)))*VALUE(W42)+AE42) -> 332029.38 | AH42: =IF(V42="",0,COS(RADIANS(VALUE(V42)))*VALUE(W42)+AF42) -> 5441725.1 | AI42: =LOOKUP($D42,'Design Component Spatial Info'!$C$2:$C$230,'Design Component Spatial Info'!I$2:I$230) -> 1488919 | AJ42: =LOOKUP($D42,'Design Component Spatial Info'!$C$2:$C$230,'Design Component Spatial Info'!J$2:J$230) -> 477410 | AK42: 1488938 | AL42: 477493
A43: Road Monitoring | B43: Boundary | C43: RA | D43: RM-K017B | E43: 025-1 | F43: 41730 | G43: Les Gyug | H43: Road Monit.-First | I43: 0.35486111 | J43: 1 | K43: Road | L43: 1 | M43: 0 | N43: 1 | O43: N | P43: NULL | R43: 0 | AD43: =LOOKUP($D43,'Design Component Spatial Info'!$C$2:$C$230,'Design Component Spatial Info'!E$2:E$230) -> 11 | AE43: =LOOKUP($D43,'Design Component Spatial Info'!$C$2:$C$230,'Design Component Spatial Info'!F$2:F$230) -> 341061.88 | AF43: =LOOKUP($D43,'Design Component Spatial Info'!$C$2:$C$230,'Design Component Spatial Info'!G$2:G$230) -> 5441614.7 | AG43: =IF(V43="",0,SIN(RADIANS(VALUE(V43)))*VALUE(W43)+AE43) -> 0 | AH43: =IF(V43="",0,COS(RADIANS(VALUE(V43)))*VALUE(W43)+AF43) -> 0 | AI43: =LOOKUP($D43,'Design Component Spatial Info'!$C$2:$C$230,'Design Component Spatial Info'!I$2:I$230) -> 1497924.6 | AJ43: =LOOKUP($D43,'Design Component Spatial Info'!$C$2:$C$230,'Design Component Spatial Info'!J$2:J$230) -> 478510.69
A44: Road Monitoring | B44: Boundary | C44: RA | D44: RM-K018B | E44: 025-4 | F44: 41730 | G44: Les Gyug | H44: Road Monit.-First | I44: 0.36111111 | J44: =J43 -> 1 | K44: Road | L44: 1 | M44: 1 | N44: 1 | O44: N | P44: NULL | R44: 0 | AD44: =LOOKUP($D44,'Design Component Spatial Info'!$C$2:$C$230,'Design Component Spatial Info'!E$2:E$230) -> 11 | AE44: =LOOKUP($D44,'Design Component Spatial Info'!$C$2:$C$230,'Design Component Spatial Info'!F$2:F$230) -> 341787.6 | AF44: =LOOKUP($D44,'Design Component Spatial Info'!$C$2:$C$230,'Design Component Spatial Info'!G$2:G$230) -> 5441197.2 | AG44: =IF(V44="",0,SIN(RADIANS(VALUE(V44)))*VALUE(W44)+AE44) -> 0 | AH44: =IF(V44="",0,COS(RADIANS(VALUE(V44)))*VALUE(W44)+AF44) -> 0 | AI44: =LOOKUP($D44,'Design Component Spatial Info'!$C$2:$C$230,'Design Component Spatial Info'!I$2:I$230) -> 1498697.6 | AJ44: =LOOKUP($D44,'Design Component Spatial Info'!$C$2:$C$230,'Design Component Spatial Info'!J$2:J$230) -> 478187.52
A45: Road Monitoring | B45: Boundary | C45: RA | D45: RM-K019B | E45: 025-4 | F45: 41730 | G45: Les Gyug | H45: Road Monit.-First | I45: 0.36527778 | J45: =J44 -> 1 | K45: Road | L45: 1 | M45: 0 | N45: 1 | O45: N | P45: NULL | R45: 0 | AD45: =LOOKUP($D45,'Design Component Spatial Info'!$C$2:$C$230,'Design Component Spatial Info'!E$2:E$230) -> 11 | AE45: =LOOKUP($D45,'Design Component Spatial Info'!$C$2:$C$230,'Design Component Spatial Info'!F$2:F$230) -> 342529.4 | AF45: =LOOKUP($D45,'Design Component Spatial Info'!$C$2:$C$230,'Design Component Spatial Info'!G$2:G$230) -> 5440916.4 | AG45: =IF(V45="",0,SIN(RADIANS(VALUE(V45)))*VALUE(W45)+AE45) -> 0 | AH45: =IF(V45="",0,COS(RADIANS(VALUE(V45)))*VALUE(W45)+AF45) -> 0 | AI45: =LOOKUP($D45,'Design Component Spatial Info'!$C$2:$C$230,'Design Component Spatial Info'!I$2:I$230) -> 1499469.5 | AJ45: =LOOKUP($D45,'Design Component Spatial Info'!$C$2:$C$230,'Design Component Spatial Info'!J$2:J$230) -> 478001.85
A46: Road Monitoring | B46: Boundary | C46: RA | D46: RM-K020B | E46: 024-5 | F46: 41730 | G46: Les Gyug | H46: Road Monit.-First | I46: 0.37152778 | J46: =J45 -> 1 | K46: Road | L46: 1 | M46: 1 | N46: 1 | O46: N | P46: NULL | R46: 0 | AD46: =LOOKUP($D46,'Design Component Spatial Info'!$C$2:$C$230,'Design Component Spatial Info'!E$2:E$230) -> 11 | AE46: =LOOKUP($D46,'Design Component Spatial Info'!$C$2:$C$230,'Design Component Spatial Info'!F$2:F$230) -> 343413.72 | AF46: =LOOKUP($D46,'Design Component Spatial Info'!$C$2:$C$230,'Design Component Spatial Info'!G$2:G$230) -> 5441830.6 | AG46: =IF(V46="",0,SIN(RADIANS(VALUE(V46)))*VALUE(W46)+AE46) -> 0 | AH46: =IF(V46="",0,COS(RADIANS(VALUE(V46)))*VALUE(W46)+AF46) -> 0 | AI46: =LOOKUP($D46,'Design Component Spatial Info'!$C$2:$C$230,'Design Component Spatial Info'!I$2:I$230) -> 1500234 | AJ46: =LOOKUP($D46,'Design Component Spatial Info'!$C$2:$C$230,'Design Component Spatial Info'!J$2:J$230) -> 479018.39
A47: Road Monitoring | B47: Boundary | C47: RA | D47: RM-K021B | E47: 024-1 | F47: 41730 | G47: Les Gyug | H47: Road Monit.-First | I47: 0.37777778 | J47: =J46 -> 1 | K47: Road | L47: 1 | M47: 1 | N47: 1 | O47: N | P47: B-WISA | Q47: 0 | R47: 1 | S47: U | T47: D | U47: DR | V47: 120 | W47: 120 | X47: AD | Y47: TE | AA47: WB488 | AD47: =LOOKUP($D47,'Design Component Spatial Info'!$C$2:$C$230,'Design Component Spatial Info'!E$2:E$230) -> 11 | AE47: =LOOKUP($D47,'Design Component Spatial Info'!$C$2:$C$230,'Design Component Spatial Info'!F$2:F$230) -> 343019.79 | AF47: =LOOKUP($D47,'Design Component Spatial Info'!$C$2:$C$230,'Design Component Spatial Info'!G$2:G$230) -> 5440309.4 | AG47: =IF(V47="",0,SIN(RADIANS(VALUE(V47)))*VALUE(W47)+AE47) -> 343123.72 | AH47: =IF(V47="",0,COS(RADIANS(VALUE(V47)))*VALUE(W47)+AF47) -> 5440249.4 | AI47: =LOOKUP($D47,'Design Component Spatial Info'!$C$2:$C$230,'Design Component Spatial Info'!I$2:I$230) -> 1500032.4 | AJ47: =LOOKUP($D47,'Design Component Spatial Info'!$C$2:$C$230,'Design Component Spatial Info'!J$2:J$230) -> 477461.53 | AK47: 1500143 | AL47: 477415
A48: Road Monitoring | B48: Boundary | C48: RA | D48: RM-K022B | E48: 023-3 | F48: 41730 | G48: Les Gyug | H48: Road Monit.-First | I48: 0.38194444 | J48: =J47 -> 1 | K48: Road | L48: 1 | M48: 1 | N48: 1 | O48: N | P48: NULL | R48: 0 | AD48: =LOOKUP($D48,'Design Component Spatial Info'!$C$2:$C$230,'Design Component Spatial Info'!E$2:E$230) -> 11 | AE48: =LOOKUP($D48,'Design Component Spatial Info'!$C$2:$C$230,'Design Component Spatial Info'!F$2:F$230) -> 343272.83 | AF48: =LOOKUP($D48,'Design Component Spatial Info'!$C$2:$C$230,'Design Component Spatial Info'!G$2:G$230) -> 5439562.3 | AG48: =IF(V48="",0,SIN(RADIANS(VALUE(V48)))*VALUE(W48)+AE48) -> 0 | AH48: =IF(V48="",0,COS(RADIANS(VALUE(V48)))*VALUE(W48)+AF48) -> 0 | AI48: =LOOKUP($D48,'Design Component Spatial Info'!$C$2:$C$230,'Design Component Spatial Info'!I$2:I$230) -> 1500377 | AJ48: =LOOKUP($D48,'Design Component Spatial Info'!$C$2:$C$230,'Design Component Spatial Info'!J$2:J$230) -> 476752.62
A49: Road Monitoring | B49: Boundary | C49: RA | D49: RM-K023B | E49: 508 | F49: 41730 | G49: Les Gyug | H49: Road Monit.-First | I49: 0.3875 | J49: =J48 -> 1 | K49: Road | L49: 1 | M49: 1 | N49: 1 | O49: N | P49: NULL | R49: 0 | AD49: =LOOKUP($D49,'Design Component Spatial Info'!$C$2:$C$230,'Design Component Spatial Info'!E$2:E$230) -> 11 | AE49: =LOOKUP($D49,'Design Component Spatial Info'!$C$2:$C$230,'Design Component Spatial Info'!F$2:F$230) -> 343652.52 | AF49: =LOOKUP($D49,'Design Component Spatial Info'!$C$2:$C$230,'Design Component Spatial Info'!G$2:G$230) -> 5438072.3 | AG49: =IF(V49="",0,SIN(RADIANS(VALUE(V49)))*VALUE(W49)+AE49) -> 0 | AH49: =IF(V49="",0,COS(RADIANS(VALUE(V49)))*VALUE(W49)+AF49) -> 0 | AI49: =LOOKUP($D49,'Design Component Spatial Info'!$C$2:$C$230,'Design Component Spatial Info'!I$2:I$230) -> 1500940 | AJ49: =LOOKUP($D49,'Design Component Spatial Info'!$C$2:$C$230,'Design Component Spatial Info'!J$2:J$230) -> 475323.29
A50: Road Monitoring | B50: Boundary | C50: RA | D50: RM-K024B | E50: 621 | F50: 41730 | G50: Les Gyug | H50: Road Monit.-First | I50: 0.39375 | J50: =J49 -> 1 | K50: Road | L50: 2 | M50: 0 | N50: 1 | O50: N | P50: NULL | R50: 0 | AD50: =LOOKUP($D50,'Design Component Spatial Info'!$C$2:$C$230,'Design Component Spatial Info'!E$2:E$230) -> 11 | AE50: =LOOKUP($D50,'Design Component Spatial Info'!$C$2:$C$230,'Design Component Spatial Info'!F$2:F$230) -> 344727.7 | AF50: =LOOKUP($D50,'Design Component Spatial Info'!$C$2:$C$230,'Design Component Spatial Info'!G$2:G$230) -> 5435726.5 | AG50: =IF(V50="",0,SIN(RADIANS(VALUE(V50)))*VALUE(W50)+AE50) -> 0 | AH50: =IF(V50="",0,COS(RADIANS(VALUE(V50)))*VALUE(W50)+AF50) -> 0 | AI50: =LOOKUP($D50,'Design Component Spatial Info'!$C$2:$C$230,'Design Component Spatial Info'!I$2:I$230) -> 1502300.8 | AJ50: =LOOKUP($D50,'Design Component Spatial Info'!$C$2:$C$230,'Design Component Spatial Info'!J$2:J$230) -> 473132.69
A51: Road Monitoring | B51: Boundary | C51: RA | D51: RM-K025B | E51: 018-1 | F51: 41730 | G51: Les Gyug | H51: Road Monit.-First | I51: 0.40138889 | J51: =J50 -> 1 | K51: Road | L51: 4 | M51: 1 | N51: 1 | O51: N | P51: NULL | R51: 0 | AD51: =LOOKUP($D51,'Design Component Spatial Info'!$C$2:$C$230,'Design Component Spatial Info'!E$2:E$230) -> 11 | AE51: =LOOKUP($D51,'Design Component Spatial Info'!$C$2:$C$230,'Design Component Spatial Info'!F$2:F$230) -> 349376 | AF51: =LOOKUP($D51,'Design Component Spatial Info'!$C$2:$C$230,'Design Component Spatial Info'!G$2:G$230) -> 5435115 | AG51: =IF(V51="",0,SIN(RADIANS(VALUE(V51)))*VALUE(W51)+AE51) -> 0 | AH51: =IF(V51="",0,COS(RADIANS(VALUE(V51)))*VALUE(W51)+AF51) -> 0 | AI51: =LOOKUP($D51,'Design Component Spatial Info'!$C$2:$C$230,'Design Component Spatial Info'!I$2:I$230) -> 1506999.6 | AJ51: =LOOKUP($D51,'Design Component Spatial Info'!$C$2:$C$230,'Design Component Spatial Info'!J$2:J$230) -> 473106.14
A52: Road Monitoring | B52: Boundary | C52: RA | D52: RM-K026B | E52: 018-1 | F52: 41730 | G52: Les Gyug | H52: Road Monit.-First | I52: 0.40694444 | J52: =J51 -> 1 | K52: Road | L52: 3 | M52: 1 | N52: 1 | O52: N | P52: B-WISA | Q52: 100 | R52: 1 | S52: U | T52: D | U52: DR | V52: 35 | W52: 100 | X52: AD | Y52: TE | AA52: WB489 | AD52: =LOOKUP($D52,'Design Component Spatial Info'!$C$2:$C$230,'Design Component Spatial Info'!E$2:E$230) -> 11 | AE52: =LOOKUP($D52,'Design Component Spatial Info'!$C$2:$C$230,'Design Component Spatial Info'!F$2:F$230) -> 349358.92 | AF52: =LOOKUP($D52,'Design Component Spatial Info'!$C$2:$C$230,'Design Component Spatial Info'!G$2:G$230) -> 5435981.4 | AG52: =IF(V52="",0,SIN(RADIANS(VALUE(V52)))*VALUE(W52)+AE52) -> 349416.28 | AH52: =IF(V52="",0,COS(RADIANS(VALUE(V52)))*VALUE(W52)+AF52) -> 5436063.3 | AI52: =LOOKUP($D52,'Design Component Spatial Info'!$C$2:$C$230,'Design Component Spatial Info'!I$2:I$230) -> 1506870.1 | AJ52: =LOOKUP($D52,'Design Component Spatial Info'!$C$2:$C$230,'Design Component Spatial Info'!J$2:J$230) -> 473963.92 | AK52: 1506917 | AL52: 474052
A53: Road Monitoring | B53: Boundary | C53: RA | D53: RM-K027B | E53: 019-4 | F53: 41730 | G53: Les Gyug | H53: Road Monit.-First | I53: 0.41111111 | J53: =J52 -> 1 | K53: Road | L53: 3 | M53: 2 | N53: 1 | O53: N | P53: B-WISA | Q53: 10 | R53: 1 | S53: U | T53: DC | U53: DR | V53: 100 | W53: 100 | X53: AD | Y53: TE | AA53: WB490 | AD53: =LOOKUP($D53,'Design Component Spatial Info'!$C$2:$C$230,'Design Component Spatial Info'!E$2:E$230) -> 11 | AE53: =LOOKUP($D53,'Design Component Spatial Info'!$C$2:$C$230,'Design Component Spatial Info'!F$2:F$230) -> 349328.26 | AF53: =LOOKUP($D53,'Design Component Spatial Info'!$C$2:$C$230,'Design Component Spatial Info'!G$2:G$230) -> 5436777.6 | AG53: =IF(V53="",0,SIN(RADIANS(VALUE(V53)))*VALUE(W53)+AE53) -> 349426.74 | AH53: =IF(V53="",0,COS(RADIANS(VALUE(V53)))*VALUE(W53)+AF53) -> 5436760.3 | AI53: =LOOKUP($D53,'Design Component Spatial Info'!$C$2:$C$230,'Design Component Spatial Info'!I$2:I$230) -> 1506740.2 | AJ53: =LOOKUP($D53,'Design Component Spatial Info'!$C$2:$C$230,'Design Component Spatial Info'!J$2:J$230) -> 474749.25 | AK53: 1506840 | AL53: 474744
A54: Road Monitoring | B54: Boundary | C54: RA | D54: =D53 -> RM-K027B | E54: 019-4 | F54: 41730 | G54: Les Gyug | H54: Road Monit.-First | I54: 0.41111111 | J54: 2 | K54: Road | L54: 3 | M54: 2 | N54: 1 | O54: N | P54: B-WISA | Q54: 245 | R54: 1 | S54: U | T54: C | U54: CA | V54: 90 | W54: 100 | X54: AD | Y54: TE | AA54: WB491 | AD54: =LOOKUP($D54,'Design Component Spatial Info'!$C$2:$C$230,'Design Component Spatial Info'!E$2:E$230) -> 11 | AE54: =LOOKUP($D54,'Design Component Spatial Info'!$C$2:$C$230,'Design Component Spatial Info'!F$2:F$230) -> 349328.26 | AF54: =LOOKUP($D54,'Design Component Spatial Info'!$C$2:$C$230,'Design Component Spatial Info'!G$2:G$230) -> 5436777.6 | AG54: =IF(V54="",0,SIN(RADIANS(VALUE(V54)))*VALUE(W54)+AE54) -> 349428.26 | AH54: =IF(V54="",0,COS(RADIANS(VALUE(V54)))*VALUE(W54)+AF54) -> 5436777.6 | AI54: =LOOKUP($D54,'Design Component Spatial Info'!$C$2:$C$230,'Design Component Spatial Info'!I$2:I$230) -> 1506740.2 | AJ54: =LOOKUP($D54,'Design Component Spatial Info'!$C$2:$C$230,'Design Component Spatial Info'!J$2:J$230) -> 474749.25 | AK54: 1506840 | AL54: 474762
A55: Road Monitoring | B55: Boundary | C55: RA | D55: RM-K028B | E55: 019-4 | F55: 41730 | G55: Les Gyug | H55: Road Monit.-First | I55: 0.41666667 | J55: 1 | K55: Road | L55: 4 | M55: 1 | N55: 1 | O55: N | P55: B-WISA | Q55: 0 | R55: 1 | S55: U | T55: DC | U55: DR | V55: 30 | W55: 100 | X55: AD | Y55: TE | AA55: WB492 | AD55: =LOOKUP($D55,'Design Component Spatial Info'!$C$2:$C$230,'Design Component Spatial Info'!E$2:E$230) -> 11 | AE55: =LOOKUP($D55,'Design Component Spatial Info'!$C$2:$C$230,'Design Component Spatial Info'!F$2:F$230) -> 349522.66 | AF55: =LOOKUP($D55,'Design Component Spatial Info'!$C$2:$C$230,'Design Component Spatial Info'!G$2:G$230) -> 5437556.6 | AG55: =IF(V55="",0,SIN(RADIANS(VALUE(V55)))*VALUE(W55)+AE55) -> 349572.66 | AH55: =IF(V55="",0,COS(RADIANS(VALUE(V55)))*VALUE(W55)+AF55) -> 5437643.2 | AI55: =LOOKUP($D55,'Design Component Spatial Info'!$C$2:$C$230,'Design Component Spatial Info'!I$2:I$230) -> 1506836.2 | AJ55: =LOOKUP($D55,'Design Component Spatial Info'!$C$2:$C$230,'Design Component Spatial Info'!J$2:J$230) -> 475545.57 | AK55: 1506875 | AL55: 475638
A56: Road Monitoring | B56: Boundary | C56: RA | D56: RM-K029B | E56: 019-1 | F56: 41730 | G56: Les Gyug | H56: Road Monit.-First | I56: 0.42152778 | J56: 1 | K56: Road | L56: 4 | M56: 1 | N56: 1 | O56: N | P56: B-WISA | Q56: 100 | R56: 1 | S56: U | T56: D | U56: DR | V56: 110 | W56: 150 | X56: AD | Y56: TE | AA56: WB493 | AD56: =LOOKUP($D56,'Design Component Spatial Info'!$C$2:$C$230,'Design Component Spatial Info'!E$2:E$230) -> 11 | AE56: =LOOKUP($D56,'Design Component Spatial Info'!$C$2:$C$230,'Design Component Spatial Info'!F$2:F$230) -> 349437.92 | AF56: =LOOKUP($D56,'Design Component Spatial Info'!$C$2:$C$230,'Design Component Spatial Info'!G$2:G$230) -> 5438390.9 | AG56: =IF(V56="",0,SIN(RADIANS(VALUE(V56)))*VALUE(W56)+AE56) -> 349578.88 | AH56: =IF(V56="",0,COS(RADIANS(VALUE(V56)))*VALUE(W56)+AF56) -> 5438339.6 | AI56: =LOOKUP($D56,'Design Component Spatial Info'!$C$2:$C$230,'Design Component Spatial Info'!I$2:I$230) -> 1506647.8 | AJ56: =LOOKUP($D56,'Design Component Spatial Info'!$C$2:$C$230,'Design Component Spatial Info'!J$2:J$230) -> 476361.93 | AK56: 1506794 | AL56: 476329
A57: Road Monitoring | B57: Boundary | C57: RA | D57: =D56 -> RM-K029B | E57: 019-1 | F57: 41730 | G57: Les Gyug | H57: Road Monit.-First | I57: 0.42152778 | J57: 2 | K57: Road | L57: 4 | M57: 1 | N57: 1 | O57: N | P57: B-WISA | Q57: 160 | R57: 1 | S57: U | T57: D | U57: DR | V57: 35 | W57: 150 | X57: AD | Y57: TE | AA57: WB494 | AD57: =LOOKUP($D57,'Design Component Spatial Info'!$C$2:$C$230,'Design Component Spatial Info'!E$2:E$230) -> 11 | AE57: =LOOKUP($D57,'Design Component Spatial Info'!$C$2:$C$230,'Design Component Spatial Info'!F$2:F$230) -> 349437.92 | AF57: =LOOKUP($D57,'Design Component Spatial Info'!$C$2:$C$230,'Design Component Spatial Info'!G$2:G$230) -> 5438390.9 | AG57: =IF(V57="",0,SIN(RADIANS(VALUE(V57)))*VALUE(W57)+AE57) -> 349523.96 | AH57: =IF(V57="",0,COS(RADIANS(VALUE(V57)))*VALUE(W57)+AF57) -> 5438513.8 | AI57: =LOOKUP($D57,'Design Component Spatial Info'!$C$2:$C$230,'Design Component Spatial Info'!I$2:I$230) -> 1506647.8 | AJ57: =LOOKUP($D57,'Design Component Spatial Info'!$C$2:$C$230,'Design Component Spatial Info'!J$2:J$230) -> 476361.93 | AK57: 1506718 | AL57: 476494
